{
 "currentVersion": 11.5,
 "serviceDescription": "This basemap service is designed to provide access to the earliest available\nState Remotely Sensed Image Library collection of aerial imagery captured over\nvarious locations in Queensland.\n\nBasemap services comprise a single layer of static imagery optimised for\ndisplay purposes. This service can be used in dynamic mode to filter and\ndisplay individual project areas. Accuracy is dependent on the individual\nprojects and aerial images that comprise each project. The projects become\nvisible at a regional scale of 1:250,000.\n\nThe images comprised in each of the projects are orthorectified which removes\nthe effects of image perspective (tilt) and relief (terrain) effects for the\npurpose of creating a planimetrically correct image. The resultant\northorectified images have a constant scale wherein features are represented\nin their \u201ctrue\u201d positions.\n\nThe source images, of the digitally scanned unrectified aerial film photo\nframes, are produced by the State of Queensland (Department of Natural\nResources, Mines and Energy) and are available through QImagery.\n\nThis service is GDA2020 compatible and able to consumed in GDA2020 at the\nclient end.\n\nThis service supports projects captured in both GDA94 and GDA2020 datums. A\nSeven parameter similarity transformation has been applied to new projects\nthat have been captured in GDA2020, this is to ensure that they align and\ndisplay correctly when published in the default WGS 1984 Web Mercator\n(Auxiliary Sphere) projection alongside GDA94 projects.\n\nThe ISO 19115 standard metadata record for this service and further individual\nepoch mosaic product metadata information is available from the Queensland\nSpatial Catalogue (QSpatial).\n\nIf you would like to receive updates for new projects, functionality or\nplanned downtime please subscribe here: http://ems.gs/3qln0iYbIYQ.\n\n",
 "serviceItemId": "bfe6ec85f4254b3f879b599534d0d4d2",
 "name": "Basemaps/EarliestAerialOrtho_AllUsers",
 "description": "This basemap service is designed to provide access to the earliest available\nState Remotely Sensed Image Library collection of aerial imagery captured over\nvarious locations in Queensland.\n\nBasemap services comprise a single layer of static imagery optimised for\ndisplay purposes. This service can be used in dynamic mode to filter and\ndisplay individual project areas. Accuracy is dependent on the individual\nprojects and aerial images that comprise each project. The projects become\nvisible at a regional scale of 1:250,000.\n\nThe images comprised in each of the projects are orthorectified which removes\nthe effects of image perspective (tilt) and relief (terrain) effects for the\npurpose of creating a planimetrically correct image. The resultant\northorectified images have a constant scale wherein features are represented\nin their \u201ctrue\u201d positions.\n\nThe source images, of the digitally scanned unrectified aerial film photo\nframes, are produced by the State of Queensland (Department of Natural\nResources, Mines and Energy) and are available through QImagery.\n\nThis service is GDA2020 compatible and able to consumed in GDA2020 at the\nclient end.\n\nThis service supports projects captured in both GDA94 and GDA2020 datums. A\nSeven parameter similarity transformation has been applied to new projects\nthat have been captured in GDA2020, this is to ensure that they align and\ndisplay correctly when published in the default WGS 1984 Web Mercator\n(Auxiliary Sphere) projection alongside GDA94 projects.\n\nThe ISO 19115 standard metadata record for this service and further individual\nepoch mosaic product metadata information is available from the Queensland\nSpatial Catalogue (QSpatial).\n\nIf you would like to receive updates for new projects, functionality or\nplanned downtime please subscribe here: http://ems.gs/3qln0iYbIYQ.\n\n",
 "extent": {
  "xmin": 1.605298924230589E7,
  "ymin": -3278166.889618084,
  "xmax": 1.709688158695625E7,
  "ymax": -3070479.0401865905,
  "spatialReference": {
   "wkid": 102100,
   "latestWkid": 3857
  }
 },
 "initialExtent": {
  "xmin": 1.605298924230589E7,
  "ymin": -3278166.889618084,
  "xmax": 1.709688158695625E7,
  "ymax": -3070479.0401865905,
  "spatialReference": {
   "wkid": 102100,
   "latestWkid": 3857
  }
 },
 "fullExtent": {
  "xmin": 1.605298924230589E7,
  "ymin": -3278166.889618084,
  "xmax": 1.709688158695625E7,
  "ymax": -3070479.0401865905,
  "spatialReference": {
   "wkid": 102100,
   "latestWkid": 3857
  }
 },
 "sortableFields": "",
 "bandCount": 1,
 "pixelType": "U8",
 "minValues": [],
 "maxValues": [],
 "meanValues": [],
 "stdvValues": [],
 "serviceProperties": "ByAttribute<\/MosaicMethod>First<\/MosaicOperator>true<\/SortAscending><\/LockImageID>ZOrder<\/TileOrderField>0<\/TileOrderBase>600.000000<\/AvgImageSpacingX>300.000000<\/AvgImageSpacingY>0.0<\/ViewPointX>0.0<\/ViewPointY>0.0<\/ViewPointDefShiftX>0.0<\/ViewPointDefShiftY>JPEG<\/CompressionMethod>80<\/CompressionQuality>0.010000<\/CompressionTolerance>Bilinear<\/SamplingMethod><\/ImageServiceProperties><\/ImageServer>",
 "allowedFields": "name,minps,maxps,lowps,highps,centerx,centery,zorder,year,title,capturestart,captureend,metalink,acq_driver,acq_driver_name,acq_platform,product_type,info_sec_clas,info_sec_time,app,res_class,exception,is_best,natural_disaster_type,aoi,res_type,res_value,status,compliance_type,res_unit,st_area(shape),st_perimeter(shape)",
 "hasMultidimensions": false,
 "pixelSizeX": 0.10017999178615562,
 "pixelSizeY": 0.10017999178615569,
 "meanPixelSize": 0.10017999178615566,
 "datasetFormat": "AMD",
 "uncompressedSize": 21602540028696,
 "blockWidth": 2048,
 "blockHeight": 256,
 "compressionType": "None",
 "bandNames": [
  "Band_1"
 ],
 "allowCopy": true,
 "allowAnalysis": true,
 "itemAccess": false,
 "inspectionCapabilities": "",
 "minPixelSize": 0,
 "maxPixelSize": 0,
 "copyrightText": "Includes material © State of Queensland (Department of Resources); © Commonwealth of Australia (Geoscience Australia), 2023.",
 "serviceDataType": "esriImageServiceDataTypeGeneric",
 "serviceSourceType": "esriImageServiceSourceTypeMosaicDataset",
 "objectIdField": "objectid",
 "fields": [
  {
   "name": "objectid",
   "type": "esriFieldTypeOID",
   "alias": "objectid",
   "domain": null
  },
  {
   "name": "name",
   "type": "esriFieldTypeString",
   "alias": "name",
   "domain": null,
   "length": 200
  },
  {
   "name": "minps",
   "type": "esriFieldTypeDouble",
   "alias": "minps",
   "domain": null
  },
  {
   "name": "maxps",
   "type": "esriFieldTypeDouble",
   "alias": "maxps",
   "domain": null
  },
  {
   "name": "lowps",
   "type": "esriFieldTypeDouble",
   "alias": "lowps",
   "domain": null
  },
  {
   "name": "highps",
   "type": "esriFieldTypeDouble",
   "alias": "highps",
   "domain": null
  },
  {
   "name": "category",
   "type": "esriFieldTypeInteger",
   "alias": "category",
   "domain": {
    "type": "codedValue",
    "name": "MosaicCatalogItemCategoryDomain",
    "description": "Catalog item categories.",
    "codedValues": [
     {
      "name": "Unknown",
      "code": 0
     },
     {
      "name": "Primary",
      "code": 1
     },
     {
      "name": "Overview",
      "code": 2
     },
     {
      "name": "Unprocessed Overview",
      "code": 3
     },
     {
      "name": "Partial Overview",
      "code": 4
     },
     {
      "name": "Inactive",
      "code": 5
     },
     {
      "name": "Uploaded",
      "code": 253
     },
     {
      "name": "Incomplete",
      "code": 254
     },
     {
      "name": "Custom",
      "code": 255
     }
    ],
    "mergePolicy": "esriMPTDefaultValue",
    "splitPolicy": "esriSPTDefaultValue"
   }
  },
  {
   "name": "centerx",
   "type": "esriFieldTypeDouble",
   "alias": "centerx",
   "domain": null
  },
  {
   "name": "centery",
   "type": "esriFieldTypeDouble",
   "alias": "centery",
   "domain": null
  },
  {
   "name": "zorder",
   "type": "esriFieldTypeInteger",
   "alias": "zorder",
   "domain": null
  },
  {
   "name": "year",
   "type": "esriFieldTypeSmallInteger",
   "alias": "YEAR",
   "domain": null
  },
  {
   "name": "title",
   "type": "esriFieldTypeString",
   "alias": "TITLE",
   "domain": null,
   "length": 100
  },
  {
   "name": "capturestart",
   "type": "esriFieldTypeDate",
   "alias": "CAPTURE_DATE_START",
   "domain": null,
   "length": 8
  },
  {
   "name": "captureend",
   "type": "esriFieldTypeDate",
   "alias": "CAPTURE_END_DATE",
   "domain": null,
   "length": 8
  },
  {
   "name": "metalink",
   "type": "esriFieldTypeString",
   "alias": "METADATA_LINK",
   "domain": null,
   "length": 300
  },
  {
   "name": "acq_driver",
   "type": "esriFieldTypeSmallInteger",
   "alias": "ACQUISITION_DRIVER",
   "domain": {
    "type": "codedValue",
    "name": "ACQ_DRIVER",
    "description": "Acquisition Driver ",
    "codedValues": [
     {
      "name": "Program",
      "code": 1
     },
     {
      "name": "Project",
      "code": 2
     },
     {
      "name": "Natural Disaster",
      "code": 3
     },
     {
      "name": "Event",
      "code": 4
     },
     {
      "name": "Incident",
      "code": 5
     },
     {
      "name": "Compliance",
      "code": 6
     }
    ],
    "mergePolicy": "esriMPTDefaultValue",
    "splitPolicy": "esriSPTDefaultValue"
   }
  },
  {
   "name": "acq_driver_name",
   "type": "esriFieldTypeString",
   "alias": "ACQUISITION_DRIVER_NAME",
   "domain": null,
   "length": 50
  },
  {
   "name": "acq_platform",
   "type": "esriFieldTypeSmallInteger",
   "alias": "ACQ_PLATFORM",
   "domain": {
    "type": "codedValue",
    "name": "ACQ_PLATFORM",
    "description": "Acquisition Platform",
    "codedValues": [
     {
      "name": "Satellite",
      "code": 2
     },
     {
      "name": "Drone",
      "code": 3
     },
     {
      "name": "Terrestrial",
      "code": 4
     },
     {
      "name": "Helicopter",
      "code": 5
     },
     {
      "name": "Aeroplane",
      "code": 1
     },
     {
      "name": "Multiple Platforms",
      "code": 6
     }
    ],
    "mergePolicy": "esriMPTDefaultValue",
    "splitPolicy": "esriSPTDefaultValue"
   }
  },
  {
   "name": "product_type",
   "type": "esriFieldTypeSmallInteger",
   "alias": "product_type",
   "domain": {
    "type": "codedValue",
    "name": "PRODUCT_TYPE",
    "description": "Type of source data used to produce the end product",
    "codedValues": [
     {
      "name": "Satellite RGB",
      "code": 1
     },
     {
      "name": "Satellite Multispectral",
      "code": 2
     },
     {
      "name": "Ortho Aerial Photo RGB",
      "code": 3
     },
     {
      "name": "Ortho Aerial Photo Multispectral",
      "code": 4
     },
     {
      "name": "Historical Aerial Photo Black and White",
      "code": 5
     },
     {
      "name": "Historical Aerial Photo RGB",
      "code": 6
     },
     {
      "name": "Digital Elevation Model",
      "code": 8
     },
     {
      "name": "Digital Surface Model",
      "code": 9
     },
     {
      "name": "Historical Aerial Photo Infrared",
      "code": 7
     },
     {
      "name": "3D Point cloud",
      "code": 11
     },
     {
      "name": "3D Mesh",
      "code": 12
     },
     {
      "name": "SAR",
      "code": 14
     },
     {
      "name": "Satellite Composite",
      "code": 15
     },
     {
      "name": "Ortho True",
      "code": 16
     },
     {
      "name": "Canopy Height Model",
      "code": 17
     },
     {
      "name": "3D Vector",
      "code": 18
     },
     {
      "name": "Bathymetry",
      "code": 19
     },
     {
      "name": "Digital Terrain Model",
      "code": 13
     },
     {
      "name": "Hillshade",
      "code": 20
     },
     {
      "name": "Difference from Mean Elevation",
      "code": 21
     },
     {
      "name": "Slope",
      "code": 22
     },
     {
      "name": "Classified Flow Accumulation",
      "code": 23
     },
     {
      "name": "Stream and Gully Depth",
      "code": 24
     },
     {
      "name": "Building and Settlement",
      "code": 25
     }
    ],
    "mergePolicy": "esriMPTDefaultValue",
    "splitPolicy": "esriSPTDefaultValue"
   }
  },
  {
   "name": "info_sec_clas",
   "type": "esriFieldTypeSmallInteger",
   "alias": "INFORMATION_SECURITY_CLASS",
   "domain": {
    "type": "codedValue",
    "name": "INFO_SEC_CLAS",
    "description": "Information Security Constraints Classificaton Code",
    "codedValues": [
     {
      "name": "Public",
      "code": 1
     },
     {
      "name": "Official",
      "code": 2
     },
     {
      "name": "Sensitive",
      "code": 3
     },
     {
      "name": "Protected",
      "code": 4
     }
    ],
    "mergePolicy": "esriMPTDefaultValue",
    "splitPolicy": "esriSPTDefaultValue"
   }
  },
  {
   "name": "info_sec_time",
   "type": "esriFieldTypeSmallInteger",
   "alias": "INFORMATION_SECURITY_TIME",
   "domain": null
  },
  {
   "name": "app",
   "type": "esriFieldTypeSmallInteger",
   "alias": "APPLICATION",
   "domain": {
    "type": "codedValue",
    "name": "APP",
    "description": "Application dependencies",
    "codedValues": [
     {
      "name": "Globe",
      "code": 1
     },
     {
      "name": "Globe_QImagery",
      "code": 2
     },
     {
      "name": "VegEDS",
      "code": 3
     },
     {
      "name": "GeoResGlobe",
      "code": 4
     },
     {
      "name": "FCP",
      "code": 5
     },
     {
      "name": "GA Forward Capture",
      "code": 6
     },
     {
      "name": "BQMaps",
      "code": 7
     },
     {
      "name": "VgMaps",
      "code": 8
     },
     {
      "name": "FAMS",
      "code": 9
     },
     {
      "name": "Other",
      "code": 10
     },
     {
      "name": "EventGlobe",
      "code": 11
     }
    ],
    "mergePolicy": "esriMPTDefaultValue",
    "splitPolicy": "esriSPTDefaultValue"
   }
  },
  {
   "name": "res_class",
   "type": "esriFieldTypeSmallInteger",
   "alias": "RESOLUTION_CLASS",
   "domain": {
    "type": "codedValue",
    "name": "RES_CLASS",
    "description": "Imagery resolution class in centimeters",
    "codedValues": [
     {
      "name": "High resolution",
      "code": 1
     },
     {
      "name": "All other resolutions",
      "code": 2
     }
    ],
    "mergePolicy": "esriMPTDefaultValue",
    "splitPolicy": "esriSPTDefaultValue"
   }
  },
  {
   "name": "exception",
   "type": "esriFieldTypeSmallInteger",
   "alias": "EXCEPTION",
   "domain": {
    "type": "codedValue",
    "name": "EXCEPTION",
    "description": "Exceptions to add extra records to a group qry",
    "codedValues": [
     {
      "name": "Background",
      "code": 1
     },
     {
      "name": "Background_Public",
      "code": 2
     }
    ],
    "mergePolicy": "esriMPTDefaultValue",
    "splitPolicy": "esriSPTDefaultValue"
   }
  },
  {
   "name": "is_best",
   "type": "esriFieldTypeSmallInteger",
   "alias": "Best",
   "domain": {
    "type": "codedValue",
    "name": "IS_BEST",
    "description": "Best",
    "codedValues": [
     {
      "name": "Best",
      "code": 1
     }
    ],
    "mergePolicy": "esriMPTDefaultValue",
    "splitPolicy": "esriSPTDefaultValue"
   }
  },
  {
   "name": "natural_disaster_type",
   "type": "esriFieldTypeSmallInteger",
   "alias": "NATURAL_DISASTER_TYPE",
   "domain": {
    "type": "codedValue",
    "name": "NATURAL_DISASTER_TYPE",
    "description": "Type of natural disaster - https://www.disasterassist.gov.au/Pages/australian-disasters.aspx",
    "codedValues": [
     {
      "name": "Bushfire",
      "code": 1
     },
     {
      "name": "Cyclone",
      "code": 2
     },
     {
      "name": "Earthquake",
      "code": 3
     },
     {
      "name": "Flood",
      "code": 4
     },
     {
      "name": "Hailstorm",
      "code": 5
     },
     {
      "name": "Landslide",
      "code": 7
     },
     {
      "name": "Low/tropical low",
      "code": 8
     },
     {
      "name": "Pandemic",
      "code": 6
     }
    ],
    "mergePolicy": "esriMPTDefaultValue",
    "splitPolicy": "esriSPTDefaultValue"
   }
  },
  {
   "name": "aoi",
   "type": "esriFieldTypeString",
   "alias": "Area Of Interest",
   "domain": null,
   "length": 50
  },
  {
   "name": "res_type",
   "type": "esriFieldTypeSmallInteger",
   "alias": "RESOLUTION_TYPE",
   "domain": {
    "type": "codedValue",
    "name": "RES_TYPE",
    "description": "Resolution type",
    "codedValues": [
     {
      "name": "Point Density",
      "code": 2
     },
     {
      "name": "Ground Surface Distance",
      "code": 1
     },
     {
      "name": "Height",
      "code": 3
     },
     {
      "name": "Depth",
      "code": 4
     },
     {
      "name": "Angle",
      "code": 5
     }
    ],
    "mergePolicy": "esriMPTDefaultValue",
    "splitPolicy": "esriSPTDefaultValue"
   }
  },
  {
   "name": "res_value",
   "type": "esriFieldTypeDouble",
   "alias": "RESOLUTION_VALUE",
   "domain": null
  },
  {
   "name": "status",
   "type": "esriFieldTypeSmallInteger",
   "alias": "Status",
   "domain": {
    "type": "codedValue",
    "name": "STATUS",
    "description": "Status",
    "codedValues": [
     {
      "name": "Proposed",
      "code": 1
     },
     {
      "name": "Awarded",
      "code": 2
     },
     {
      "name": "Captured",
      "code": 3
     },
     {
      "name": "Delivered",
      "code": 4
     },
     {
      "name": "Pending",
      "code": 5
     },
     {
      "name": "QA_QC",
      "code": 6
     },
     {
      "name": "Incomplete",
      "code": 7
     },
     {
      "name": "Completed/Published",
      "code": 8
     }
    ],
    "mergePolicy": "esriMPTDefaultValue",
    "splitPolicy": "esriSPTDefaultValue"
   }
  },
  {
   "name": "compliance_type",
   "type": "esriFieldTypeSmallInteger",
   "alias": "compliance_type",
   "domain": {
    "type": "codedValue",
    "name": "COMPLIANCE_TYPE",
    "description": "Compliance type",
    "codedValues": [
     {
      "name": "Vegetation",
      "code": 1
     },
     {
      "name": "Water",
      "code": 2
     },
     {
      "name": "Mines",
      "code": 3
     },
     {
      "name": "Survey",
      "code": 4
     },
     {
      "name": "Environmentally relevant activity",
      "code": 5
     },
     {
      "name": "Building and Construction",
      "code": 6
     }
    ],
    "mergePolicy": "esriMPTDefaultValue",
    "splitPolicy": "esriSPTDefaultValue"
   }
  },
  {
   "name": "res_unit",
   "type": "esriFieldTypeSmallInteger",
   "alias": "RES_UNIT",
   "domain": {
    "type": "codedValue",
    "name": "RES_UNIT",
    "description": "Resolution unit",
    "codedValues": [
     {
      "name": "mm",
      "code": 1
     },
     {
      "name": "cm",
      "code": 2
     },
     {
      "name": "m",
      "code": 3
     },
     {
      "name": "second",
      "code": 4
     }
    ],
    "mergePolicy": "esriMPTDefaultValue",
    "splitPolicy": "esriSPTDefaultValue"
   }
  },
  {
   "name": "shape",
   "type": "esriFieldTypeGeometry",
   "alias": "shape",
   "domain": null
  },
  {
   "name": "st_area(shape)",
   "type": "esriFieldTypeDouble",
   "alias": "st_area(shape)",
   "domain": null
  },
  {
   "name": "st_perimeter(shape)",
   "type": "esriFieldTypeDouble",
   "alias": "st_perimeter(shape)",
   "domain": null
  }
 ],
 "capabilities": "Image,Metadata,Catalog,Mensuration",
 "defaultMosaicMethod": "ByAttribute",
 "allowedMosaicMethods": "ByAttribute",
 "sortField": "ZOrder",
 "sortValue": "0",
 "sortAscending": true,
 "mosaicOperator": "First",
 "maxDownloadSizeLimit": 2048,
 "defaultCompressionQuality": 80,
 "defaultResamplingMethod": "Bilinear",
 "maxImageHeight": 4100,
 "maxImageWidth": 7680,
 "maxRecordCount": 1000,
 "maxDownloadImageCount": 20,
 "maxMosaicImageCount": 20,
 "allowRasterFunction": true,
 "rasterFunctionInfos": [
  {
   "name": "None",
   "description": "",
   "help": ""
  }
 ],
 "rasterTypeInfos": [
  {
   "name": "Raster Dataset",
   "description": "Supports all ArcGIS Raster Datasets",
   "help": ""
  }
 ],
 "mensurationCapabilities": "Basic",
 "hasHistograms": false,
 "hasColormap": false,
 "hasRasterAttributeTable": false,
 "minScale": 0,
 "maxScale": 0,
 "exportTilesAllowed": false,
 "supportsStatistics": true,
 "supportsAdvancedQueries": true,
 "editFieldsInfo": null,
 "ownershipBasedAccessControlForRasters": null,
 "allowComputeTiePoints": false,
 "useStandardizedQueries": true,
 "advancedQueryCapabilities": {
  "useStandardizedQueries": true,
  "supportsStatistics": true,
  "supportsOrderBy": true,
  "supportsDistinct": true,
  "supportsPagination": true
 },
 "spatialReference": {
  "wkid": 102100,
  "latestWkid": 3857
 }
}
