{
 "currentVersion": 11.5,
 "serviceDescription": "This service is designed to provide a performance imagery basemap (on demand\ncache) for clients that don\u2019t support cached/tiled services. This service\ncomprises a 2.4 metre resolution orthorectified visual mosaic product over\nQueensland originally acquired under the QSat initiative from Planet during\n2017 Quarter 3. The visual mosaic product is optimal for simple and direct use\nof the imagery and is designed and made visually appealing for a wide variety\nof applications that require imagery with an accurate geolocation and\ncartographic projection.Quality Lineage: The mosaic encompasses a single-layer\ncomposite of multiple customised PlanetScope ortho tiles (5 km x 5 km) where\neach tile is composed of the highest quality natural colour (RGB) PlanetScope\nOrtho Scene product imagery acquired between 1st July 2017 and 30th September\n2017 (2017 Quarter 3). Each PlanetScope scene used in the generation of a tile\nmay have been originally captured at a Ground Sample Distance (GSD) of up to\n3.7 metres (at reference altitude 475km). Sensor-related effects are corrected\nusing sensor telemetry and a sensor model, bands are co-registered, and\nspacecraft-related effects are corrected using attitude telemetry and best\navailable ephemeris data. The PlanetScope tiles are orthorectified and colour-\ncorrected (using a colour curve). This correction attempts to optimize colours\nas seen by the human eye providing images as they would look if viewed from\nthe perspective of the satellite. The tiles are processed to remove\ndistortions caused by terrain and can be used for cartographic mapping and\nvisualization purposes. The image processing eliminates the perspective effect\non the ground (not on buildings), restoring the geometry of a vertical shot.\nAdditionally, a correction is made to the sun angle in each image to account\nfor differences in latitude and time of acquisition. The PlanetScope tiles are\northorectified using GCPs and fine DEMs (30 m to 90 m posting) to less than 10\nm RMSE positional accuracy. Total cloud cover of the mosaic product is 0.23%.\nThe ISO 19115 standard metadata record for this service and further individual\nepoch mosaic product metadata information is available from the Queensland\nSpatial Catalogue (QSpatial).If you would like to receive updates for new\nprojects, functionality or planned downtime please subscribe here:\nhttp://ems.gs/3qln0iYbIYQ.\n\n",
 "serviceItemId": "06df176f577f4817be05cd20842d61fe",
 "name": "Basemaps/LatestSatelliteWOS_AllUsers",
 "description": "This service is designed to provide a performance imagery basemap (on demand\ncache) for clients that don\u2019t support cached/tiled services. This service\ncomprises a 2.4 metre resolution orthorectified visual mosaic product over\nQueensland originally acquired under the QSat initiative from Planet during\n2017 Quarter 3. The visual mosaic product is optimal for simple and direct use\nof the imagery and is designed and made visually appealing for a wide variety\nof applications that require imagery with an accurate geolocation and\ncartographic projection.Quality Lineage: The mosaic encompasses a single-layer\ncomposite of multiple customised PlanetScope ortho tiles (5 km x 5 km) where\neach tile is composed of the highest quality natural colour (RGB) PlanetScope\nOrtho Scene product imagery acquired between 1st July 2017 and 30th September\n2017 (2017 Quarter 3). Each PlanetScope scene used in the generation of a tile\nmay have been originally captured at a Ground Sample Distance (GSD) of up to\n3.7 metres (at reference altitude 475km). Sensor-related effects are corrected\nusing sensor telemetry and a sensor model, bands are co-registered, and\nspacecraft-related effects are corrected using attitude telemetry and best\navailable ephemeris data. The PlanetScope tiles are orthorectified and colour-\ncorrected (using a colour curve). This correction attempts to optimize colours\nas seen by the human eye providing images as they would look if viewed from\nthe perspective of the satellite. The tiles are processed to remove\ndistortions caused by terrain and can be used for cartographic mapping and\nvisualization purposes. The image processing eliminates the perspective effect\non the ground (not on buildings), restoring the geometry of a vertical shot.\nAdditionally, a correction is made to the sun angle in each image to account\nfor differences in latitude and time of acquisition. The PlanetScope tiles are\northorectified using GCPs and fine DEMs (30 m to 90 m posting) to less than 10\nm RMSE positional accuracy. Total cloud cover of the mosaic product is 0.23%.\nThe ISO 19115 standard metadata record for this service and further individual\nepoch mosaic product metadata information is available from the Queensland\nSpatial Catalogue (QSpatial).If you would like to receive updates for new\nprojects, functionality or planned downtime please subscribe here:\nhttp://ems.gs/3qln0iYbIYQ.\n\n",
 "extent": {
  "xmin": 1.5333392082051E7,
  "ymin": -3440731.61276081,
  "xmax": 1.711680171382308E7,
  "ymax": -1005161.2567276101,
  "spatialReference": {
   "wkid": 102100,
   "latestWkid": 3857
  }
 },
 "initialExtent": {
  "xmin": 1.5333392082051E7,
  "ymin": -3440731.61276081,
  "xmax": 1.711680171382308E7,
  "ymax": -1005161.2567276101,
  "spatialReference": {
   "wkid": 102100,
   "latestWkid": 3857
  }
 },
 "fullExtent": {
  "xmin": 1.5333392082051E7,
  "ymin": -3440731.61276081,
  "xmax": 1.711680171382308E7,
  "ymax": -1005161.2567276101,
  "spatialReference": {
   "wkid": 102100,
   "latestWkid": 3857
  }
 },
 "sortableFields": "",
 "bandCount": 4,
 "pixelType": "U8",
 "minValues": [],
 "maxValues": [],
 "meanValues": [],
 "stdvValues": [],
 "serviceProperties": "None<\/MosaicMethod>First<\/MosaicOperator>true<\/SortAscending><\/LockImageID>Name<\/TileOrderField>0<\/TileOrderBase>600.000000<\/AvgImageSpacingX>300.000000<\/AvgImageSpacingY>0.0<\/ViewPointX>0.0<\/ViewPointY>0.0<\/ViewPointDefShiftX>0.0<\/ViewPointDefShiftY>JPEG<\/CompressionMethod>80<\/CompressionQuality>0.010000<\/CompressionTolerance>Bilinear<\/SamplingMethod><\/ImageServiceProperties><\/ImageServer>",
 "allowedFields": "name,minps,maxps,lowps,highps,tag,groupname,productname,centerx,centery,zorder,year,title,capturestart,captureend,metalink,acq_driver,acq_driver_name,acq_platform,product_type,info_sec_clas,app,res_class,res_type,res_value,status,res_unit,project_name",
 "hasMultidimensions": false,
 "pixelSizeX": 2.388657130000001,
 "pixelSizeY": 2.38865713,
 "meanPixelSize": 2.3886571300000004,
 "datasetFormat": "AMD",
 "uncompressedSize": 3045114074400,
 "blockWidth": 2048,
 "blockHeight": 256,
 "compressionType": "None",
 "bandNames": [
  "Band_1",
  "Band_2",
  "Band_3",
  "Band_4"
 ],
 "allowCopy": true,
 "allowAnalysis": true,
 "itemAccess": false,
 "inspectionCapabilities": "",
 "minPixelSize": 0,
 "maxPixelSize": 0,
 "copyrightText": "Includes material © Planet Labs Netherlands B.V., reproduced under licence from Planet and Geoplex, all rights reserved 2022.",
 "serviceDataType": "esriImageServiceDataTypeGeneric",
 "serviceSourceType": "esriImageServiceSourceTypeMosaicDataset",
 "objectIdField": "objectid",
 "fields": [
  {
   "name": "objectid",
   "type": "esriFieldTypeOID",
   "alias": "objectid",
   "domain": null
  },
  {
   "name": "name",
   "type": "esriFieldTypeString",
   "alias": "name",
   "domain": null,
   "length": 200
  },
  {
   "name": "minps",
   "type": "esriFieldTypeDouble",
   "alias": "minps",
   "domain": null
  },
  {
   "name": "maxps",
   "type": "esriFieldTypeDouble",
   "alias": "maxps",
   "domain": null
  },
  {
   "name": "lowps",
   "type": "esriFieldTypeDouble",
   "alias": "lowps",
   "domain": null
  },
  {
   "name": "highps",
   "type": "esriFieldTypeDouble",
   "alias": "highps",
   "domain": null
  },
  {
   "name": "category",
   "type": "esriFieldTypeInteger",
   "alias": "category",
   "domain": {
    "type": "codedValue",
    "name": "MosaicCatalogItemCategoryDomain",
    "description": "Catalog item categories.",
    "codedValues": [
     {
      "name": "Unknown",
      "code": 0
     },
     {
      "name": "Primary",
      "code": 1
     },
     {
      "name": "Overview",
      "code": 2
     },
     {
      "name": "Unprocessed Overview",
      "code": 3
     },
     {
      "name": "Partial Overview",
      "code": 4
     },
     {
      "name": "Inactive",
      "code": 5
     },
     {
      "name": "Uploaded",
      "code": 253
     },
     {
      "name": "Incomplete",
      "code": 254
     },
     {
      "name": "Custom",
      "code": 255
     }
    ],
    "mergePolicy": "esriMPTDefaultValue",
    "splitPolicy": "esriSPTDefaultValue"
   }
  },
  {
   "name": "tag",
   "type": "esriFieldTypeString",
   "alias": "tag",
   "domain": null,
   "length": 100
  },
  {
   "name": "groupname",
   "type": "esriFieldTypeString",
   "alias": "groupname",
   "domain": null,
   "length": 100
  },
  {
   "name": "productname",
   "type": "esriFieldTypeString",
   "alias": "productname",
   "domain": null,
   "length": 100
  },
  {
   "name": "centerx",
   "type": "esriFieldTypeDouble",
   "alias": "centerx",
   "domain": null
  },
  {
   "name": "centery",
   "type": "esriFieldTypeDouble",
   "alias": "centery",
   "domain": null
  },
  {
   "name": "zorder",
   "type": "esriFieldTypeInteger",
   "alias": "zorder",
   "domain": null
  },
  {
   "name": "year",
   "type": "esriFieldTypeSmallInteger",
   "alias": "YEAR",
   "domain": null
  },
  {
   "name": "title",
   "type": "esriFieldTypeString",
   "alias": "TITLE",
   "domain": null,
   "length": 100
  },
  {
   "name": "capturestart",
   "type": "esriFieldTypeDate",
   "alias": "CAPTURE_DATE_START",
   "domain": null,
   "length": 8
  },
  {
   "name": "captureend",
   "type": "esriFieldTypeDate",
   "alias": "CAPTURE_END_DATE",
   "domain": null,
   "length": 8
  },
  {
   "name": "metalink",
   "type": "esriFieldTypeString",
   "alias": "METADATA_LINK",
   "domain": null,
   "length": 300
  },
  {
   "name": "acq_driver",
   "type": "esriFieldTypeSmallInteger",
   "alias": "ACQUISITION_DRIVER",
   "domain": {
    "type": "codedValue",
    "name": "ACQ_DRIVER",
    "description": "Acquisition Driver ",
    "codedValues": [
     {
      "name": "Program",
      "code": 1
     },
     {
      "name": "Project",
      "code": 2
     },
     {
      "name": "Natural Disaster",
      "code": 3
     },
     {
      "name": "Event",
      "code": 4
     },
     {
      "name": "Incident",
      "code": 5
     },
     {
      "name": "Compliance",
      "code": 6
     }
    ],
    "mergePolicy": "esriMPTDefaultValue",
    "splitPolicy": "esriSPTDefaultValue"
   }
  },
  {
   "name": "acq_driver_name",
   "type": "esriFieldTypeString",
   "alias": "ACQUISITION_DRIVER_NAME",
   "domain": null,
   "length": 50
  },
  {
   "name": "acq_platform",
   "type": "esriFieldTypeSmallInteger",
   "alias": "ACQ_PLATFORM",
   "domain": {
    "type": "codedValue",
    "name": "ACQ_PLATFORM",
    "description": "Acquisition Platform",
    "codedValues": [
     {
      "name": "Satellite",
      "code": 2
     },
     {
      "name": "Drone",
      "code": 3
     },
     {
      "name": "Terrestrial",
      "code": 4
     },
     {
      "name": "Helicopter",
      "code": 5
     },
     {
      "name": "Aeroplane",
      "code": 1
     },
     {
      "name": "Multiple Platforms",
      "code": 6
     }
    ],
    "mergePolicy": "esriMPTDefaultValue",
    "splitPolicy": "esriSPTDefaultValue"
   }
  },
  {
   "name": "product_type",
   "type": "esriFieldTypeSmallInteger",
   "alias": "product_type",
   "domain": {
    "type": "codedValue",
    "name": "PRODUCT_TYPE",
    "description": "Type of source data used to produce the end product",
    "codedValues": [
     {
      "name": "Satellite RGB",
      "code": 1
     },
     {
      "name": "Satellite Multispectral",
      "code": 2
     },
     {
      "name": "Ortho Aerial Photo RGB",
      "code": 3
     },
     {
      "name": "Ortho Aerial Photo Multispectral",
      "code": 4
     },
     {
      "name": "Historical Aerial Photo Black and White",
      "code": 5
     },
     {
      "name": "Historical Aerial Photo RGB",
      "code": 6
     },
     {
      "name": "Digital Elevation Model",
      "code": 8
     },
     {
      "name": "Digital Surface Model",
      "code": 9
     },
     {
      "name": "Historical Aerial Photo Infrared",
      "code": 7
     },
     {
      "name": "3D Point cloud",
      "code": 11
     },
     {
      "name": "3D Mesh",
      "code": 12
     },
     {
      "name": "SAR",
      "code": 14
     },
     {
      "name": "Satellite Composite",
      "code": 15
     },
     {
      "name": "Ortho True",
      "code": 16
     },
     {
      "name": "Canopy Height Model",
      "code": 17
     },
     {
      "name": "3D Vector",
      "code": 18
     },
     {
      "name": "Bathymetry",
      "code": 19
     },
     {
      "name": "Digital Terrain Model",
      "code": 13
     },
     {
      "name": "Hillshade",
      "code": 20
     },
     {
      "name": "Difference from Mean Elevation",
      "code": 21
     },
     {
      "name": "Slope",
      "code": 22
     },
     {
      "name": "Classified Flow Accumulation",
      "code": 23
     },
     {
      "name": "Stream and Gully Depth",
      "code": 24
     },
     {
      "name": "Building and Settlement",
      "code": 25
     }
    ],
    "mergePolicy": "esriMPTDefaultValue",
    "splitPolicy": "esriSPTDefaultValue"
   }
  },
  {
   "name": "info_sec_clas",
   "type": "esriFieldTypeSmallInteger",
   "alias": "INFORMATION_SECURITY_CLASS",
   "domain": {
    "type": "codedValue",
    "name": "INFO_SEC_CLAS",
    "description": "Information Security Constraints Classificaton Code",
    "codedValues": [
     {
      "name": "Public",
      "code": 1
     },
     {
      "name": "Official",
      "code": 2
     },
     {
      "name": "Sensitive",
      "code": 3
     },
     {
      "name": "Protected",
      "code": 4
     }
    ],
    "mergePolicy": "esriMPTDefaultValue",
    "splitPolicy": "esriSPTDefaultValue"
   }
  },
  {
   "name": "app",
   "type": "esriFieldTypeSmallInteger",
   "alias": "APPLICATION",
   "domain": {
    "type": "codedValue",
    "name": "APP",
    "description": "Application dependencies",
    "codedValues": [
     {
      "name": "Globe",
      "code": 1
     },
     {
      "name": "Globe_QImagery",
      "code": 2
     },
     {
      "name": "VegEDS",
      "code": 3
     },
     {
      "name": "GeoResGlobe",
      "code": 4
     },
     {
      "name": "FCP",
      "code": 5
     },
     {
      "name": "GA Forward Capture",
      "code": 6
     },
     {
      "name": "BQMaps",
      "code": 7
     },
     {
      "name": "VgMaps",
      "code": 8
     },
     {
      "name": "FAMS",
      "code": 9
     },
     {
      "name": "Other",
      "code": 10
     },
     {
      "name": "EventGlobe",
      "code": 11
     }
    ],
    "mergePolicy": "esriMPTDefaultValue",
    "splitPolicy": "esriSPTDefaultValue"
   }
  },
  {
   "name": "res_class",
   "type": "esriFieldTypeSmallInteger",
   "alias": "RESOLUTION_CLASS",
   "domain": {
    "type": "codedValue",
    "name": "RES_CLASS",
    "description": "Imagery resolution class in centimeters",
    "codedValues": [
     {
      "name": "High resolution",
      "code": 1
     },
     {
      "name": "All other resolutions",
      "code": 2
     }
    ],
    "mergePolicy": "esriMPTDefaultValue",
    "splitPolicy": "esriSPTDefaultValue"
   }
  },
  {
   "name": "res_type",
   "type": "esriFieldTypeSmallInteger",
   "alias": "RESOLUTION_TYPE",
   "domain": {
    "type": "codedValue",
    "name": "RES_TYPE",
    "description": "Resolution type",
    "codedValues": [
     {
      "name": "Point Density",
      "code": 2
     },
     {
      "name": "Ground Surface Distance",
      "code": 1
     },
     {
      "name": "Height",
      "code": 3
     },
     {
      "name": "Depth",
      "code": 4
     },
     {
      "name": "Angle",
      "code": 5
     }
    ],
    "mergePolicy": "esriMPTDefaultValue",
    "splitPolicy": "esriSPTDefaultValue"
   }
  },
  {
   "name": "res_value",
   "type": "esriFieldTypeDouble",
   "alias": "RESOLUTION_VALUE",
   "domain": null
  },
  {
   "name": "status",
   "type": "esriFieldTypeSmallInteger",
   "alias": "Status",
   "domain": {
    "type": "codedValue",
    "name": "STATUS",
    "description": "Status",
    "codedValues": [
     {
      "name": "Proposed",
      "code": 1
     },
     {
      "name": "Awarded",
      "code": 2
     },
     {
      "name": "Captured",
      "code": 3
     },
     {
      "name": "Delivered",
      "code": 4
     },
     {
      "name": "Pending",
      "code": 5
     },
     {
      "name": "QA_QC",
      "code": 6
     },
     {
      "name": "Incomplete",
      "code": 7
     },
     {
      "name": "Completed/Published",
      "code": 8
     }
    ],
    "mergePolicy": "esriMPTDefaultValue",
    "splitPolicy": "esriSPTDefaultValue"
   }
  },
  {
   "name": "res_unit",
   "type": "esriFieldTypeSmallInteger",
   "alias": "RES_UNIT",
   "domain": {
    "type": "codedValue",
    "name": "RES_UNIT",
    "description": "Resolution unit",
    "codedValues": [
     {
      "name": "mm",
      "code": 1
     },
     {
      "name": "cm",
      "code": 2
     },
     {
      "name": "m",
      "code": 3
     },
     {
      "name": "second",
      "code": 4
     }
    ],
    "mergePolicy": "esriMPTDefaultValue",
    "splitPolicy": "esriSPTDefaultValue"
   }
  },
  {
   "name": "project_name",
   "type": "esriFieldTypeString",
   "alias": "project_name",
   "domain": null,
   "length": 100
  },
  {
   "name": "shape",
   "type": "esriFieldTypeGeometry",
   "alias": "shape",
   "domain": null
  }
 ],
 "capabilities": "Image,Metadata,Catalog,Mensuration",
 "defaultMosaicMethod": "None",
 "allowedMosaicMethods": "None",
 "mosaicOperator": "First",
 "maxDownloadSizeLimit": 2048,
 "defaultCompressionQuality": 80,
 "defaultResamplingMethod": "Bilinear",
 "maxImageHeight": 4100,
 "maxImageWidth": 7680,
 "maxRecordCount": 1000,
 "maxDownloadImageCount": 20,
 "maxMosaicImageCount": 20,
 "allowRasterFunction": true,
 "rasterFunctionInfos": [
  {
   "name": "None",
   "description": "A No-Op Function.",
   "help": ""
  }
 ],
 "rasterTypeInfos": [
  {
   "name": "Raster Dataset",
   "description": "Supports all ArcGIS Raster Datasets",
   "help": ""
  }
 ],
 "mensurationCapabilities": "Basic",
 "hasHistograms": false,
 "hasColormap": false,
 "hasRasterAttributeTable": false,
 "minScale": 0,
 "maxScale": 0,
 "exportTilesAllowed": false,
 "supportsStatistics": true,
 "supportsAdvancedQueries": true,
 "editFieldsInfo": null,
 "ownershipBasedAccessControlForRasters": null,
 "allowComputeTiePoints": false,
 "useStandardizedQueries": true,
 "advancedQueryCapabilities": {
  "useStandardizedQueries": true,
  "supportsStatistics": true,
  "supportsOrderBy": true,
  "supportsDistinct": true,
  "supportsPagination": true
 },
 "spatialReference": {
  "wkid": 102100,
  "latestWkid": 3857
 }
}
