{
 "currentVersion": 11.5,
 "serviceDescription": "This basemap service is designed to provide access to the latest publicly\navailable State Remotely Sensed Image Library collection of aerial imagery\ncapture under the Spatial Imagery Subscription Plan (SISP). Aerial imagery\nthat is three years or older captured under SISP is made available for public\nuse openly by the Department of Natural Resources, Mines and Energy,\nQueensland. Satellite imagery (Planet Q3 2017 mosaic) is visible in areas over\nQueensland where aerial photography is unavailable.Basemap services comprise a\nsingle layer of static imagery optimised for display purposes. This service\nhas a tile cache built down to a scale of 1:564 (Level20). The tile cache can\nbe turned off in client software for viewing at lower scales and printing\npurposes and can be used in dynamic mode to filter and display individual\nproject areas. The projects range from 0.5cm to 240cm resolution. Accuracy is\ndependent on the individual projects. Periodical updates will be made to the\nservice as new projects are captured. Projects are visible at scales 1:50,000,\n1:250,000 and 1:25,000,000.The images comprised in each of the projects are\northorectified which removes the effects of image perspective (tilt) and\nrelief (terrain) effects for the purpose of creating a planimetrically correct\nimage. The resultant orthorectified images have a constant scale wherein\nfeatures are represented in their 'true' positions.This service supports\nprojects captured in both GDA94 and GDA2020 datums. A Seven parameter\nsimilarity transformation has been applied to new projects that have been\ncaptured in GDA2020, this is to ensure that they align and display correctly\nwhen published in the default WGS 1984 Web Mercator (Auxiliary Sphere)\nprojection alongside GDA94 projects.The ISO 19115 standard metadata record for\nthis service and further individual epoch mosaic product metadata information\nis available from the Queensland Spatial Catalogue (QSpatial).If you would\nlike to receive updates for new projects, functionality or planned downtime\nplease subscribe here: http://ems.gs/3qln0iYbIYQ.\n\n",
 "serviceItemId": "b259661bc6514d3f93c8f7168dbcada8",
 "name": "Basemaps/LatestStateProgram_AllUsers",
 "description": "This basemap service is designed to provide access to the latest publicly\navailable State Remotely Sensed Image Library collection of aerial imagery\ncapture under the Spatial Imagery Subscription Plan (SISP). Aerial imagery\nthat is three years or older captured under SISP is made available for public\nuse openly by the Department of Natural Resources, Mines and Energy,\nQueensland. Satellite imagery (Planet Q3 2017 mosaic) is visible in areas over\nQueensland where aerial photography is unavailable.Basemap services comprise a\nsingle layer of static imagery optimised for display purposes. This service\nhas a tile cache built down to a scale of 1:564 (Level20). The tile cache can\nbe turned off in client software for viewing at lower scales and printing\npurposes and can be used in dynamic mode to filter and display individual\nproject areas. The projects range from 0.5cm to 240cm resolution. Accuracy is\ndependent on the individual projects. Periodical updates will be made to the\nservice as new projects are captured. Projects are visible at scales 1:50,000,\n1:250,000 and 1:25,000,000.The images comprised in each of the projects are\northorectified which removes the effects of image perspective (tilt) and\nrelief (terrain) effects for the purpose of creating a planimetrically correct\nimage. The resultant orthorectified images have a constant scale wherein\nfeatures are represented in their 'true' positions.This service supports\nprojects captured in both GDA94 and GDA2020 datums. A Seven parameter\nsimilarity transformation has been applied to new projects that have been\ncaptured in GDA2020, this is to ensure that they align and display correctly\nwhen published in the default WGS 1984 Web Mercator (Auxiliary Sphere)\nprojection alongside GDA94 projects.The ISO 19115 standard metadata record for\nthis service and further individual epoch mosaic product metadata information\nis available from the Queensland Spatial Catalogue (QSpatial).If you would\nlike to receive updates for new projects, functionality or planned downtime\nplease subscribe here: http://ems.gs/3qln0iYbIYQ.\n\n",
 "extent": {
  "xmin": 1.5333392556974752E7,
  "ymin": -3440730.921759101,
  "xmax": 1.71164199005105E7,
  "ymax": -1006190.4312100508,
  "spatialReference": {
   "wkid": 102100,
   "latestWkid": 3857
  }
 },
 "initialExtent": {
  "xmin": 1.5333392556974752E7,
  "ymin": -3440730.921759101,
  "xmax": 1.71164199005105E7,
  "ymax": -1006190.4312100508,
  "spatialReference": {
   "wkid": 102100,
   "latestWkid": 3857
  }
 },
 "fullExtent": {
  "xmin": 1.5333392556974752E7,
  "ymin": -3440730.921759101,
  "xmax": 1.71164199005105E7,
  "ymax": -1006190.4312100508,
  "spatialReference": {
   "wkid": 102100,
   "latestWkid": 3857
  }
 },
 "sortableFields": "",
 "bandCount": 3,
 "pixelType": "U8",
 "minValues": [],
 "maxValues": [],
 "meanValues": [],
 "stdvValues": [],
 "serviceProperties": "ByAttribute<\/MosaicMethod>First<\/MosaicOperator>true<\/SortAscending><\/LockImageID>Name<\/TileOrderField>0<\/TileOrderBase>600.000000<\/AvgImageSpacingX>300.000000<\/AvgImageSpacingY>0.0<\/ViewPointX>0.0<\/ViewPointY>0.0<\/ViewPointDefShiftX>0.0<\/ViewPointDefShiftY>JPEG<\/CompressionMethod>80<\/CompressionQuality>0.010000<\/CompressionTolerance>Bilinear<\/SamplingMethod><\/ImageServiceProperties><\/ImageServer>",
 "allowedFields": "Name,MinPS,MaxPS,LowPS,HighPS,Tag,GroupName,ProductName,CenterX,CenterY,ZOrder,Shape_Length,Shape_Area,YEAR,TITLE,CAPTURESTART,CAPTUREEND,METALINK,ACQ_DRIVER,ACQ_DRIVER_NAME,ACQ_PLATFORM,PRODUCT_TYPE,IS_QLDBASE,IS_QLDTIMESERIES,INFO_SEC_CLAS,INFO_SEC_TIME,APP,IS_PUBLIC,IS_QGOV,IS_QSAT,IS_SISP_ALL,IS_SISPT1,IS_SISPT2A,IS_SISPT2B,IS_SISPT3,IS_OTHERLICENSE,IS_EARLIEST,IS_LATEST,IS_LATEST_PUBLIC,IS_LATEST_RESTRICTED,IS_WOS,IS_EVENT,EVENT_TYPE,RES_CLASS,IS_MULTISPECTRAL,IS_ACTIVE,EXCEPTION,IS_BEST,IS_OPTICAL,IS_NATURAL_DISASTER,NATURAL_DISASTER_TYPE,IS_CLP,AOI,RES_TYPE,RES_VALUE,STATUS,COMPLIANCE_TYPE,RES_UNIT",
 "hasMultidimensions": false,
 "pixelSizeX": 0.005031649999999998,
 "pixelSizeY": 0.00503165,
 "meanPixelSize": 0.005031649999999999,
 "datasetFormat": "AMD",
 "uncompressedSize": 514369740487007205,
 "blockWidth": 2048,
 "blockHeight": 256,
 "compressionType": "None",
 "bandNames": [
  "Band_1",
  "Band_2",
  "Band_3"
 ],
 "allowCopy": true,
 "allowAnalysis": true,
 "itemAccess": false,
 "inspectionCapabilities": "",
 "minPixelSize": 0.14929107082380835,
 "maxPixelSize": 9783.93962049996,
 "copyrightText": "Includes material © State of Queensland (Department of Natural Resources and Mines, Manufacturing and Regional and Rural Development); © Planet Labs Netherlands B.V. reproduced under licence from Planet and Geoplex, all rights reserved, 2026.",
 "serviceDataType": "esriImageServiceDataTypeRGB",
 "serviceSourceType": "esriImageServiceSourceTypeMosaicDataset",
 "objectIdField": "objectid",
 "fields": [
  {
   "name": "objectid",
   "type": "esriFieldTypeOID",
   "alias": "OBJECTID",
   "domain": null
  },
  {
   "name": "name",
   "type": "esriFieldTypeString",
   "alias": "Name",
   "domain": null,
   "length": 200
  },
  {
   "name": "minps",
   "type": "esriFieldTypeDouble",
   "alias": "MinPS",
   "domain": null
  },
  {
   "name": "maxps",
   "type": "esriFieldTypeDouble",
   "alias": "MaxPS",
   "domain": null
  },
  {
   "name": "lowps",
   "type": "esriFieldTypeDouble",
   "alias": "LowPS",
   "domain": null
  },
  {
   "name": "highps",
   "type": "esriFieldTypeDouble",
   "alias": "HighPS",
   "domain": null
  },
  {
   "name": "category",
   "type": "esriFieldTypeInteger",
   "alias": "Category",
   "domain": {
    "type": "codedValue",
    "name": "MosaicCatalogItemCategoryDomain",
    "description": "Catalog item categories.",
    "codedValues": [
     {
      "name": "Unknown",
      "code": 0
     },
     {
      "name": "Primary",
      "code": 1
     },
     {
      "name": "Overview",
      "code": 2
     },
     {
      "name": "Unprocessed Overview",
      "code": 3
     },
     {
      "name": "Partial Overview",
      "code": 4
     },
     {
      "name": "Inactive",
      "code": 5
     },
     {
      "name": "Uploaded",
      "code": 253
     },
     {
      "name": "Incomplete",
      "code": 254
     },
     {
      "name": "Custom",
      "code": 255
     }
    ],
    "mergePolicy": "esriMPTDefaultValue",
    "splitPolicy": "esriSPTDefaultValue"
   }
  },
  {
   "name": "tag",
   "type": "esriFieldTypeString",
   "alias": "Tag",
   "domain": null,
   "length": 100
  },
  {
   "name": "groupname",
   "type": "esriFieldTypeString",
   "alias": "GroupName",
   "domain": null,
   "length": 100
  },
  {
   "name": "productname",
   "type": "esriFieldTypeString",
   "alias": "ProductName",
   "domain": null,
   "length": 100
  },
  {
   "name": "centerx",
   "type": "esriFieldTypeDouble",
   "alias": "CenterX",
   "domain": null
  },
  {
   "name": "centery",
   "type": "esriFieldTypeDouble",
   "alias": "CenterY",
   "domain": null
  },
  {
   "name": "zorder",
   "type": "esriFieldTypeInteger",
   "alias": "ZOrder",
   "domain": null
  },
  {
   "name": "year",
   "type": "esriFieldTypeSmallInteger",
   "alias": "YEAR",
   "domain": null
  },
  {
   "name": "title",
   "type": "esriFieldTypeString",
   "alias": "TITLE",
   "domain": null,
   "length": 100
  },
  {
   "name": "capturestart",
   "type": "esriFieldTypeDate",
   "alias": "CAPTURE_DATE_START",
   "domain": null,
   "length": 8
  },
  {
   "name": "captureend",
   "type": "esriFieldTypeDate",
   "alias": "CAPTURE_END_DATE",
   "domain": null,
   "length": 8
  },
  {
   "name": "metalink",
   "type": "esriFieldTypeString",
   "alias": "METADATA_LINK",
   "domain": null,
   "length": 300
  },
  {
   "name": "acq_driver",
   "type": "esriFieldTypeSmallInteger",
   "alias": "ACQUISITION_DRIVER",
   "domain": {
    "type": "codedValue",
    "name": "ACQ_DRIVER",
    "description": "Acquisition Driver ",
    "codedValues": [
     {
      "name": "Program",
      "code": 1
     },
     {
      "name": "Project",
      "code": 2
     },
     {
      "name": "Natural Disaster",
      "code": 3
     },
     {
      "name": "Event",
      "code": 4
     },
     {
      "name": "Incident",
      "code": 5
     },
     {
      "name": "Compliance",
      "code": 6
     }
    ],
    "mergePolicy": "esriMPTDefaultValue",
    "splitPolicy": "esriSPTDefaultValue"
   }
  },
  {
   "name": "acq_driver_name",
   "type": "esriFieldTypeString",
   "alias": "ACQUISITION_DRIVER_NAME",
   "domain": null,
   "length": 50
  },
  {
   "name": "acq_platform",
   "type": "esriFieldTypeSmallInteger",
   "alias": "ACQ_PLATFORM",
   "domain": {
    "type": "codedValue",
    "name": "ACQ_PLATFORM",
    "description": "Acquisition Platform",
    "codedValues": [
     {
      "name": "Satellite",
      "code": 2
     },
     {
      "name": "Drone",
      "code": 3
     },
     {
      "name": "Terrestrial",
      "code": 4
     },
     {
      "name": "Helicopter",
      "code": 5
     },
     {
      "name": "Aeroplane",
      "code": 1
     },
     {
      "name": "Multiple Platforms",
      "code": 6
     }
    ],
    "mergePolicy": "esriMPTDefaultValue",
    "splitPolicy": "esriSPTDefaultValue"
   }
  },
  {
   "name": "product_type",
   "type": "esriFieldTypeSmallInteger",
   "alias": "PRODUCT_TYPE",
   "domain": {
    "type": "codedValue",
    "name": "PRODUCT_TYPE",
    "description": "Type of source data used to produce the end product",
    "codedValues": [
     {
      "name": "Satellite RGB",
      "code": 1
     },
     {
      "name": "Satellite Multispectral",
      "code": 2
     },
     {
      "name": "Ortho Aerial Photo RGB",
      "code": 3
     },
     {
      "name": "Ortho Aerial Photo Multispectral",
      "code": 4
     },
     {
      "name": "Historical Aerial Photo Black and White",
      "code": 5
     },
     {
      "name": "Historical Aerial Photo RGB",
      "code": 6
     },
     {
      "name": "Digital Elevation Model",
      "code": 8
     },
     {
      "name": "Digital Surface Model",
      "code": 9
     },
     {
      "name": "Historical Aerial Photo Infrared",
      "code": 7
     },
     {
      "name": "3D Point cloud",
      "code": 11
     },
     {
      "name": "3D Mesh",
      "code": 12
     },
     {
      "name": "SAR",
      "code": 14
     },
     {
      "name": "Satellite Composite",
      "code": 15
     },
     {
      "name": "Ortho True",
      "code": 16
     },
     {
      "name": "Canopy Height Model",
      "code": 17
     },
     {
      "name": "3D Vector",
      "code": 18
     },
     {
      "name": "Bathymetry",
      "code": 19
     },
     {
      "name": "Digital Terrain Model",
      "code": 13
     },
     {
      "name": "Hillshade",
      "code": 20
     },
     {
      "name": "Difference from Mean Elevation",
      "code": 21
     },
     {
      "name": "Slope",
      "code": 22
     },
     {
      "name": "Classified Flow Accumulation",
      "code": 23
     },
     {
      "name": "Stream and Gully Depth",
      "code": 24
     },
     {
      "name": "Building and Settlement",
      "code": 25
     }
    ],
    "mergePolicy": "esriMPTDefaultValue",
    "splitPolicy": "esriSPTDefaultValue"
   }
  },
  {
   "name": "is_qldbase",
   "type": "esriFieldTypeSmallInteger",
   "alias": "BASEMAP",
   "domain": {
    "type": "codedValue",
    "name": "IS_QLDBASE",
    "description": "Is a basemap",
    "codedValues": [
     {
      "name": "Basemap",
      "code": 1
     }
    ],
    "mergePolicy": "esriMPTDefaultValue",
    "splitPolicy": "esriSPTDefaultValue"
   }
  },
  {
   "name": "is_qldtimeseries",
   "type": "esriFieldTypeSmallInteger",
   "alias": "TIME_SERIES",
   "domain": {
    "type": "codedValue",
    "name": "IS_QLDTIMESERIES",
    "description": "Is a time series layer",
    "codedValues": [
     {
      "name": "Time series",
      "code": 1
     }
    ],
    "mergePolicy": "esriMPTDefaultValue",
    "splitPolicy": "esriSPTDefaultValue"
   }
  },
  {
   "name": "info_sec_clas",
   "type": "esriFieldTypeSmallInteger",
   "alias": "INFORMATION_SECURITY_CLASS",
   "domain": {
    "type": "codedValue",
    "name": "INFO_SEC_CLAS",
    "description": "Information Security Constraints Classificaton Code",
    "codedValues": [
     {
      "name": "Public",
      "code": 1
     },
     {
      "name": "Official",
      "code": 2
     },
     {
      "name": "Sensitive",
      "code": 3
     },
     {
      "name": "Protected",
      "code": 4
     }
    ],
    "mergePolicy": "esriMPTDefaultValue",
    "splitPolicy": "esriSPTDefaultValue"
   }
  },
  {
   "name": "info_sec_time",
   "type": "esriFieldTypeSmallInteger",
   "alias": "INFORMATION_SECURITY_TIME",
   "domain": null
  },
  {
   "name": "app",
   "type": "esriFieldTypeSmallInteger",
   "alias": "APPLICATION",
   "domain": {
    "type": "codedValue",
    "name": "APP",
    "description": "Application dependencies",
    "codedValues": [
     {
      "name": "Globe",
      "code": 1
     },
     {
      "name": "Globe_QImagery",
      "code": 2
     },
     {
      "name": "VegEDS",
      "code": 3
     },
     {
      "name": "GeoResGlobe",
      "code": 4
     },
     {
      "name": "FCP",
      "code": 5
     },
     {
      "name": "GA Forward Capture",
      "code": 6
     },
     {
      "name": "BQMaps",
      "code": 7
     },
     {
      "name": "VgMaps",
      "code": 8
     },
     {
      "name": "FAMS",
      "code": 9
     },
     {
      "name": "Other",
      "code": 10
     },
     {
      "name": "EventGlobe",
      "code": 11
     }
    ],
    "mergePolicy": "esriMPTDefaultValue",
    "splitPolicy": "esriSPTDefaultValue"
   }
  },
  {
   "name": "is_public",
   "type": "esriFieldTypeSmallInteger",
   "alias": "IS_PUBLIC",
   "domain": {
    "type": "codedValue",
    "name": "IS_PUBLIC",
    "description": "Is for all users",
    "codedValues": [
     {
      "name": "Public",
      "code": 1
     }
    ],
    "mergePolicy": "esriMPTDefaultValue",
    "splitPolicy": "esriSPTDefaultValue"
   }
  },
  {
   "name": "is_qgov",
   "type": "esriFieldTypeSmallInteger",
   "alias": "IS_QGOV",
   "domain": {
    "type": "codedValue",
    "name": "IS_QGOV",
    "description": "Is only for Queensland Government license users",
    "codedValues": [
     {
      "name": "QGOV users",
      "code": 1
     }
    ],
    "mergePolicy": "esriMPTDefaultValue",
    "splitPolicy": "esriSPTDefaultValue"
   }
  },
  {
   "name": "is_qsat",
   "type": "esriFieldTypeSmallInteger",
   "alias": "IS_QSAT",
   "domain": {
    "type": "codedValue",
    "name": "IS_QSAT",
    "description": "Is only for QSat users",
    "codedValues": [
     {
      "name": "QSAT users",
      "code": 1
     }
    ],
    "mergePolicy": "esriMPTDefaultValue",
    "splitPolicy": "esriSPTDefaultValue"
   }
  },
  {
   "name": "is_sisp_all",
   "type": "esriFieldTypeSmallInteger",
   "alias": "IS_SISP_ALL",
   "domain": {
    "type": "codedValue",
    "name": "IS_SISPALL",
    "description": "Is only for all SISP users",
    "codedValues": [
     {
      "name": "SISP All users",
      "code": 1
     }
    ],
    "mergePolicy": "esriMPTDefaultValue",
    "splitPolicy": "esriSPTDefaultValue"
   }
  },
  {
   "name": "is_sispt1",
   "type": "esriFieldTypeSmallInteger",
   "alias": "IS_SISPT1",
   "domain": {
    "type": "codedValue",
    "name": "IS_SISPT1",
    "description": "Is only for SISP Tier 1 users",
    "codedValues": [
     {
      "name": "SISP Tier 1 users",
      "code": 1
     }
    ],
    "mergePolicy": "esriMPTDefaultValue",
    "splitPolicy": "esriSPTDefaultValue"
   }
  },
  {
   "name": "is_sispt2a",
   "type": "esriFieldTypeSmallInteger",
   "alias": "IS_SISPT2A",
   "domain": {
    "type": "codedValue",
    "name": "IS_SISPT2A",
    "description": "Is only for SISP Tier 2A users\n",
    "codedValues": [
     {
      "name": "SISP Tier 2A users",
      "code": 1
     }
    ],
    "mergePolicy": "esriMPTDefaultValue",
    "splitPolicy": "esriSPTDefaultValue"
   }
  },
  {
   "name": "is_sispt2b",
   "type": "esriFieldTypeSmallInteger",
   "alias": "IS_SISPT2B",
   "domain": {
    "type": "codedValue",
    "name": "IS_SISPT2B",
    "description": "Is only for SISP Tier 2B users \n",
    "codedValues": [
     {
      "name": "For SISP Tier 2B users",
      "code": 1
     }
    ],
    "mergePolicy": "esriMPTDefaultValue",
    "splitPolicy": "esriSPTDefaultValue"
   }
  },
  {
   "name": "is_sispt3",
   "type": "esriFieldTypeSmallInteger",
   "alias": "IS_SISPT3",
   "domain": {
    "type": "codedValue",
    "name": "IS_SISPT3",
    "description": "Is only for SISP Tier 3 users ",
    "codedValues": [
     {
      "name": "SISP Tier 3 users",
      "code": 1
     }
    ],
    "mergePolicy": "esriMPTDefaultValue",
    "splitPolicy": "esriSPTDefaultValue"
   }
  },
  {
   "name": "is_otherlicense",
   "type": "esriFieldTypeSmallInteger",
   "alias": "IS_OTHERLICENSE",
   "domain": {
    "type": "codedValue",
    "name": "IS_OTHERLICENSE",
    "description": "Is only for other specific user group",
    "codedValues": [
     {
      "name": "DES",
      "code": 2
     },
     {
      "name": "QPS",
      "code": 3
     },
     {
      "name": "TMR",
      "code": 4
     },
     {
      "name": "Resources",
      "code": 1
     }
    ],
    "mergePolicy": "esriMPTDefaultValue",
    "splitPolicy": "esriSPTDefaultValue"
   }
  },
  {
   "name": "is_earliest",
   "type": "esriFieldTypeSmallInteger",
   "alias": "IS_EARLIEST",
   "domain": {
    "type": "codedValue",
    "name": "IS_EARLIEST",
    "description": "Earliest imagery",
    "codedValues": [
     {
      "name": "Earliest",
      "code": 1
     }
    ],
    "mergePolicy": "esriMPTDefaultValue",
    "splitPolicy": "esriSPTDefaultValue"
   }
  },
  {
   "name": "is_latest",
   "type": "esriFieldTypeSmallInteger",
   "alias": "IS_LATEST",
   "domain": {
    "type": "codedValue",
    "name": "IS_LATEST",
    "description": "Is latest imagery, photo etc.",
    "codedValues": [
     {
      "name": "Latest",
      "code": 1
     },
     {
      "name": "First",
      "code": 2
     },
     {
      "name": "Before",
      "code": 3
     }
    ],
    "mergePolicy": "esriMPTDefaultValue",
    "splitPolicy": "esriSPTDefaultValue"
   }
  },
  {
   "name": "is_latest_public",
   "type": "esriFieldTypeSmallInteger",
   "alias": "IS_LATEST_PUBLIC",
   "domain": {
    "type": "codedValue",
    "name": "IS_LATEST_PUBLIC",
    "description": "Is latest public imagery",
    "codedValues": [
     {
      "name": "Latest public",
      "code": 1
     }
    ],
    "mergePolicy": "esriMPTDefaultValue",
    "splitPolicy": "esriSPTDefaultValue"
   }
  },
  {
   "name": "is_latest_restricted",
   "type": "esriFieldTypeSmallInteger",
   "alias": "IS_LATEST_RESTRICTED",
   "domain": {
    "type": "codedValue",
    "name": "IS_LATEST_RESTRICT",
    "description": "Is latest restricted imagery",
    "codedValues": [
     {
      "name": "Latest restricted",
      "code": 1
     }
    ],
    "mergePolicy": "esriMPTDefaultValue",
    "splitPolicy": "esriSPTDefaultValue"
   }
  },
  {
   "name": "is_wos",
   "type": "esriFieldTypeSmallInteger",
   "alias": "IS_WOS",
   "domain": {
    "type": "codedValue",
    "name": "IS_WOS",
    "description": "Is whole of state",
    "codedValues": [
     {
      "name": "Whole of state",
      "code": 1
     },
     {
      "name": "GBR only",
      "code": 2
     }
    ],
    "mergePolicy": "esriMPTDefaultValue",
    "splitPolicy": "esriSPTDefaultValue"
   }
  },
  {
   "name": "is_event",
   "type": "esriFieldTypeSmallInteger",
   "alias": "IS_EVENT",
   "domain": {
    "type": "codedValue",
    "name": "IS_EVENT",
    "description": "Is an event",
    "codedValues": [
     {
      "name": "Is an event",
      "code": 1
     }
    ],
    "mergePolicy": "esriMPTDefaultValue",
    "splitPolicy": "esriSPTDefaultValue"
   }
  },
  {
   "name": "event_type",
   "type": "esriFieldTypeSmallInteger",
   "alias": "EVENT_TYPE",
   "domain": {
    "type": "codedValue",
    "name": "EVENT_TYPE",
    "description": "Type of event",
    "codedValues": [
     {
      "name": "Summit",
      "code": 1
     },
     {
      "name": "Expo",
      "code": 2
     },
     {
      "name": "Commonwealth Games",
      "code": 3
     },
     {
      "name": "Olympics",
      "code": 4
     }
    ],
    "mergePolicy": "esriMPTDefaultValue",
    "splitPolicy": "esriSPTDefaultValue"
   }
  },
  {
   "name": "res_class",
   "type": "esriFieldTypeSmallInteger",
   "alias": "RESOLUTION_CLASS",
   "domain": {
    "type": "codedValue",
    "name": "RES_CLASS",
    "description": "Imagery resolution class in centimeters",
    "codedValues": [
     {
      "name": "High resolution",
      "code": 1
     },
     {
      "name": "All other resolutions",
      "code": 2
     }
    ],
    "mergePolicy": "esriMPTDefaultValue",
    "splitPolicy": "esriSPTDefaultValue"
   }
  },
  {
   "name": "is_multispectral",
   "type": "esriFieldTypeSmallInteger",
   "alias": "IS_MULTISPECTRAL",
   "domain": {
    "type": "codedValue",
    "name": "IS_MULTISPECTRAL",
    "description": "Is multspectral imagery",
    "codedValues": [
     {
      "name": "Multispectral",
      "code": 1
     }
    ],
    "mergePolicy": "esriMPTDefaultValue",
    "splitPolicy": "esriSPTDefaultValue"
   }
  },
  {
   "name": "is_active",
   "type": "esriFieldTypeSmallInteger",
   "alias": "IS_ACTIVE",
   "domain": {
    "type": "codedValue",
    "name": "IS_ACTIVE",
    "description": "Dataset is active in service",
    "codedValues": [
     {
      "name": "Is active service",
      "code": 1
     }
    ],
