{
 "currentVersion": 11.3,
 "serviceDescription": "This time-series elevation service is designed to provide access to publicly\navailable highest resolution, ortho Digital Terrain Model (DTM) data captured\nby remotely piloted aircraft systems (drones), piloted aircraft, and the\nShuttle Radar Topography Mission (SRTM) and bathymetric data over areas of\nQueensland. This digital terrain model (DTM) represents the bare ground\nsurface or depth without any objects like trees and buildings.This service\ncomprises the latest publicly available 1 metre resolution LiDAR DEMs over\nQueensland acquired under Queensland Government coordinated acquisition\nprograms, Geoscience Australia\u2019s 1 second (30 metre resolution) hydrologically\ncorrected SRTM Digital DEM, and 30, 100, 250 meter resolution bathymetric\ndata. Accuracy is dependent on the projects used.Web Service Functions\nincluding Aspect, Hillshade, Slope_degrees and Slope_percent_rise are\navailable in none cached service. Additionally stretch and Dynamic Range\nAdjustment (DRA) can be applied as required through the client to enhance\nvisual contrast.The complete metadata record for this service is available\nfrom the Queensland Spatial Catalogue.This service supports projects captured\nin both GDA94 and GDA2020 datums. A Seven parameter similarity transformation\nhas been applied to new projects that have been captured in GDA2020, this is\nto ensure that they align and display correctly when published in the default\nWGS 1984 Web Mercator (Auxiliary Sphere) projection alongside GDA94\nprojects.The ISO 19115 standard metadata record for this service and further\nindividual epoch mosaic product metadata information is available from the\nQueensland Spatial Catalogue.If you would like to receive updates for new\nprojects, functionality or planned downtime please subscribe here:\nhttps://ems.gs/3iPy0jWcMnz.\n\n",
 "name": "Elevation/DEM_TimeSeries_AllUsers",
 "description": "This time-series elevation service is designed to provide access to publicly\navailable highest resolution, ortho Digital Terrain Model (DTM) data captured\nby remotely piloted aircraft systems (drones), piloted aircraft, and the\nShuttle Radar Topography Mission (SRTM) and bathymetric data over areas of\nQueensland. This digital terrain model (DTM) represents the bare ground\nsurface or depth without any objects like trees and buildings.This service\ncomprises the latest publicly available 1 metre resolution LiDAR DEMs over\nQueensland acquired under Queensland Government coordinated acquisition\nprograms, Geoscience Australia\u2019s 1 second (30 metre resolution) hydrologically\ncorrected SRTM Digital DEM, and 30, 100, 250 meter resolution bathymetric\ndata. Accuracy is dependent on the projects used.Web Service Functions\nincluding Aspect, Hillshade, Slope_degrees and Slope_percent_rise are\navailable in none cached service. Additionally stretch and Dynamic Range\nAdjustment (DRA) can be applied as required through the client to enhance\nvisual contrast.The complete metadata record for this service is available\nfrom the Queensland Spatial Catalogue.This service supports projects captured\nin both GDA94 and GDA2020 datums. A Seven parameter similarity transformation\nhas been applied to new projects that have been captured in GDA2020, this is\nto ensure that they align and display correctly when published in the default\nWGS 1984 Web Mercator (Auxiliary Sphere) projection alongside GDA94\nprojects.The ISO 19115 standard metadata record for this service and further\nindividual epoch mosaic product metadata information is available from the\nQueensland Spatial Catalogue.If you would like to receive updates for new\nprojects, functionality or planned downtime please subscribe here:\nhttps://ems.gs/3iPy0jWcMnz.\n\n",
 "extent": {
  "xmin": 1.5352710060599998E7,
  "ymin": -3431502.246100001,
  "xmax": 1.7810238060599998E7,
  "ymax": -1021912.746100001,
  "spatialReference": {
   "wkid": 102100,
   "latestWkid": 3857
  }
 },
 "initialExtent": {
  "xmin": 1.5352710060599998E7,
  "ymin": -3431502.246100001,
  "xmax": 1.7810238060599998E7,
  "ymax": -1021912.746100001,
  "spatialReference": {
   "wkid": 102100,
   "latestWkid": 3857
  }
 },
 "fullExtent": {
  "xmin": 1.5352710060599998E7,
  "ymin": -3431502.246100001,
  "xmax": 1.7810238060599998E7,
  "ymax": -1021912.746100001,
  "spatialReference": {
   "wkid": 102100,
   "latestWkid": 3857
  }
 },
 "sortableFields": "",
 "bandCount": 1,
 "pixelType": "F32",
 "minValues": [
  -5094.675973653793
 ],
 "maxValues": [
  1588.5169160366058
 ],
 "meanValues": [
  -1630.7643719124135
 ],
 "stdvValues": [
  425.67493806606365
 ],
 "hasMultidimensions": false,
 "pixelSizeX": 0.5,
 "pixelSizeY": 0.5,
 "meanPixelSize": 0.5,
 "datasetFormat": "AMD",
 "uncompressedSize": 94746138636096,
 "blockWidth": 2048,
 "blockHeight": 256,
 "compressionType": "None",
 "bandNames": [
  "Band_1"
 ],
 "allowCopy": true,
 "allowAnalysis": true,
 "itemAccess": false,
 "inspectionCapabilities": "",
 "minPixelSize": 0,
 "maxPixelSize": 0,
 "copyrightText": "Includes material © State of Queensland (Department of Natural Resources and Mines, Manufacturing, and Regional and Rural Development); © Commonwealth of Australia (Geoscience Australia, The Australian Hydrographic Office); © www.deepreef.org 2025",
 "serviceDataType": "esriImageServiceDataTypeGeneric",
 "serviceSourceType": "esriImageServiceSourceTypeMosaicDataset",
 "objectIdField": "objectid",
 "fields": [
  {
   "name": "objectid",
   "type": "esriFieldTypeOID",
   "alias": "OBJECTID",
   "domain": null
  },
  {
   "name": "name",
   "type": "esriFieldTypeString",
   "alias": "Name",
   "domain": null,
   "length": 200
  },
  {
   "name": "minps",
   "type": "esriFieldTypeDouble",
   "alias": "MinPS",
   "domain": null
  },
  {
   "name": "maxps",
   "type": "esriFieldTypeDouble",
   "alias": "MaxPS",
   "domain": null
  },
  {
   "name": "lowps",
   "type": "esriFieldTypeDouble",
   "alias": "LowPS",
   "domain": null
  },
  {
   "name": "highps",
   "type": "esriFieldTypeDouble",
   "alias": "HighPS",
   "domain": null
  },
  {
   "name": "category",
   "type": "esriFieldTypeInteger",
   "alias": "Category",
   "domain": {
    "type": "codedValue",
    "name": "MosaicCatalogItemCategoryDomain",
    "description": "Catalog item categories.",
    "codedValues": [
     {
      "name": "Unknown",
      "code": 0
     },
     {
      "name": "Primary",
      "code": 1
     },
     {
      "name": "Overview",
      "code": 2
     },
     {
      "name": "Unprocessed Overview",
      "code": 3
     },
     {
      "name": "Partial Overview",
      "code": 4
     },
     {
      "name": "Inactive",
      "code": 5
     },
     {
      "name": "Uploaded",
      "code": 253
     },
     {
      "name": "Incomplete",
      "code": 254
     },
     {
      "name": "Custom",
      "code": 255
     }
    ],
    "mergePolicy": "esriMPTDefaultValue",
    "splitPolicy": "esriSPTDefaultValue"
   }
  },
  {
   "name": "tag",
   "type": "esriFieldTypeString",
   "alias": "Tag",
   "domain": null,
   "length": 100
  },
  {
   "name": "groupname",
   "type": "esriFieldTypeString",
   "alias": "GroupName",
   "domain": null,
   "length": 100
  },
  {
   "name": "productname",
   "type": "esriFieldTypeString",
   "alias": "ProductName",
   "domain": null,
   "length": 100
  },
  {
   "name": "centerx",
   "type": "esriFieldTypeDouble",
   "alias": "CenterX",
   "domain": null
  },
  {
   "name": "centery",
   "type": "esriFieldTypeDouble",
   "alias": "CenterY",
   "domain": null
  },
  {
   "name": "zorder",
   "type": "esriFieldTypeInteger",
   "alias": "ZOrder",
   "domain": null
  },
  {
   "name": "year",
   "type": "esriFieldTypeSmallInteger",
   "alias": "YEAR",
   "domain": null
  },
  {
   "name": "title",
   "type": "esriFieldTypeString",
   "alias": "TITLE",
   "domain": null,
   "length": 100
  },
  {
   "name": "capturestart",
   "type": "esriFieldTypeDate",
   "alias": "CAPTURE_DATE_START",
   "domain": null,
   "length": 8
  },
  {
   "name": "captureend",
   "type": "esriFieldTypeDate",
   "alias": "CAPTURE_DATE_END",
   "domain": null,
   "length": 8
  },
  {
   "name": "metalink",
   "type": "esriFieldTypeString",
   "alias": "METADATA_LINK",
   "domain": null,
   "length": 300
  },
  {
   "name": "acq_driver",
   "type": "esriFieldTypeSmallInteger",
   "alias": "ACQUISITION_DRIVER",
   "domain": {
    "type": "codedValue",
    "name": "ACQ_DRIVER",
    "description": "Acquisition Driver ",
    "codedValues": [
     {
      "name": "Program",
      "code": 1
     },
     {
      "name": "Project",
      "code": 2
     },
     {
      "name": "Natural Disaster",
      "code": 3
     },
     {
      "name": "Event",
      "code": 4
     },
     {
      "name": "Incident",
      "code": 5
     },
     {
      "name": "Compliance",
      "code": 6
     }
    ],
    "mergePolicy": "esriMPTDefaultValue",
    "splitPolicy": "esriSPTDefaultValue"
   }
  },
  {
   "name": "acq_driver_name",
   "type": "esriFieldTypeString",
   "alias": "ACQUISITION_DRIVER_NAME",
   "domain": null,
   "length": 50
  },
  {
   "name": "acq_platform",
   "type": "esriFieldTypeSmallInteger",
   "alias": "ACQUISITION_PLATFORM",
   "domain": {
    "type": "codedValue",
    "name": "ACQ_PLATFORM",
    "description": "Acquisition Platform",
    "codedValues": [
     {
      "name": "Satellite",
      "code": 2
     },
     {
      "name": "Drone",
      "code": 3
     },
     {
      "name": "Terrestrial",
      "code": 4
     },
     {
      "name": "Helicopter",
      "code": 5
     },
     {
      "name": "Aeroplane",
      "code": 1
     },
     {
      "name": "Multiple Platforms",
      "code": 6
     }
    ],
    "mergePolicy": "esriMPTDefaultValue",
    "splitPolicy": "esriSPTDefaultValue"
   }
  },
  {
   "name": "product_type",
   "type": "esriFieldTypeSmallInteger",
   "alias": "product_type",
   "domain": {
    "type": "codedValue",
    "name": "PRODUCT_TYPE",
    "description": "Type of source data used to produce the end product",
    "codedValues": [
     {
      "name": "Satellite RGB",
      "code": 1
     },
     {
      "name": "Satellite Multispectral",
      "code": 2
     },
     {
      "name": "Ortho Aerial Photo RGB",
      "code": 3
     },
     {
      "name": "Ortho Aerial Photo Multispectral",
      "code": 4
     },
     {
      "name": "Historical Aerial Photo Black and White",
      "code": 5
     },
     {
      "name": "Historical Aerial Photo RGB",
      "code": 6
     },
     {
      "name": "Digital Elevation Model",
      "code": 8
     },
     {
      "name": "Digital Surface Model",
      "code": 9
     },
     {
      "name": "Historical Aerial Photo Infrared",
      "code": 7
     },
     {
      "name": "3D Point cloud",
      "code": 11
     },
     {
      "name": "3D Mesh",
      "code": 12
     },
     {
      "name": "SAR",
      "code": 14
     },
     {
      "name": "Satellite Composite",
      "code": 15
     },
     {
      "name": "Ortho True",
      "code": 16
     },
     {
      "name": "Canopy Height Model",
      "code": 17
     },
     {
      "name": "3D Vector",
      "code": 18
     },
     {
      "name": "Bathymetry",
      "code": 19
     },
     {
      "name": "Digital Terrain Model",
      "code": 13
     },
     {
      "name": "Hillshade",
      "code": 20
     },
     {
      "name": "Difference from Mean Elevation",
      "code": 21
     },
     {
      "name": "Slope",
      "code": 22
     },
     {
      "name": "Classified Flow Accumulation",
      "code": 23
     },
     {
      "name": "Stream and Gully Depth",
      "code": 24
     },
     {
      "name": "Building and Settlement",
      "code": 25
     }
    ],
    "mergePolicy": "esriMPTDefaultValue",
    "splitPolicy": "esriSPTDefaultValue"
   }
  },
  {
   "name": "res_value",
   "type": "esriFieldTypeDouble",
   "alias": "RESOLUTION_VALUE",
   "domain": null
  },
  {
   "name": "status",
   "type": "esriFieldTypeSmallInteger",
   "alias": "Status",
   "domain": {
    "type": "codedValue",
    "name": "STATUS",
    "description": "Status",
    "codedValues": [
     {
      "name": "Proposed",
      "code": 1
     },
     {
      "name": "Awarded",
      "code": 2
     },
     {
      "name": "Captured",
      "code": 3
     },
     {
      "name": "Delivered",
      "code": 4
     },
     {
      "name": "Pending",
      "code": 5
     },
     {
      "name": "QA_QC",
      "code": 6
     },
     {
      "name": "Incomplete",
      "code": 7
     },
     {
      "name": "Completed/Published",
      "code": 8
     }
    ],
    "mergePolicy": "esriMPTDefaultValue",
    "splitPolicy": "esriSPTDefaultValue"
   }
  },
  {
   "name": "shape",
   "type": "esriFieldTypeGeometry",
   "alias": "Shape",
   "domain": null
  }
 ],
 "capabilities": "Catalog,Mensuration,Image,Metadata",
 "defaultMosaicMethod": "ByAttribute",
 "allowedMosaicMethods": "ByAttribute,NorthWest,Center",
 "sortField": "zorder",
 "sortValue": "0",
 "sortAscending": true,
 "mosaicOperator": "First",
 "maxDownloadSizeLimit": 2048,
 "defaultCompressionQuality": 10000,
 "defaultResamplingMethod": "Bilinear",
 "maxImageHeight": 4100,
 "maxImageWidth": 7680,
 "maxRecordCount": 1000,
 "maxDownloadImageCount": 20,
 "maxMosaicImageCount": 20,
 "allowRasterFunction": true,
 "rasterFunctionInfos": [
  {
   "name": "None",
   "description": "Make a Raster or Raster Dataset into a Function Raster Dataset.",
   "help": ""
  },
  {
   "name": "Aspect",
   "description": "Identifies the downslope direction of the maximum rate of change in value from each cell to its neighbors.",
   "help": ""
  },
  {
   "name": "Hillshade",
   "description": "This function creates a hillshade effect based on the elevation data source.",
   "help": ""
  },
  {
   "name": "Slope_degrees",
   "description": "Calculates the rate of change of elevation for each DEM cell in degrees.",
   "help": ""
  },
  {
   "name": "Slope_percent_rise",
   "description": "Calculates the rate of change of elevation for each DEM cell in percent rise.",
   "help": ""
  }
 ],
 "rasterTypeInfos": [
  {
   "name": "Raster Dataset",
   "description": "Supports all ArcGIS Raster Datasets",
   "help": ""
  }
 ],
 "mensurationCapabilities": "Basic",
 "hasHistograms": true,
 "hasColormap": false,
 "hasRasterAttributeTable": false,
 "minScale": 0,
 "maxScale": 0,
 "exportTilesAllowed": false,
 "supportsStatistics": true,
 "supportsAdvancedQueries": true,
 "editFieldsInfo": null,
 "ownershipBasedAccessControlForRasters": null,
 "allowComputeTiePoints": false,
 "useStandardizedQueries": true,
 "advancedQueryCapabilities": {
  "useStandardizedQueries": true,
  "supportsStatistics": true,
  "supportsOrderBy": true,
  "supportsDistinct": true,
  "supportsPagination": true
 },
 "spatialReference": {
  "wkid": 102100,
  "latestWkid": 3857
 },
 "resampling": false
}
