{
 "currentVersion": 11.5,
 "serviceDescription": "This tile_cached elevation service is designed to provide access to publicly\navailable highest resolution, ortho Digital Terrain Model (DTM) data captured\nby remotely piloted aircraft systems (drones), piloted aircraft, and the\nShuttle Radar Topography Mission (SRTM) and bathymetric data over areas of\nQueensland. This digital terrain model (DTM) represents the bare ground\nsurface or depth without any objects like trees and buildings. This service\ncomprises the latest publicly available 0.5 and 1 metre resolution LiDAR DEMs\nover Queensland acquired under Queensland Government coordinated acquisition\nprograms, Geoscience Australia\u2019s 1 second (30 metre resolution) hydrologically\ncorrected SRTM Digital DEM, and 30, 100, 250 meter resolution bathymetric\ndata. Accuracy is dependent on the projects used. This Limited Error Raster\nCompression (LERC) tile cached service, which handles tiles that connect\nthrough multiple levels of details, is built for 3D content scenes, elevation\nprofiles, and is specialised for elevation surface data to extract per pixel\nheight values. Web Service Functions including Aspect, Hillshade,\nSlope_degrees and Slope_percent_rise are available in cache-disabled service\nin ESRI desktop clients. Additionally stretch and Dynamic Range Adjustment\n(DRA) can be applied, in both the cache-enabled and cache-disabled service, as\nrequired through any client to enhance visual contrast. The complete metadata\nrecord for this service is available from the Queensland Spatial Catalogue.\nThis service supports projects captured in both GDA94 and GDA2020 datums. A\nSeven parameter similarity transformation has been applied to new projects\nthat have been captured in GDA2020, this is to ensure that they align and\ndisplay correctly when published in the default WGS 1984 Web Mercator\n(Auxiliary Sphere) projection alongside GDA94 projects. The ISO 19115 standard\nmetadata record for this service and further individual epoch mosaic product\nmetadata information is available from the Queensland Spatial Catalogue. If\nyou would like to receive updates for new projects, functionality or planned\ndowntime please subscribe here: http://ems.gs/3qln0ijbKGR .\n\n",
 "serviceItemId": "278092282caf4a5ba77160df0d52f32e",
 "name": "Elevation/QldDem",
 "description": "This tile_cached elevation service is designed to provide access to publicly\navailable highest resolution, ortho Digital Terrain Model (DTM) data captured\nby remotely piloted aircraft systems (drones), piloted aircraft, and the\nShuttle Radar Topography Mission (SRTM) and bathymetric data over areas of\nQueensland. This digital terrain model (DTM) represents the bare ground\nsurface or depth without any objects like trees and buildings. This service\ncomprises the latest publicly available 0.5 and 1 metre resolution LiDAR DEMs\nover Queensland acquired under Queensland Government coordinated acquisition\nprograms, Geoscience Australia\u2019s 1 second (30 metre resolution) hydrologically\ncorrected SRTM Digital DEM, and 30, 100, 250 meter resolution bathymetric\ndata. Accuracy is dependent on the projects used. This Limited Error Raster\nCompression (LERC) tile cached service, which handles tiles that connect\nthrough multiple levels of details, is built for 3D content scenes, elevation\nprofiles, and is specialised for elevation surface data to extract per pixel\nheight values. Web Service Functions including Aspect, Hillshade,\nSlope_degrees and Slope_percent_rise are available in cache-disabled service\nin ESRI desktop clients. Additionally stretch and Dynamic Range Adjustment\n(DRA) can be applied, in both the cache-enabled and cache-disabled service, as\nrequired through any client to enhance visual contrast. The complete metadata\nrecord for this service is available from the Queensland Spatial Catalogue.\nThis service supports projects captured in both GDA94 and GDA2020 datums. A\nSeven parameter similarity transformation has been applied to new projects\nthat have been captured in GDA2020, this is to ensure that they align and\ndisplay correctly when published in the default WGS 1984 Web Mercator\n(Auxiliary Sphere) projection alongside GDA94 projects. The ISO 19115 standard\nmetadata record for this service and further individual epoch mosaic product\nmetadata information is available from the Queensland Spatial Catalogue. If\nyou would like to receive updates for new projects, functionality or planned\ndowntime please subscribe here: http://ems.gs/3qln0ijbKGR .\n\n",
 "extent": {
  "xmin": 1.5352710013099998E7,
  "ymin": -3449669.8503,
  "xmax": 1.78102380131E7,
  "ymax": -1021912.3503,
  "spatialReference": {
   "wkid": 102100,
   "latestWkid": 3857
  }
 },
 "initialExtent": {
  "xmin": 1.5352710013099998E7,
  "ymin": -3449669.8503,
  "xmax": 1.78102380131E7,
  "ymax": -1021912.3503,
  "spatialReference": {
   "wkid": 102100,
   "latestWkid": 3857
  }
 },
 "fullExtent": {
  "xmin": 1.5352710013099998E7,
  "ymin": -3449669.8503,
  "xmax": 1.78102380131E7,
  "ymax": -1021912.3503,
  "spatialReference": {
   "wkid": 102100,
   "latestWkid": 3857
  }
 },
 "sortableFields": "",
 "bandCount": 1,
 "pixelType": "F32",
 "minValues": [
  -14.62607192993164
 ],
 "maxValues": [
  1573.3089599609375
 ],
 "meanValues": [
  236.92015048598418
 ],
 "stdvValues": [
  168.14454166806036
 ],
 "serviceProperties": "ByAttribute<\/MosaicMethod>First<\/MosaicOperator>true<\/SortAscending><\/LockImageID>zorder<\/TileOrderField>0<\/TileOrderBase>600.000000<\/AvgImageSpacingX>300.000000<\/AvgImageSpacingY>0.0<\/ViewPointX>0.0<\/ViewPointY>0.0<\/ViewPointDefShiftX>0.0<\/ViewPointDefShiftY>LERC<\/CompressionMethod>80<\/CompressionQuality>0.010000<\/CompressionTolerance>Bilinear<\/SamplingMethod><\/ImageServiceProperties><\/ImageServer>",
 "allowedFields": "name,minps,maxps,lowps,highps,tag,centerx,centery,zorder",
 "hasMultidimensions": false,
 "pixelSizeX": 0.5,
 "pixelSizeY": 0.5,
 "meanPixelSize": 0.5,
 "datasetFormat": "AMD",
 "uncompressedSize": 95460512535360,
 "blockWidth": 2048,
 "blockHeight": 256,
 "compressionType": "None",
 "bandNames": [
  "Band_1"
 ],
 "allowCopy": true,
 "allowAnalysis": true,
 "itemAccess": false,
 "inspectionCapabilities": "",
 "minPixelSize": 0.29858214164761643,
 "maxPixelSize": 9783.93962049995,
 "copyrightText": "Includes material © State of Queensland (Department of Natural Resources and Mines, Manufacturing, and Regional and Rural Development); © Commonwealth of Australia (Geoscience Australia, The Australian Hydrographic Office); © www.deepreef.org 2025",
 "serviceDataType": "esriImageServiceDataTypeGeneric",
 "serviceSourceType": "esriImageServiceSourceTypeMosaicDataset",
 "objectIdField": "objectid",
 "fields": [
  {
   "name": "objectid",
   "type": "esriFieldTypeOID",
   "alias": "objectid",
   "domain": null
  },
  {
   "name": "name",
   "type": "esriFieldTypeString",
   "alias": "name",
   "domain": null,
   "length": 200
  },
  {
   "name": "minps",
   "type": "esriFieldTypeDouble",
   "alias": "minps",
   "domain": null
  },
  {
   "name": "maxps",
   "type": "esriFieldTypeDouble",
   "alias": "maxps",
   "domain": null
  },
  {
   "name": "lowps",
   "type": "esriFieldTypeDouble",
   "alias": "lowps",
   "domain": null
  },
  {
   "name": "highps",
   "type": "esriFieldTypeDouble",
   "alias": "highps",
   "domain": null
  },
  {
   "name": "category",
   "type": "esriFieldTypeInteger",
   "alias": "category",
   "domain": {
    "type": "codedValue",
    "name": "MosaicCatalogItemCategoryDomain",
    "description": "Catalog item categories.",
    "codedValues": [
     {
      "name": "Unknown",
      "code": 0
     },
     {
      "name": "Primary",
      "code": 1
     },
     {
      "name": "Overview",
      "code": 2
     },
     {
      "name": "Unprocessed Overview",
      "code": 3
     },
     {
      "name": "Partial Overview",
      "code": 4
     },
     {
      "name": "Inactive",
      "code": 5
     },
     {
      "name": "Uploaded",
      "code": 253
     },
     {
      "name": "Incomplete",
      "code": 254
     },
     {
      "name": "Custom",
      "code": 255
     }
    ],
    "mergePolicy": "esriMPTDefaultValue",
    "splitPolicy": "esriSPTDefaultValue"
   }
  },
  {
   "name": "tag",
   "type": "esriFieldTypeString",
   "alias": "tag",
   "domain": null,
   "length": 100
  },
  {
   "name": "centerx",
   "type": "esriFieldTypeDouble",
   "alias": "centerx",
   "domain": null
  },
  {
   "name": "centery",
   "type": "esriFieldTypeDouble",
   "alias": "centery",
   "domain": null
  },
  {
   "name": "zorder",
   "type": "esriFieldTypeInteger",
   "alias": "zorder",
   "domain": null
  },
  {
   "name": "shape",
   "type": "esriFieldTypeGeometry",
   "alias": "shape",
   "domain": null
  }
 ],
 "capabilities": "Image,Metadata",
 "defaultMosaicMethod": "ByAttribute",
 "allowedMosaicMethods": "ByAttribute",
 "sortField": "zorder",
 "sortValue": "0",
 "sortAscending": true,
 "mosaicOperator": "First",
 "maxDownloadSizeLimit": 2048,
 "defaultCompressionQuality": 10000,
 "defaultResamplingMethod": "Bilinear",
 "maxImageHeight": 2048,
 "maxImageWidth": 4096,
 "maxRecordCount": 1000,
 "maxDownloadImageCount": 20,
 "maxMosaicImageCount": 50,
 "singleFusedMapCache": true,
 "tileInfo": {
  "rows": 256,
  "cols": 256,
  "dpi": 96,
  "format": "LERC",
  "compressionQuality": 0,
  "lercError": 0.1,
  "origin": {
   "x": -2.0037508342787E7,
   "y": 2.0037508342787E7
  },
  "spatialReference": {
   "wkid": 102100,
   "latestWkid": 3857
  },
  "lods": [
   {
    "level": 0,
    "resolution": 156543.033928,
    "scale": 5.91657527591555E8
   },
   {
    "level": 1,
    "resolution": 78271.5169639999,
    "scale": 2.95828763795777E8
   },
   {
    "level": 2,
    "resolution": 39135.7584820001,
    "scale": 1.47914381897889E8
   },
   {
    "level": 3,
    "resolution": 19567.8792409999,
    "scale": 7.3957190948944E7
   },
   {
    "level": 4,
    "resolution": 9783.93962049996,
    "scale": 3.6978595474472E7
   },
   {
    "level": 5,
    "resolution": 4891.96981024998,
    "scale": 1.8489297737236E7
   },
   {
    "level": 6,
    "resolution": 2445.98490512499,
    "scale": 9244648.868618
   },
   {
    "level": 7,
    "resolution": 1222.99245256249,
    "scale": 4622324.434309
   },
   {
    "level": 8,
    "resolution": 611.49622628138,
    "scale": 2311162.217155
   },
   {
    "level": 9,
    "resolution": 305.748113140558,
    "scale": 1155581.108577
   },
   {
    "level": 10,
    "resolution": 152.874056570411,
    "scale": 577790.554289
   },
   {
    "level": 11,
    "resolution": 76.4370282850732,
    "scale": 288895.277144
   },
   {
    "level": 12,
    "resolution": 38.2185141425366,
    "scale": 144447.638572
   },
   {
    "level": 13,
    "resolution": 19.1092570712683,
    "scale": 72223.819286
   },
   {
    "level": 14,
    "resolution": 9.55462853563415,
    "scale": 36111.909643
   },
   {
    "level": 15,
    "resolution": 4.77731426794937,
    "scale": 18055.954822
   },
   {
    "level": 16,
    "resolution": 2.38865713397468,
    "scale": 9027.977411
   },
   {
    "level": 17,
    "resolution": 1.19432856685505,
    "scale": 4513.988705
   },
   {
    "level": 18,
    "resolution": 0.597164283559817,
    "scale": 2256.994353
   },
   {
    "level": 19,
    "resolution": 0.298582141647617,
    "scale": 1128.497176
   },
   {
    "level": 20,
    "resolution": 0.14929107082380833,
    "scale": 564.248588
   },
   {
    "level": 21,
    "resolution": 0.07464553541190416,
    "scale": 282.124294
   },
   {
    "level": 22,
    "resolution": 0.03732276770595208,
    "scale": 141.062147
   },
   {
    "level": 23,
    "resolution": 0.01866138385297604,
    "scale": 70.5310735
   }
  ]
 },
 "storageInfo": {
  "storageFormat": "esriMapCacheStorageModeCompactV2",
  "packetSize": 128
 },
 "cacheType": "Elevation",
 "allowRasterFunction": true,
 "rasterFunctionInfos": [
  {
   "name": "None",
   "description": "A No-Op Function.",
   "help": ""
  },
  {
   "name": "Aspect",
   "description": "Identifies the downslope direction of the maximum rate of change in value from each cell to its neighbors.",
   "help": ""
  },
  {
   "name": "Hillshade",
   "description": "This function creates a hillshade effect based on the elevation data source.",
   "help": ""
  },
  {
   "name": "Slope_degrees",
   "description": "Calculates the rate of change of elevation for each DEM cell in degrees.",
   "help": ""
  },
  {
   "name": "Slope_percent_rise",
   "description": "Calculates the rate of change of elevation for each DEM cell in percent rise.",
   "help": ""
  },
  {
   "name": "None",
   "description": "A No-Op Function.",
   "help": ""
  }
 ],
 "rasterTypeInfos": [
  {
   "name": "Raster Dataset",
   "description": "Supports all ArcGIS Raster Datasets",
   "help": ""
  }
 ],
 "mensurationCapabilities": "Basic",
 "hasHistograms": true,
 "hasColormap": false,
 "hasRasterAttributeTable": false,
 "minScale": 3.6978595474472E7,
 "maxScale": 1128.497176,
 "exportTilesAllowed": false,
 "supportsStatistics": true,
 "supportsAdvancedQueries": true,
 "editFieldsInfo": null,
 "ownershipBasedAccessControlForRasters": null,
 "allowComputeTiePoints": false,
 "useStandardizedQueries": true,
 "advancedQueryCapabilities": {
  "useStandardizedQueries": true,
  "supportsStatistics": true,
  "supportsOrderBy": true,
  "supportsDistinct": true,
  "supportsPagination": true
 },
 "spatialReference": {
  "wkid": 102100,
  "latestWkid": 3857
 },
 "resampling": false
}
