{
 "currentVersion": 11.5,
 "serviceDescription": "This service is designed to provide access to the state Remotely Sensed Image\nLibrary collection of publicly available natural disaster satellite imagery\nover Queensland captured from satellite, manned aircraft, or remotely piloted\n(drone) platforms.Natural disaster events include flood, bushfire, earthquake,\ntropical cyclone, storm, tornado, storm surge, landslide, tsunami, volcanic\nactivity, meteorite strike, or other significant weather occurrences.The\nservice is dynamic and can be used to filter and display individual imagery\nprojects. The projects range from 5cm to 10m resolution. Accuracy is dependent\non the individual projects. Periodical updates will be made to the service as\nnew projects are released to the public domain. Projects are visible at scales\n1:50,000, 1:250,000 and 1:500,000.The optical imagery comprised in each of the\nprojects is acquired by sensors from the visible (red, green, blue), near-\ninfrared, and mid-infrared regions of the electromagnetic spectrum and is\ndisplayed in this service in either natural colour or false colour\ncombinations to enhance visual image interpretation.This service supports\nprojects captured in both GDA94 and GDA2020 datums. A Seven parameter\nsimilarity transformation has been applied to new projects that have been\ncaptured in GDA2020, this is to ensure that they align and display correctly\nwhen published in the default WGS 1984 Web Mercator (Auxiliary Sphere)\nprojection alongside GDA94 projects.The ISO 19115 standard metadata record for\nthis service and further individual epoch mosaic product metadata information\nis available from the Queensland Spatial Catalogue (QSpatial).If you would\nlike to receive updates for new projects, functionality or planned downtime\nplease subscribe here: https://ems.gs/3iPy0jWcMnz.\n\n",
 "serviceItemId": "be38355d9c0a46039dbd28e1b60aa07d",
 "name": "EventsIncidents/NaturalDisaster_Imagery_OpenData",
 "description": "This service is designed to provide access to the state Remotely Sensed Image\nLibrary collection of publicly available natural disaster satellite imagery\nover Queensland captured from satellite, manned aircraft, or remotely piloted\n(drone) platforms.Natural disaster events include flood, bushfire, earthquake,\ntropical cyclone, storm, tornado, storm surge, landslide, tsunami, volcanic\nactivity, meteorite strike, or other significant weather occurrences.The\nservice is dynamic and can be used to filter and display individual imagery\nprojects. The projects range from 5cm to 10m resolution. Accuracy is dependent\non the individual projects. Periodical updates will be made to the service as\nnew projects are released to the public domain. Projects are visible at scales\n1:50,000, 1:250,000 and 1:500,000.The optical imagery comprised in each of the\nprojects is acquired by sensors from the visible (red, green, blue), near-\ninfrared, and mid-infrared regions of the electromagnetic spectrum and is\ndisplayed in this service in either natural colour or false colour\ncombinations to enhance visual image interpretation.This service supports\nprojects captured in both GDA94 and GDA2020 datums. A Seven parameter\nsimilarity transformation has been applied to new projects that have been\ncaptured in GDA2020, this is to ensure that they align and display correctly\nwhen published in the default WGS 1984 Web Mercator (Auxiliary Sphere)\nprojection alongside GDA94 projects.The ISO 19115 standard metadata record for\nthis service and further individual epoch mosaic product metadata information\nis available from the Queensland Spatial Catalogue (QSpatial).If you would\nlike to receive updates for new projects, functionality or planned downtime\nplease subscribe here: https://ems.gs/3iPy0jWcMnz.\n\n",
 "extent": {
  "xmin": 1.5416347411624383E7,
  "ymin": -3404002.5886785523,
  "xmax": 1.737000024517445E7,
  "ymax": -1016998.431287577,
  "spatialReference": {
   "wkid": 102100,
   "latestWkid": 3857
  }
 },
 "initialExtent": {
  "xmin": 1.5416347411624383E7,
  "ymin": -3404002.5886785523,
  "xmax": 1.737000024517445E7,
  "ymax": -1016998.431287577,
  "spatialReference": {
   "wkid": 102100,
   "latestWkid": 3857
  }
 },
 "fullExtent": {
  "xmin": 1.5416347411624383E7,
  "ymin": -3404002.5886785523,
  "xmax": 1.737000024517445E7,
  "ymax": -1016998.431287577,
  "spatialReference": {
   "wkid": 102100,
   "latestWkid": 3857
  }
 },
 "sortableFields": "",
 "bandCount": 3,
 "pixelType": "U8",
 "minValues": [],
 "maxValues": [],
 "meanValues": [],
 "stdvValues": [],
 "serviceProperties": "ByAttribute<\/MosaicMethod>First<\/MosaicOperator>true<\/SortAscending><\/LockImageID>ZOrder<\/TileOrderField>0<\/TileOrderBase>300.000000<\/AvgImageSpacingX>300.000000<\/AvgImageSpacingY>0.0<\/ViewPointX>0.0<\/ViewPointY>0.0<\/ViewPointDefShiftX>0.0<\/ViewPointDefShiftY>JPEG<\/CompressionMethod>80<\/CompressionQuality>0.010000<\/CompressionTolerance>Bilinear<\/SamplingMethod><\/ImageServiceProperties><\/ImageServer>",
 "allowedFields": "Name,year,title,capturestart,captureend,metalink,acq_driver,acq_driver_name,acq_platform,product_type,info_sec_clas,is_qgov,res_class,natural_disaster_type,aoi,res_type,res_value,status,res_unit,ZOrder",
 "hasMultidimensions": false,
 "pixelSizeX": 3.302705747543351,
 "pixelSizeY": 3.3027057475433494,
 "meanPixelSize": 3.3027057475433503,
 "datasetFormat": "AMD",
 "uncompressedSize": 1282572894006,
 "blockWidth": 2048,
 "blockHeight": 256,
 "compressionType": "None",
 "bandNames": [
  "Band_1",
  "Band_2",
  "Band_3"
 ],
 "allowCopy": true,
 "allowAnalysis": true,
 "itemAccess": false,
 "inspectionCapabilities": "",
 "minPixelSize": 0,
 "maxPixelSize": 0,
 "copyrightText": "Includes material © 2026 State of Queensland (Department of Natural Resources and Mines, Manufacturing, and Regional and Rural Development), Commonwealth of Australia (Geoscience Australia), Planet Labs PBC. All rights reserved.",
 "serviceDataType": "esriImageServiceDataTypeRGB",
 "serviceSourceType": "esriImageServiceSourceTypeMosaicDataset",
 "objectIdField": "objectid",
 "fields": [
  {
   "name": "objectid",
   "type": "esriFieldTypeOID",
   "alias": "OBJECTID",
   "domain": null
  },
  {
   "name": "name",
   "type": "esriFieldTypeString",
   "alias": "Name",
   "domain": null,
   "length": 200
  },
  {
   "name": "category",
   "type": "esriFieldTypeInteger",
   "alias": "Category",
   "domain": {
    "type": "codedValue",
    "name": "MosaicCatalogItemCategoryDomain",
    "description": "Catalog item categories.",
    "codedValues": [
     {
      "name": "Unknown",
      "code": 0
     },
     {
      "name": "Primary",
      "code": 1
     },
     {
      "name": "Overview",
      "code": 2
     },
     {
      "name": "Unprocessed Overview",
      "code": 3
     },
     {
      "name": "Partial Overview",
      "code": 4
     },
     {
      "name": "Inactive",
      "code": 5
     },
     {
      "name": "Uploaded",
      "code": 253
     },
     {
      "name": "Incomplete",
      "code": 254
     },
     {
      "name": "Custom",
      "code": 255
     }
    ],
    "mergePolicy": "esriMPTDefaultValue",
    "splitPolicy": "esriSPTDefaultValue"
   }
  },
  {
   "name": "zorder",
   "type": "esriFieldTypeInteger",
   "alias": "ZOrder",
   "domain": null
  },
  {
   "name": "year",
   "type": "esriFieldTypeSmallInteger",
   "alias": "year",
   "domain": null
  },
  {
   "name": "title",
   "type": "esriFieldTypeString",
   "alias": "title",
   "domain": null,
   "length": 100
  },
  {
   "name": "capturestart",
   "type": "esriFieldTypeDate",
   "alias": "capturestart",
   "domain": null,
   "length": 8
  },
  {
   "name": "captureend",
   "type": "esriFieldTypeDate",
   "alias": "captureend",
   "domain": null,
   "length": 8
  },
  {
   "name": "metalink",
   "type": "esriFieldTypeString",
   "alias": "metalink",
   "domain": null,
   "length": 300
  },
  {
   "name": "acq_driver",
   "type": "esriFieldTypeSmallInteger",
   "alias": "acq_driver",
   "domain": null
  },
  {
   "name": "acq_driver_name",
   "type": "esriFieldTypeString",
   "alias": "acq_driver_name",
   "domain": null,
   "length": 50
  },
  {
   "name": "acq_platform",
   "type": "esriFieldTypeSmallInteger",
   "alias": "acq_platform",
   "domain": null
  },
  {
   "name": "product_type",
   "type": "esriFieldTypeSmallInteger",
   "alias": "product_type",
   "domain": null
  },
  {
   "name": "info_sec_clas",
   "type": "esriFieldTypeSmallInteger",
   "alias": "info_sec_clas",
   "domain": null
  },
  {
   "name": "is_qgov",
   "type": "esriFieldTypeSmallInteger",
   "alias": "is_qgov",
   "domain": null
  },
  {
   "name": "res_class",
   "type": "esriFieldTypeSmallInteger",
   "alias": "res_class",
   "domain": null
  },
  {
   "name": "natural_disaster_type",
   "type": "esriFieldTypeSmallInteger",
   "alias": "natural_disaster_type",
   "domain": null
  },
  {
   "name": "aoi",
   "type": "esriFieldTypeString",
   "alias": "aoi",
   "domain": null,
   "length": 50
  },
  {
   "name": "res_type",
   "type": "esriFieldTypeSmallInteger",
   "alias": "res_type",
   "domain": null
  },
  {
   "name": "res_value",
   "type": "esriFieldTypeSmallInteger",
   "alias": "res_value",
   "domain": null
  },
  {
   "name": "status",
   "type": "esriFieldTypeSmallInteger",
   "alias": "status",
   "domain": null
  },
  {
   "name": "res_unit",
   "type": "esriFieldTypeSmallInteger",
   "alias": "res_unit",
   "domain": null
  },
  {
   "name": "shape",
   "type": "esriFieldTypeGeometry",
   "alias": "Shape",
   "domain": null
  }
 ],
 "capabilities": "Image,Metadata,Catalog,Mensuration",
 "defaultMosaicMethod": "ByAttribute",
 "allowedMosaicMethods": "ByAttribute",
 "sortField": "ZOrder",
 "sortValue": "0",
 "sortAscending": true,
 "mosaicOperator": "First",
 "maxDownloadSizeLimit": 2048,
 "defaultCompressionQuality": 80,
 "defaultResamplingMethod": "Bilinear",
 "maxImageHeight": 4000,
 "maxImageWidth": 4000,
 "maxRecordCount": 2000,
 "maxDownloadImageCount": 50,
 "maxMosaicImageCount": 50,
 "allowRasterFunction": true,
 "rasterFunctionInfos": [
  {
   "name": "None",
   "description": "Make a Raster or Raster Dataset into a Function Raster Dataset.",
   "help": ""
  }
 ],
 "rasterTypeInfos": [
  {
   "name": "Raster Dataset",
   "description": "Supports all ArcGIS Raster Datasets",
   "help": ""
  }
 ],
 "mensurationCapabilities": "Basic",
 "hasHistograms": false,
 "hasColormap": false,
 "hasRasterAttributeTable": false,
 "minScale": 3.6978595474472E7,
 "maxScale": 564.248588,
 "exportTilesAllowed": true,
 "maxExportTilesCount": 100000,
 "supportsStatistics": true,
 "supportsAdvancedQueries": true,
 "editFieldsInfo": null,
 "ownershipBasedAccessControlForRasters": null,
 "allowComputeTiePoints": false,
 "useStandardizedQueries": true,
 "advancedQueryCapabilities": {
  "useStandardizedQueries": true,
  "supportsStatistics": true,
  "supportsOrderBy": true,
  "supportsDistinct": true,
  "supportsPagination": true
 },
 "spatialReference": {
  "wkid": 102100,
  "latestWkid": 3857
 }
}
