<?xml version="1.0" encoding="UTF-8" standalone="no"?>
<metadata xml:lang="en">
<Esri>
<CreaDate>20220121</CreaDate>
<CreaTime>14543600</CreaTime>
<ArcGISFormat>1.0</ArcGISFormat>
<ArcGISstyle>ISO 19139 Metadata Implementation Specification</ArcGISstyle>
<SyncOnce>FALSE</SyncOnce>
<DataProperties>
<itemProps>
<itemName Sync="FALSE">AerialOrtho_AllUsersR</itemName>
<nativeExtBox>
<westBL Sync="TRUE">15174177.434193</westBL>
<eastBL Sync="TRUE">18226991.780526</eastBL>
<southBL Sync="TRUE">-3596454.182490</southBL>
<northBL Sync="TRUE">-888815.388597</northBL>
<exTypeCode Sync="TRUE">1</exTypeCode>
</nativeExtBox>
</itemProps>
<coordRef>
<type Sync="TRUE">Projected</type>
<geogcsn Sync="TRUE">GCS_WGS_1984</geogcsn>
<csUnits Sync="TRUE">Linear Unit: Meter (1.000000)</csUnits>
<projcsn Sync="TRUE">WGS_1984_Web_Mercator_Auxiliary_Sphere</projcsn>
<peXml Sync="TRUE">&lt;ProjectedCoordinateSystem xsi:type='typens:ProjectedCoordinateSystem' xmlns:xsi='http://www.w3.org/2001/XMLSchema-instance' xmlns:xs='http://www.w3.org/2001/XMLSchema' xmlns:typens='http://www.esri.com/schemas/ArcGIS/3.3.0'&gt;&lt;WKT&gt;PROJCS[&amp;quot;WGS_1984_Web_Mercator_Auxiliary_Sphere&amp;quot;,GEOGCS[&amp;quot;GCS_WGS_1984&amp;quot;,DATUM[&amp;quot;D_WGS_1984&amp;quot;,SPHEROID[&amp;quot;WGS_1984&amp;quot;,6378137.0,298.257223563]],PRIMEM[&amp;quot;Greenwich&amp;quot;,0.0],UNIT[&amp;quot;Degree&amp;quot;,0.0174532925199433]],PROJECTION[&amp;quot;Mercator_Auxiliary_Sphere&amp;quot;],PARAMETER[&amp;quot;False_Easting&amp;quot;,0.0],PARAMETER[&amp;quot;False_Northing&amp;quot;,0.0],PARAMETER[&amp;quot;Central_Meridian&amp;quot;,0.0],PARAMETER[&amp;quot;Standard_Parallel_1&amp;quot;,0.0],PARAMETER[&amp;quot;Auxiliary_Sphere_Type&amp;quot;,0.0],UNIT[&amp;quot;Meter&amp;quot;,1.0],AUTHORITY[&amp;quot;EPSG&amp;quot;,3857]]&lt;/WKT&gt;&lt;XOrigin&gt;-20037700&lt;/XOrigin&gt;&lt;YOrigin&gt;-30241100&lt;/YOrigin&gt;&lt;XYScale&gt;148923141.92838538&lt;/XYScale&gt;&lt;ZOrigin&gt;-100000&lt;/ZOrigin&gt;&lt;ZScale&gt;10000&lt;/ZScale&gt;&lt;MOrigin&gt;-100000&lt;/MOrigin&gt;&lt;MScale&gt;10000&lt;/MScale&gt;&lt;XYTolerance&gt;0.001&lt;/XYTolerance&gt;&lt;ZTolerance&gt;0.001&lt;/ZTolerance&gt;&lt;MTolerance&gt;0.001&lt;/MTolerance&gt;&lt;HighPrecision&gt;true&lt;/HighPrecision&gt;&lt;WKID&gt;102100&lt;/WKID&gt;&lt;LatestWKID&gt;3857&lt;/LatestWKID&gt;&lt;/ProjectedCoordinateSystem&gt;</peXml>
</coordRef>
<RasterProperties>
<General>
<PixelDepth Sync="TRUE">8</PixelDepth>
<HasColormap Sync="TRUE">FALSE</HasColormap>
<CompressionType Sync="TRUE">None</CompressionType>
<NumBands Sync="TRUE">4</NumBands>
<Format Sync="TRUE">AMD</Format>
<HasPyramids Sync="TRUE">TRUE</HasPyramids>
<SourceType Sync="TRUE">continuous</SourceType>
<PixelType Sync="TRUE">unsigned integer</PixelType>
<NoDataValue Sync="TRUE">
</NoDataValue>
</General>
<Properties>
<MaxImageHeight Sync="TRUE">4100</MaxImageHeight>
<MaxImageWidth Sync="TRUE">15000</MaxImageWidth>
<MaxRecordCount Sync="TRUE">1000</MaxRecordCount>
<MaxDownloadImageCount Sync="TRUE">20</MaxDownloadImageCount>
<MaxDownloadSizeLimit Sync="TRUE">2048</MaxDownloadSizeLimit>
<MaxMosaicImageCount Sync="TRUE">40</MaxMosaicImageCount>
<DefaultCompressionQuality Sync="TRUE">75</DefaultCompressionQuality>
<DefaultCompressionTolerance Sync="TRUE">0.01</DefaultCompressionTolerance>
<BlendWidth Sync="TRUE">10</BlendWidth>
<ViewpointSpacingX Sync="TRUE">600</ViewpointSpacingX>
<ViewpointSpacingY Sync="TRUE">300</ViewpointSpacingY>
<AllowedItemMetadata Sync="TRUE">Basic</AllowedItemMetadata>
<DefaultResamplingMethod Sync="TRUE">1</DefaultResamplingMethod>
<AllowedMosaicMethods Sync="TRUE">ByAttribute,NorthWest,Center,LockRaster,Nadir,Viewpoint,Seamline,None</AllowedMosaicMethods>
<AllowedCompressions Sync="TRUE">JPEG,LZ77,LERC</AllowedCompressions>
<AllowedMensurationCapabilities Sync="TRUE">Basic</AllowedMensurationCapabilities>
<AvailableMensurationCapabilities Sync="TRUE">None,Basic,Base-Top Height,Top-Top Shadow Height,Base-Top Shadow Height,3D</AvailableMensurationCapabilities>
<ClipToBoundary Sync="TRUE">-1</ClipToBoundary>
<FootprintMayContainNoData Sync="TRUE">-1</FootprintMayContainNoData>
<CellSizeTolerance Sync="TRUE">0.8</CellSizeTolerance>
<MinimumPixelContribution Sync="TRUE">1</MinimumPixelContribution>
<AvailableMosaicMethods Sync="TRUE">NorthWest,Center,LockRaster,ByAttribute,Nadir,Viewpoint,Seamline,None</AvailableMosaicMethods>
<AvailableCompressionMethods Sync="TRUE">None,JPEG,LZ77,LERC</AvailableCompressionMethods>
<AvailableItemMetadataLevels Sync="TRUE">None,Basic,Full</AvailableItemMetadataLevels>
<BandDefinitionKeyword Sync="TRUE">NaturalColorRGBI</BandDefinitionKeyword>
<_docversion_ Sync="TRUE">9</_docversion_>
<AllowedFields Sync="TRUE">name,minps,maxps,lowps,highps,tag,groupname,productname,centerx,centery,zorder,year,title,capturestart,captureend,metalink,acq_driver,acq_driver_name,acq_platform,product_type,is_qldbase,info_sec_clas,is_public,is_latest,is_latest_public,res_class,res_type,res_value,res_unit,st_area(shape),st_perimeter(shape)</AllowedFields>
<ApplyColorCorrection Sync="TRUE">0</ApplyColorCorrection>
<MaxCellSize Sync="TRUE">156719.794534196</MaxCellSize>
<LowCellSize Sync="TRUE">5.03165396330243E-03</LowCellSize>
<HighCellSize Sync="TRUE">140694.632966543</HighCellSize>
<TimeValueFormat Sync="TRUE">
</TimeValueFormat>
<EndTimeFieldName Sync="TRUE">
</EndTimeFieldName>
<StartTimeFieldName Sync="TRUE">
</StartTimeFieldName>
<TimeIntervalUnits Sync="TRUE">
</TimeIntervalUnits>
<TimeInterval Sync="TRUE">
</TimeInterval>
<VerticalDimension Sync="TRUE">
</VerticalDimension>
<FlowDirection Sync="TRUE">
</FlowDirection>
<MosaicOperator Sync="TRUE">1</MosaicOperator>
<BlendWidthUnits Sync="TRUE">1</BlendWidthUnits>
<UseTime Sync="TRUE">0</UseTime>
<SortAscending Sync="TRUE">-1</SortAscending>
<ClipToFootprint Sync="TRUE">0</ClipToFootprint>
<ClipOverviewsToFootprint Sync="TRUE">0</ClipOverviewsToFootprint>
<SortField Sync="TRUE">ZOrder</SortField>
<SortValue Sync="TRUE">0</SortValue>
<TimeStamp.RemoveItems Sync="TRUE">44378.2723429977</TimeStamp.RemoveItems>
<TimeStamp.UpdateExtent Sync="TRUE">44378.2723547569</TimeStamp.UpdateExtent>
<ConfigKeyword Sync="TRUE">
</ConfigKeyword>
<AvailableFields Sync="TRUE">name,minps,maxps,lowps,highps,tag,groupname,productname,centerx,centery,zorder,year,title,capturestart,captureend,metalink,acq_driver,acq_driver_name,acq_platform,product_type,is_qldbase,is_qldtimeseries,info_sec_clas,info_sec_time,app,is_public,is_qgov,is_qsat,is_sisp_all,is_sispt1,is_sispt2a,is_sispt2b,is_sispt3,is_otherlicense,is_earliest,is_latest,is_latest_public,is_latest_restricted,is_wos,is_event,event_type,res_class,is_multispectral,is_active,exception,is_best,is_optical,is_natural_disaster,natural_disaster_type,is_clp,aoi,res_type,res_value,status,compliance_type,res_unit,st_area(shape),st_perimeter(shape)</AvailableFields>
<SortableFields Sync="TRUE">minps,maxps,lowps,highps,centerx,centery,zorder,year,capturestart,captureend,acq_driver,acq_platform,product_type,info_sec_clas,res_class,res_type,res_value,res_unit</SortableFields>
<HasDodgingTable Sync="TRUE">0</HasDodgingTable>
<UseRange Sync="TRUE">0</UseRange>
</Properties>
<Functions Sync="TRUE">
<Function Description="Performs on-the-fly mosaic on a raster catalog." Name="Mosaic Function">
</Function>
</Functions>
</RasterProperties>
</DataProperties>
<SyncDate>20251223</SyncDate>
<SyncTime>10075700</SyncTime>
<ModDate>20251223</ModDate>
<ModTime>10075700</ModTime>
<ArcGISProfile>ISO19139</ArcGISProfile>
</Esri>
<mdChar>
<CharSetCd value="004">
</CharSetCd>
</mdChar>
<mdHrLv>
<ScopeCd value="005">
</ScopeCd>
</mdHrLv>
<mdDateSt>20230112</mdDateSt>
<mdStanName>ArcGIS Metadata</mdStanName>
<mdStanVer>1.0</mdStanVer>
<dataIdInfo>
<idCitation>
<resTitle>Queensland Imagery: Aerial Ortho Time Series (All Users)</resTitle>
<presForm>
<PresFormCd value="005">
</PresFormCd>
</presForm>
<presForm>
<fgdcGeoform>remote-sensing image</fgdcGeoform>
</presForm>
</idCitation>
<idAbs>This service is designed to provide public access to the State Remotely Sensed
Image Library collection of aerial imagery captured under government projects
and programs that is not otherwise restricted under licencing or information
security classifications. Aerial imagery that is three years or older captured
under the Spatial Imagery Services Program (SISP) is made available for public
use openly by the Department of Resources, Queensland. The service is dynamic
and can be used to filter and display individual aerial photo projects. The
projects range from 2cm to 50cm resolution. Accuracy is dependent on the
individual projects. Periodical updates will be made to the service as new
projects are released to the public domain. Projects are visible at regional
scales of 1:250,000 or larger.The service also supports multi-band imagery and
for the projects attributed as ‘Ortho Aerial Photo Multispectral' in the
'product_type' field. A custom function is available for Colour InfraRed
(bands 4,1,2) to contrast or highlight vegetation against other land use
types. Alternatively, users can define other band combinations and stretch
types as required through the client.The aerial photos comprised in each of
the projects are orthorectified which removes the effects of image perspective
(tilt) and relief (terrain) effects for the purpose of creating a
planimetrically correct image. The resultant orthorectified images have a
constant scale wherein features are represented in their “true” positions.This
service supports projects captured in both GDA94 and GDA2020 datums. A Seven
parameter similarity transformation has been applied to new projects that have
been captured in GDA2020, this is to ensure that they align and display
correctly when published in the default WGS 1984 Web Mercator (Auxiliary
Sphere) projection alongside GDA94 projects.The ISO 19115 standard metadata
record for this service and further individual epoch mosaic product metadata
information is available from the Queensland Spatial Catalogue (QSpatial).If
you would like to receive updates for new projects, functionality or planned
downtime please subscribe here: http://ems.gs/3qln0iYbIYQ.
</idAbs>
<idPurp>A time series service (1930-2022) that displays imagery datasets captured by remotely piloted aircraft systems (drones) and piloted aircraft over areas of Queensland. More recent imagery can be purchased through the Spatial Imagery Services Program (SISP).</idPurp>
<idCredit>Includes material © State of Queensland (Department of Natural Resources and Mines, Manufacturing and Regional and Rural Development), 2026.</idCredit>
<themeKeys>
<keyword>Queensland</keyword>
<keyword>imagery</keyword>
<keyword>image</keyword>
<keyword>aerial</keyword>
<keyword>ortho</keyword>
<keyword>aerial photography</keyword>
<keyword>time series</keyword>
<keyword>service</keyword>
<keyword>public</keyword>
<keyword>Spatial Imagery Services Program</keyword>
<keyword>SISP</keyword>
</themeKeys>
<themeKeys>
<keyword>imageryBaseMapsEarthCover</keyword>
<thesaName>
<resTitle>ISO 19115 Topic Categories</resTitle>
</thesaName>
</themeKeys>
<searchKeys>
<keyword>Queensland</keyword>
<keyword>imagery</keyword>
<keyword>image</keyword>
<keyword>aerial</keyword>
<keyword>ortho</keyword>
<keyword>aerial photography</keyword>
<keyword>time series</keyword>
<keyword>service</keyword>
<keyword>public</keyword>
<keyword>Spatial Imagery Services Program</keyword>
<keyword>SISP</keyword>
<keyword>imageryBaseMapsEarthCover</keyword>
</searchKeys>
<resConst>
<Consts>
<useLimit>The use of this Image service and Imagery data contained within it are publicly available under Creative Commons Attribution licence (CC BY). In using this Web Service you agree to accept all responsibility and risks associated with the use of the supplied data. The Queensland Government makes no representations or warranties in relation to the supplied data, and, you agree that, to the extent permitted by law, all warranties relating to accuracy, reliability, completeness, currency or suitability for any particular purpose and all liability for any loss, damage or costs (including consequential damage) incurred in any way (including but not limited to that arising from negligence) in connection with any use of or reliance on the supplied data are excluded or limited. You agree to continually indemnify the State of Queensland (and their officers and employees) against any loss, cost, expense, damage and liability of any kind (including consequential damage and liability in negligence) arising directly or indirectly from or related to any claim relating to your use of the supplied data or any product made from the supplied data. Under end user licence obligations the attribution text shown in the 'Copyright Text' or ‘Credits (Attribution)’ fields must be included on any copies of the licensed data however they are altered, reformatted or redisplayed. The following acknowledgement must also be displayed on any hardcopy or digital products based on or containing the supplied data: “In consideration of the State of Queensland permitting use of this data you acknowledge and agree that the State gives no warranty in relation to the data (including accuracy, reliability, completeness, currency or suitability) and accepts no liability (including without limitation, liability in negligence) for any loss, damage or costs (including consequential damage) relating to any use of the data.”</useLimit>
</Consts>
</resConst>
<spatRpType>
<SpatRepTypCd value="002">
</SpatRepTypCd>
</spatRpType>
<tpCat>
<TopicCatCd value="010">
</TopicCatCd>
</tpCat>
<envirDesc> Version 6.2 (Build 9200) ; Esri ArcGIS 10.7.1.11595</envirDesc>
<dataExt>
<geoEle>
<GeoBndBox>
<exTypeCode>true</exTypeCode>
<westBL>137.144531</westBL>
<eastBL>155.127358</eastBL>
<northBL>-7.889754</northBL>
<southBL>-31.125796</southBL>
</GeoBndBox>
</geoEle>
</dataExt>
<dataLang>
<languageCode Sync="TRUE" value="eng">
</languageCode>
<countryCode Sync="TRUE" value="AUS">
</countryCode>
</dataLang>
<dataExt>
<geoEle>
<GeoBndBox esriExtentType="search">
<exTypeCode Sync="TRUE">1</exTypeCode>
<westBL Sync="TRUE">136.311955</westBL>
<eastBL Sync="TRUE">163.735853</eastBL>
<northBL Sync="TRUE">-7.958647</northBL>
<southBL Sync="TRUE">-30.720118</southBL>
</GeoBndBox>
</geoEle>
</dataExt>
</dataIdInfo>
<spatRepInfo>
<Georect>
<numDims>2</numDims>
<axisDimension type="001">
<dimSize>538121450</dimSize>
<dimResol>
<value Sync="TRUE" uom="m">0.005032</value>
</dimResol>
</axisDimension>
<axisDimension type="002">
<dimSize>606722317</dimSize>
<dimResol>
<value Sync="TRUE" uom="m">0.005032</value>
</dimResol>
</axisDimension>
<cellGeo>
<CellGeoCd Sync="TRUE" value="002">
</CellGeoCd>
</cellGeo>
<tranParaAv Sync="TRUE">1</tranParaAv>
<chkPtAv Sync="TRUE">0</chkPtAv>
<cornerPts>
<pos Sync="TRUE">15174177.434193 -3596454.182490</pos>
</cornerPts>
<cornerPts>
<pos Sync="TRUE">15174177.434193 -888815.388597</pos>
</cornerPts>
<cornerPts>
<pos Sync="TRUE">18226991.780526 -888815.388597</pos>
</cornerPts>
<cornerPts>
<pos Sync="TRUE">18226991.780526 -3596454.182490</pos>
</cornerPts>
<centerPt>
<pos Sync="TRUE">16700584.607360 -2242634.785544</pos>
</centerPt>
<ptInPixel>
<PixOrientCd Sync="TRUE" value="001">
</PixOrientCd>
</ptInPixel>
</Georect>
</spatRepInfo>
<mdLang>
<languageCode Sync="TRUE" value="eng">
</languageCode>
<countryCode Sync="TRUE" value="AUS">
</countryCode>
</mdLang>
<refSysInfo>
<RefSystem>
<refSysID>
<identCode Sync="TRUE" code="3857">
</identCode>
<idCodeSpace Sync="TRUE">EPSG</idCodeSpace>
<idVersion Sync="TRUE">6.18.3(9.3.1.2)</idVersion>
</refSysID>
</RefSystem>
</refSysInfo>
<contInfo>
<ImgDesc>
<contentTyp>
<ContentTypCd Sync="TRUE" value="001">
</ContentTypCd>
</contentTyp>
<covDim>
<Band>
<dimDescrp Sync="TRUE">Red</dimDescrp>
<bitsPerVal Sync="TRUE">8</bitsPerVal>
<valUnit>
<UOM type="length">
</UOM>
</valUnit>
</Band>
<Band>
<dimDescrp Sync="TRUE">Green</dimDescrp>
<bitsPerVal Sync="TRUE">8</bitsPerVal>
<valUnit>
<UOM type="length">
</UOM>
</valUnit>
</Band>
<Band>
<dimDescrp Sync="TRUE">Blue</dimDescrp>
<bitsPerVal Sync="TRUE">8</bitsPerVal>
<valUnit>
<UOM type="length">
</UOM>
</valUnit>
</Band>
<Band>
<dimDescrp Sync="TRUE">Infrared</dimDescrp>
<bitsPerVal Sync="TRUE">8</bitsPerVal>
<valUnit>
<UOM type="length">
</UOM>
</valUnit>
</Band>
</covDim>
</ImgDesc>
</contInfo>
</metadata>
