{
 "currentVersion": 11.5,
 "serviceDescription": "This service is designed to provide public access to the State Remotely Sensed\nImage Library collection of aerial imagery captured under government projects\nand programs that is not otherwise restricted under licencing or information\nsecurity classifications. Aerial imagery that is three years or older captured\nunder the Spatial Imagery Services Program (SISP) is made available for public\nuse openly by the Department of Resources, Queensland. The service is dynamic\nand can be used to filter and display individual aerial photo projects. The\nprojects range from 2cm to 50cm resolution. Accuracy is dependent on the\nindividual projects. Periodical updates will be made to the service as new\nprojects are released to the public domain. Projects are visible at regional\nscales of 1:250,000 or larger.The service also supports multi-band imagery and\nfor the projects attributed as \u2018Ortho Aerial Photo Multispectral' in the\n'product_type' field. A custom function is available for Colour InfraRed\n(bands 4,1,2) to contrast or highlight vegetation against other land use\ntypes. Alternatively, users can define other band combinations and stretch\ntypes as required through the client.The aerial photos comprised in each of\nthe projects are orthorectified which removes the effects of image perspective\n(tilt) and relief (terrain) effects for the purpose of creating a\nplanimetrically correct image. The resultant orthorectified images have a\nconstant scale wherein features are represented in their \u201ctrue\u201d positions.This\nservice supports projects captured in both GDA94 and GDA2020 datums. A Seven\nparameter similarity transformation has been applied to new projects that have\nbeen captured in GDA2020, this is to ensure that they align and display\ncorrectly when published in the default WGS 1984 Web Mercator (Auxiliary\nSphere) projection alongside GDA94 projects.The ISO 19115 standard metadata\nrecord for this service and further individual epoch mosaic product metadata\ninformation is available from the Queensland Spatial Catalogue (QSpatial).If\nyou would like to receive updates for new projects, functionality or planned\ndowntime please subscribe here: http://ems.gs/3qln0iYbIYQ.\n\n",
 "serviceItemId": "3235be13bf0d4c0e8da993b012bd4ef3",
 "name": "TimeSeries/AerialOrtho_AllUsers",
 "description": "This service is designed to provide public access to the State Remotely Sensed\nImage Library collection of aerial imagery captured under government projects\nand programs that is not otherwise restricted under licencing or information\nsecurity classifications. Aerial imagery that is three years or older captured\nunder the Spatial Imagery Services Program (SISP) is made available for public\nuse openly by the Department of Resources, Queensland. The service is dynamic\nand can be used to filter and display individual aerial photo projects. The\nprojects range from 2cm to 50cm resolution. Accuracy is dependent on the\nindividual projects. Periodical updates will be made to the service as new\nprojects are released to the public domain. Projects are visible at regional\nscales of 1:250,000 or larger.The service also supports multi-band imagery and\nfor the projects attributed as \u2018Ortho Aerial Photo Multispectral' in the\n'product_type' field. A custom function is available for Colour InfraRed\n(bands 4,1,2) to contrast or highlight vegetation against other land use\ntypes. Alternatively, users can define other band combinations and stretch\ntypes as required through the client.The aerial photos comprised in each of\nthe projects are orthorectified which removes the effects of image perspective\n(tilt) and relief (terrain) effects for the purpose of creating a\nplanimetrically correct image. The resultant orthorectified images have a\nconstant scale wherein features are represented in their \u201ctrue\u201d positions.This\nservice supports projects captured in both GDA94 and GDA2020 datums. A Seven\nparameter similarity transformation has been applied to new projects that have\nbeen captured in GDA2020, this is to ensure that they align and display\ncorrectly when published in the default WGS 1984 Web Mercator (Auxiliary\nSphere) projection alongside GDA94 projects.The ISO 19115 standard metadata\nrecord for this service and further individual epoch mosaic product metadata\ninformation is available from the Queensland Spatial Catalogue (QSpatial).If\nyou would like to receive updates for new projects, functionality or planned\ndowntime please subscribe here: http://ems.gs/3qln0iYbIYQ.\n\n",
 "extent": {
  "xmin": 1.5174177434193352E7,
  "ymin": -3596454.182489898,
  "xmax": 1.8226991780526403E7,
  "ymax": -888815.388597398,
  "spatialReference": {
   "wkid": 102100,
   "latestWkid": 3857
  }
 },
 "initialExtent": {
  "xmin": 1.5174177434193352E7,
  "ymin": -3596454.182489898,
  "xmax": 1.8226991780526403E7,
  "ymax": -888815.388597398,
  "spatialReference": {
   "wkid": 102100,
   "latestWkid": 3857
  }
 },
 "fullExtent": {
  "xmin": 1.5174177434193352E7,
  "ymin": -3596454.182489898,
  "xmax": 1.8226991780526403E7,
  "ymax": -888815.388597398,
  "spatialReference": {
   "wkid": 102100,
   "latestWkid": 3857
  }
 },
 "sortableFields": "",
 "bandCount": 4,
 "pixelType": "U8",
 "minValues": [],
 "maxValues": [],
 "meanValues": [],
 "stdvValues": [],
 "serviceProperties": "ByAttribute<\/MosaicMethod>First<\/MosaicOperator>true<\/SortAscending><\/LockImageID>ZOrder<\/TileOrderField>0<\/TileOrderBase>600.000000<\/AvgImageSpacingX>300.000000<\/AvgImageSpacingY>0.0<\/ViewPointX>0.0<\/ViewPointY>0.0<\/ViewPointDefShiftX>0.0<\/ViewPointDefShiftY>JPEG<\/CompressionMethod>80<\/CompressionQuality>0.010000<\/CompressionTolerance>Bilinear<\/SamplingMethod><\/ImageServiceProperties><\/ImageServer>",
 "allowedFields": "name,minps,maxps,lowps,highps,tag,groupname,productname,centerx,centery,zorder,year,title,capturestart,captureend,metalink,acq_driver,acq_driver_name,acq_platform,product_type,is_qldbase,info_sec_clas,is_public,is_latest,is_latest_public,res_class,res_type,res_value,res_unit,st_area(shape),st_perimeter(shape)",
 "hasMultidimensions": false,
 "pixelSizeX": 0.005031650000000002,
 "pixelSizeY": 0.00503165,
 "meanPixelSize": 0.005031650000000001,
 "datasetFormat": "AMD",
 "uncompressedSize": 1305961171885598600,
 "blockWidth": 2048,
 "blockHeight": 256,
 "compressionType": "None",
 "bandNames": [
  "Red",
  "Green",
  "Blue",
  "Infrared"
 ],
 "allowCopy": true,
 "allowAnalysis": true,
 "itemAccess": false,
 "inspectionCapabilities": "",
 "minPixelSize": 0,
 "maxPixelSize": 0,
 "copyrightText": "Includes material © State of Queensland (Department of Natural Resources and Mines, Manufacturing and Regional and Rural Development), 2026.",
 "serviceDataType": "esriImageServiceDataTypeGeneric",
 "serviceSourceType": "esriImageServiceSourceTypeMosaicDataset",
 "objectIdField": "objectid",
 "fields": [
  {
   "name": "objectid",
   "type": "esriFieldTypeOID",
   "alias": "OBJECTID",
   "domain": null
  },
  {
   "name": "name",
   "type": "esriFieldTypeString",
   "alias": "Name",
   "domain": null,
   "length": 200
  },
  {
   "name": "minps",
   "type": "esriFieldTypeDouble",
   "alias": "MinPS",
   "domain": null
  },
  {
   "name": "maxps",
   "type": "esriFieldTypeDouble",
   "alias": "MaxPS",
   "domain": null
  },
  {
   "name": "lowps",
   "type": "esriFieldTypeDouble",
   "alias": "LowPS",
   "domain": null
  },
  {
   "name": "highps",
   "type": "esriFieldTypeDouble",
   "alias": "HighPS",
   "domain": null
  },
  {
   "name": "category",
   "type": "esriFieldTypeInteger",
   "alias": "Category",
   "domain": {
    "type": "codedValue",
    "name": "MosaicCatalogItemCategoryDomain",
    "description": "Catalog item categories.",
    "codedValues": [
     {
      "name": "Unknown",
      "code": 0
     },
     {
      "name": "Primary",
      "code": 1
     },
     {
      "name": "Overview",
      "code": 2
     },
     {
      "name": "Unprocessed Overview",
      "code": 3
     },
     {
      "name": "Partial Overview",
      "code": 4
     },
     {
      "name": "Inactive",
      "code": 5
     },
     {
      "name": "Uploaded",
      "code": 253
     },
     {
      "name": "Incomplete",
      "code": 254
     },
     {
      "name": "Custom",
      "code": 255
     }
    ],
    "mergePolicy": "esriMPTDefaultValue",
    "splitPolicy": "esriSPTDefaultValue"
   }
  },
  {
   "name": "tag",
   "type": "esriFieldTypeString",
   "alias": "Tag",
   "domain": null,
   "length": 100
  },
  {
   "name": "groupname",
   "type": "esriFieldTypeString",
   "alias": "GroupName",
   "domain": null,
   "length": 100
  },
  {
   "name": "productname",
   "type": "esriFieldTypeString",
   "alias": "ProductName",
   "domain": null,
   "length": 100
  },
  {
   "name": "centerx",
   "type": "esriFieldTypeDouble",
   "alias": "CenterX",
   "domain": null
  },
  {
   "name": "centery",
   "type": "esriFieldTypeDouble",
   "alias": "CenterY",
   "domain": null
  },
  {
   "name": "zorder",
   "type": "esriFieldTypeInteger",
   "alias": "ZOrder",
   "domain": null
  },
  {
   "name": "year",
   "type": "esriFieldTypeSmallInteger",
   "alias": "YEAR",
   "domain": null
  },
  {
   "name": "title",
   "type": "esriFieldTypeString",
   "alias": "TITLE",
   "domain": null,
   "length": 100
  },
  {
   "name": "capturestart",
   "type": "esriFieldTypeDate",
   "alias": "CAPTURE_DATE_START",
   "domain": null,
   "length": 8
  },
  {
   "name": "captureend",
   "type": "esriFieldTypeDate",
   "alias": "CAPTURE_END_DATE",
   "domain": null,
   "length": 8
  },
  {
   "name": "metalink",
   "type": "esriFieldTypeString",
   "alias": "METADATA_LINK",
   "domain": null,
   "length": 300
  },
  {
   "name": "acq_driver",
   "type": "esriFieldTypeSmallInteger",
   "alias": "ACQUISITION_DRIVER",
   "domain": {
    "type": "codedValue",
    "name": "ACQ_DRIVER",
    "description": "Acquisition Driver ",
    "codedValues": [
     {
      "name": "Program",
      "code": 1
     },
     {
      "name": "Project",
      "code": 2
     },
     {
      "name": "Natural Disaster",
      "code": 3
     },
     {
      "name": "Event",
      "code": 4
     },
     {
      "name": "Incident",
      "code": 5
     },
     {
      "name": "Compliance",
      "code": 6
     }
    ],
    "mergePolicy": "esriMPTDefaultValue",
    "splitPolicy": "esriSPTDefaultValue"
   }
  },
  {
   "name": "acq_driver_name",
   "type": "esriFieldTypeString",
   "alias": "ACQUISITION_DRIVER_NAME",
   "domain": null,
   "length": 50
  },
  {
   "name": "acq_platform",
   "type": "esriFieldTypeSmallInteger",
   "alias": "ACQ_PLATFORM",
   "domain": {
    "type": "codedValue",
    "name": "ACQ_PLATFORM",
    "description": "Acquisition Platform",
    "codedValues": [
     {
      "name": "Satellite",
      "code": 2
     },
     {
      "name": "Drone",
      "code": 3
     },
     {
      "name": "Terrestrial",
      "code": 4
     },
     {
      "name": "Helicopter",
      "code": 5
     },
     {
      "name": "Aeroplane",
      "code": 1
     },
     {
      "name": "Multiple Platforms",
      "code": 6
     }
    ],
    "mergePolicy": "esriMPTDefaultValue",
    "splitPolicy": "esriSPTDefaultValue"
   }
  },
  {
   "name": "product_type",
   "type": "esriFieldTypeSmallInteger",
   "alias": "PRODUCT_TYPE",
   "domain": {
    "type": "codedValue",
    "name": "PRODUCT_TYPE",
    "description": "Type of source data used to produce the end product",
    "codedValues": [
     {
      "name": "Satellite RGB",
      "code": 1
     },
     {
      "name": "Satellite Multispectral",
      "code": 2
     },
     {
      "name": "Ortho Aerial Photo RGB",
      "code": 3
     },
     {
      "name": "Ortho Aerial Photo Multispectral",
      "code": 4
     },
     {
      "name": "Historical Aerial Photo Black and White",
      "code": 5
     },
     {
      "name": "Historical Aerial Photo RGB",
      "code": 6
     },
     {
      "name": "Digital Elevation Model",
      "code": 8
     },
     {
      "name": "Digital Surface Model",
      "code": 9
     },
     {
      "name": "Historical Aerial Photo Infrared",
      "code": 7
     },
     {
      "name": "3D Point cloud",
      "code": 11
     },
     {
      "name": "3D Mesh",
      "code": 12
     },
     {
      "name": "SAR",
      "code": 14
     },
     {
      "name": "Satellite Composite",
      "code": 15
     },
     {
      "name": "Ortho True",
      "code": 16
     },
     {
      "name": "Canopy Height Model",
      "code": 17
     },
     {
      "name": "3D Vector",
      "code": 18
     },
     {
      "name": "Bathymetry",
      "code": 19
     },
     {
      "name": "Digital Terrain Model",
      "code": 13
     },
     {
      "name": "Hillshade",
      "code": 20
     },
     {
      "name": "Difference from Mean Elevation",
      "code": 21
     },
     {
      "name": "Slope",
      "code": 22
     },
     {
      "name": "Classified Flow Accumulation",
      "code": 23
     },
     {
      "name": "Stream and Gully Depth",
      "code": 24
     },
     {
      "name": "Building and Settlement",
      "code": 25
     }
    ],
    "mergePolicy": "esriMPTDefaultValue",
    "splitPolicy": "esriSPTDefaultValue"
   }
  },
  {
   "name": "is_qldbase",
   "type": "esriFieldTypeSmallInteger",
   "alias": "BASEMAP",
   "domain": {
    "type": "codedValue",
    "name": "IS_QLDBASE",
    "description": "Is a basemap",
    "codedValues": [
     {
      "name": "Basemap",
      "code": 1
     }
    ],
    "mergePolicy": "esriMPTDefaultValue",
    "splitPolicy": "esriSPTDefaultValue"
   }
  },
  {
   "name": "info_sec_clas",
   "type": "esriFieldTypeSmallInteger",
   "alias": "INFORMATION_SECURITY_CLASS",
   "domain": {
    "type": "codedValue",
    "name": "INFO_SEC_CLAS",
    "description": "Information Security Constraints Classificaton Code",
    "codedValues": [
     {
      "name": "Public",
      "code": 1
     },
     {
      "name": "Official",
      "code": 2
     },
     {
      "name": "Sensitive",
      "code": 3
     },
     {
      "name": "Protected",
      "code": 4
     }
    ],
    "mergePolicy": "esriMPTDefaultValue",
    "splitPolicy": "esriSPTDefaultValue"
   }
  },
  {
   "name": "is_public",
   "type": "esriFieldTypeSmallInteger",
   "alias": "IS_PUBLIC",
   "domain": {
    "type": "codedValue",
    "name": "IS_PUBLIC",
    "description": "Is for all users",
    "codedValues": [
     {
      "name": "Public",
      "code": 1
     }
    ],
    "mergePolicy": "esriMPTDefaultValue",
    "splitPolicy": "esriSPTDefaultValue"
   }
  },
  {
   "name": "is_latest",
   "type": "esriFieldTypeSmallInteger",
   "alias": "IS_LATEST",
   "domain": {
    "type": "codedValue",
    "name": "IS_LATEST",
    "description": "Is latest imagery, photo etc.",
    "codedValues": [
     {
      "name": "Latest",
      "code": 1
     },
     {
      "name": "First",
      "code": 2
     },
     {
      "name": "Before",
      "code": 3
     }
    ],
    "mergePolicy": "esriMPTDefaultValue",
    "splitPolicy": "esriSPTDefaultValue"
   }
  },
  {
   "name": "is_latest_public",
   "type": "esriFieldTypeSmallInteger",
   "alias": "IS_LATEST_PUBLIC",
   "domain": {
    "type": "codedValue",
    "name": "IS_LATEST_PUBLIC",
    "description": "Is latest public imagery",
    "codedValues": [
     {
      "name": "Latest public",
      "code": 1
     }
    ],
    "mergePolicy": "esriMPTDefaultValue",
    "splitPolicy": "esriSPTDefaultValue"
   }
  },
  {
   "name": "res_class",
   "type": "esriFieldTypeSmallInteger",
   "alias": "RESOLUTION_CLASS",
   "domain": {
    "type": "codedValue",
    "name": "RES_CLASS",
    "description": "Imagery resolution class in centimeters",
    "codedValues": [
     {
      "name": "High resolution",
      "code": 1
     },
     {
      "name": "All other resolutions",
      "code": 2
     }
    ],
    "mergePolicy": "esriMPTDefaultValue",
    "splitPolicy": "esriSPTDefaultValue"
   }
  },
  {
   "name": "res_type",
   "type": "esriFieldTypeSmallInteger",
   "alias": "RESOLUTION_TYPE",
   "domain": {
    "type": "codedValue",
    "name": "RES_TYPE",
    "description": "Resolution type",
    "codedValues": [
     {
      "name": "Point Density",
      "code": 2
     },
     {
      "name": "Ground Surface Distance",
      "code": 1
     },
     {
      "name": "Height",
      "code": 3
     },
     {
      "name": "Depth",
      "code": 4
     },
     {
      "name": "Angle",
      "code": 5
     }
    ],
    "mergePolicy": "esriMPTDefaultValue",
    "splitPolicy": "esriSPTDefaultValue"
   }
  },
  {
   "name": "res_value",
   "type": "esriFieldTypeDouble",
   "alias": "RESOLUTION_VALUE",
   "domain": null
  },
  {
   "name": "res_unit",
   "type": "esriFieldTypeSmallInteger",
   "alias": "RES_UNIT",
   "domain": {
    "type": "codedValue",
    "name": "RES_UNIT",
    "description": "Resolution unit",
    "codedValues": [
     {
      "name": "mm",
      "code": 1
     },
     {
      "name": "cm",
      "code": 2
     },
     {
      "name": "m",
      "code": 3
     },
     {
      "name": "second",
      "code": 4
     }
    ],
    "mergePolicy": "esriMPTDefaultValue",
    "splitPolicy": "esriSPTDefaultValue"
   }
  },
  {
   "name": "shape",
   "type": "esriFieldTypeGeometry",
   "alias": "Shape",
   "domain": null
  },
  {
   "name": "st_area(shape)",
   "type": "esriFieldTypeDouble",
   "alias": "st_area(shape)",
   "domain": null
  },
  {
   "name": "st_perimeter(shape)",
   "type": "esriFieldTypeDouble",
   "alias": "st_perimeter(shape)",
   "domain": null
  }
 ],
 "capabilities": "Catalog,Mensuration,Image,Metadata",
 "defaultMosaicMethod": "ByAttribute",
 "allowedMosaicMethods": "ByAttribute,NorthWest,Center,LockRaster,Nadir,Viewpoint,Seamline,None",
 "sortField": "ZOrder",
 "sortValue": "0",
 "sortAscending": true,
 "mosaicOperator": "First",
 "maxDownloadSizeLimit": 2048,
 "defaultCompressionQuality": 80,
 "defaultResamplingMethod": "Bilinear",
 "maxImageHeight": 2048,
 "maxImageWidth": 4096,
 "maxRecordCount": 1000,
 "maxDownloadImageCount": 20,
 "maxMosaicImageCount": 40,
 "allowRasterFunction": true,
 "rasterFunctionInfos": [
  {
   "name": "None",
   "description": "A No-Op Function.",
   "help": ""
  },
  {
   "name": "ColourInfraRed_412",
   "description": "A raster function template to display 4 band RGBI imagery with a Colour InfraRed band combination. Bands: 4(Near Infrared) 1(Red) and 2(Green)",
   "help": ""
  },
  {
   "name": "None",
   "description": "A No-Op Function.",
   "help": ""
  }
 ],
 "rasterTypeInfos": [
  {
   "name": "Raster Dataset",
   "description": "Supports all ArcGIS Raster Datasets",
   "help": ""
  }
 ],
 "mensurationCapabilities": "Basic",
 "hasHistograms": false,
 "hasColormap": false,
 "hasRasterAttributeTable": false,
 "minScale": 0,
 "maxScale": 0,
 "exportTilesAllowed": false,
 "supportsStatistics": true,
 "supportsAdvancedQueries": true,
 "editFieldsInfo": null,
 "ownershipBasedAccessControlForRasters": null,
 "allowComputeTiePoints": false,
 "useStandardizedQueries": true,
 "advancedQueryCapabilities": {
  "useStandardizedQueries": true,
  "supportsStatistics": true,
  "supportsOrderBy": true,
  "supportsDistinct": true,
  "supportsPagination": true
 },
 "spatialReference": {
  "wkid": 102100,
  "latestWkid": 3857
 },
 "resampling": false
}
