<?xml version="1.0" encoding="UTF-8" standalone="no"?>
<metadata xml:lang="en">
<Esri>
<CreaDate>20220801</CreaDate>
<CreaTime>07301400</CreaTime>
<ArcGISFormat>1.0</ArcGISFormat>
<ArcGISstyle>ISO 19139 Metadata Implementation Specification</ArcGISstyle>
<SyncOnce>FALSE</SyncOnce>
<DataProperties>
<lineage>
<Process Date="20220801" Name="" Time="073014" ToolSource="c:\program files (x86)\arcgis\desktop10.7\ArcToolbox\Toolboxes\Data Management Tools.tbx\CreateReferencedMosaicDataset" export="">CreateReferencedMosaicDataset "Database Connections\img@rds-rte.dnrm.esriaustraliaonline.com.au.sde\sirimg.img.NaturalDisaster_Analytic_AllUsers_20220208c" "Database Connections\img@rds-rte.dnrm.esriaustraliaonline.com.au.sde\NaturalDisaster_Analytic_AllUsersR2" "PROJCS['WGS_1984_Web_Mercator_Auxiliary_Sphere',GEOGCS['GCS_WGS_1984',DATUM['D_WGS_1984',SPHEROID['WGS_1984',6378137.0,298.257223563]],PRIMEM['Greenwich',0.0],UNIT['Degree',0.0174532925199433]],PROJECTION['Mercator_Auxiliary_Sphere'],PARAMETER['False_Easting',0.0],PARAMETER['False_Northing',0.0],PARAMETER['Central_Meridian',0.0],PARAMETER['Standard_Parallel_1',0.0],PARAMETER['Auxiliary_Sphere_Type',0.0],UNIT['Meter',1.0]];-20037700 -30241100 10000;-100000 10000;-100000 10000;0.001;0.001;0.001;IsHighPrecision" # # "is_active = 1" # # SELECT_USING_FEATURES maxps # # # BUILD_BOUNDARY</Process>
<Process Date="20220801" Name="" Time="075005" ToolSource="c:\program files (x86)\arcgis\desktop10.7\ArcToolbox\Toolboxes\Data Management Tools.tbx\RepairMosaicDatasetPaths" export="">RepairMosaicDatasetPaths "Database Connections\img@rds-rte.dnrm.esriaustraliaonline.com.au.sde\sirimg.img.NaturalDisaster_Analytic_AllUsersR" "# C:\Users\imgmgt\AppData\Roaming\Esri\Desktop10.7\ArcCatalog\img@rds-rte.dnrm.esriaustraliaonline.com.au.sde\sirimg.img.NaturalDisaster_Analytic_AllUsers_20220208c C:\Users\imgmgt\AppData\Roaming\Esri\Desktop10.7\ArcCatalog\img@rds-rte.dnrm.esriaustraliaonline.com.au.sde\sirimg.img.NaturalDisaster_Analytic_AllUsers_20220208b_1" #</Process>
<Process Date="20220801" Name="" Time="075956" ToolSource="c:\program files (x86)\arcgis\desktop10.7\ArcToolbox\Toolboxes\Data Management Tools.tbx\RepairMosaicDatasetPaths" export="">RepairMosaicDatasetPaths "Database Connections\img@rds-rte.dnrm.esriaustraliaonline.com.au.sde\sirimg.img.NaturalDisaster_Analytic_AllUsersR" "# C:\Users\imgmgt\AppData\Roaming\ESRI\Desktop10.7\ArcCatalog\img@rds-rte.dnrm.esriaustraliaonline.com.au.sde\sirimg.img.NaturalDisaster_Analytic_AllUsers_20220208b_1 C:\Users\imgmgt\AppData\Roaming\ESRI\Desktop10.7\ArcCatalog\img@rds-rte.dnrm.esriaustraliaonline.com.au.sde\sirimg.img.NaturalDisaster_Analytic_AllUsers_20220208c_1" #</Process>
<Process Date="20220801" Name="" Time="080854" ToolSource="c:\program files (x86)\arcgis\desktop10.7\ArcToolbox\Toolboxes\Data Management Tools.tbx\RepairMosaicDatasetPaths" export="">RepairMosaicDatasetPaths "Database Connections\img@rds-rte.dnrm.esriaustraliaonline.com.au.sde\sirimg.img.NaturalDisaster_Analytic_AllUsersR" "# C:\Users\imgmgt\AppData\Roaming\Esri\Desktop10.7\ArcCatalog\img_vw_auth@rds-rte.dnrm.esriaustraliaonline.com.au.sde\sirimg.img.NaturalDisaster_Analytic_AllUsers_20220208c_1 C:\Users\imgmgt\AppData\Roaming\Esri\Desktop10.7\ArcCatalog\img@rds-rte.dnrm.esriaustraliaonline.com.au.sde\sirimg.img.NaturalDisaster_Analytic_AllUsers_20220208c_1" #</Process>
<Process Date="20220803" Name="" Time="131025" ToolSource="c:\program files\arcgis\pro\Resources\ArcToolbox\toolboxes\Data Management Tools.tbx\ChangePrivileges" export="">ChangePrivileges 'C:\Users\dataload\Desktop\SIRRTE-SIRIMG (Prod) [IMG].sde\sirimg.img.NaturalDisaster_Analytic_AllUsersR' img_viewer "Revoke view privileges" "Revoke edit privileges"</Process>
<Process Date="20220803" Name="" Time="131113" ToolSource="c:\program files\arcgis\pro\Resources\ArcToolbox\toolboxes\Data Management Tools.tbx\ChangePrivileges" export="">ChangePrivileges 'C:\Users\dataload\Desktop\SIRRTE-SIRIMG (Prod) [IMG].sde\sirimg.img.NaturalDisaster_Analytic_AllUsersR' img_vw_auth "Revoke view privileges" "Revoke edit privileges"</Process>
<Process Date="20220803" Name="" Time="131148" ToolSource="c:\program files\arcgis\pro\Resources\ArcToolbox\toolboxes\Data Management Tools.tbx\ChangePrivileges" export="">ChangePrivileges 'C:\Users\dataload\Desktop\SIRRTE-SIRIMG (Prod) [IMG].sde\sirimg.img.NaturalDisaster_Analytic_AllUsersR' img_viewer "Grant view privileges" "Do not change edit privileges"</Process>
</lineage>
<itemProps>
<itemName Sync="TRUE">sirimg.img.NaturalDisaster_Analytic_AllUsersR2</itemName>
<itemLocation>
<linkage Sync="TRUE">Server=rds-rte.dnrm.esriaustraliaonline.com.au; Service=sde:postgresql:rds-rte.dnrm.esriaustraliaonline.com.au; Database=sirimg; User=img; Version=sde.DEFAULT</linkage>
<protocol Sync="TRUE">ArcSDE Connection</protocol>
</itemLocation>
<nativeExtBox>
<westBL Sync="TRUE">15357057.758744</westBL>
<eastBL Sync="TRUE">16481473.077445</eastBL>
<southBL Sync="TRUE">-3037558.209178</southBL>
<northBL Sync="TRUE">-1835939.807839</northBL>
<exTypeCode Sync="TRUE">1</exTypeCode>
</nativeExtBox>
</itemProps>
<coordRef>
<type Sync="TRUE">Projected</type>
<geogcsn Sync="TRUE">GCS_WGS_1984</geogcsn>
<csUnits Sync="TRUE">Linear Unit: Meter (1.000000)</csUnits>
<projcsn Sync="TRUE">WGS_1984_Web_Mercator_Auxiliary_Sphere</projcsn>
<peXml Sync="TRUE">&lt;ProjectedCoordinateSystem xsi:type='typens:ProjectedCoordinateSystem' xmlns:xsi='http://www.w3.org/2001/XMLSchema-instance' xmlns:xs='http://www.w3.org/2001/XMLSchema' xmlns:typens='http://www.esri.com/schemas/ArcGIS/10.7'&gt;&lt;WKT&gt;PROJCS[&amp;quot;WGS_1984_Web_Mercator_Auxiliary_Sphere&amp;quot;,GEOGCS[&amp;quot;GCS_WGS_1984&amp;quot;,DATUM[&amp;quot;D_WGS_1984&amp;quot;,SPHEROID[&amp;quot;WGS_1984&amp;quot;,6378137.0,298.257223563]],PRIMEM[&amp;quot;Greenwich&amp;quot;,0.0],UNIT[&amp;quot;Degree&amp;quot;,0.0174532925199433]],PROJECTION[&amp;quot;Mercator_Auxiliary_Sphere&amp;quot;],PARAMETER[&amp;quot;False_Easting&amp;quot;,0.0],PARAMETER[&amp;quot;False_Northing&amp;quot;,0.0],PARAMETER[&amp;quot;Central_Meridian&amp;quot;,0.0],PARAMETER[&amp;quot;Standard_Parallel_1&amp;quot;,0.0],PARAMETER[&amp;quot;Auxiliary_Sphere_Type&amp;quot;,0.0],UNIT[&amp;quot;Meter&amp;quot;,1.0],AUTHORITY[&amp;quot;EPSG&amp;quot;,3857]]&lt;/WKT&gt;&lt;XOrigin&gt;-20037700&lt;/XOrigin&gt;&lt;YOrigin&gt;-30241100&lt;/YOrigin&gt;&lt;XYScale&gt;148923141.92838538&lt;/XYScale&gt;&lt;ZOrigin&gt;-100000&lt;/ZOrigin&gt;&lt;ZScale&gt;10000&lt;/ZScale&gt;&lt;MOrigin&gt;-100000&lt;/MOrigin&gt;&lt;MScale&gt;10000&lt;/MScale&gt;&lt;XYTolerance&gt;0.001&lt;/XYTolerance&gt;&lt;ZTolerance&gt;0.001&lt;/ZTolerance&gt;&lt;MTolerance&gt;0.001&lt;/MTolerance&gt;&lt;HighPrecision&gt;true&lt;/HighPrecision&gt;&lt;WKID&gt;102100&lt;/WKID&gt;&lt;LatestWKID&gt;3857&lt;/LatestWKID&gt;&lt;/ProjectedCoordinateSystem&gt;</peXml>
</coordRef>
<RasterProperties>
<General>
<PixelDepth Sync="TRUE">16</PixelDepth>
<HasColormap Sync="TRUE">FALSE</HasColormap>
<CompressionType Sync="TRUE">None</CompressionType>
<NumBands Sync="TRUE">4</NumBands>
<Format Sync="TRUE">AMD</Format>
<HasPyramids Sync="TRUE">TRUE</HasPyramids>
<SourceType Sync="TRUE">continuous</SourceType>
<PixelType Sync="TRUE">unsigned integer</PixelType>
<NoDataValue Sync="TRUE"/>
</General>
<Properties>
<MaxImageHeight Sync="TRUE">4100</MaxImageHeight>
<MaxImageWidth Sync="TRUE">15000</MaxImageWidth>
<MaxRecordCount Sync="TRUE">1000</MaxRecordCount>
<MaxDownloadImageCount Sync="TRUE">20</MaxDownloadImageCount>
<MaxDownloadSizeLimit Sync="TRUE">2048</MaxDownloadSizeLimit>
<MaxMosaicImageCount Sync="TRUE">20</MaxMosaicImageCount>
<DefaultCompressionQuality Sync="TRUE">75</DefaultCompressionQuality>
<DefaultCompressionTolerance Sync="TRUE">0.01</DefaultCompressionTolerance>
<BlendWidth Sync="TRUE">10</BlendWidth>
<ViewpointSpacingX Sync="TRUE">600</ViewpointSpacingX>
<ViewpointSpacingY Sync="TRUE">300</ViewpointSpacingY>
<AllowedItemMetadata Sync="TRUE">Basic</AllowedItemMetadata>
<DefaultResamplingMethod Sync="TRUE">1</DefaultResamplingMethod>
<AllowedMosaicMethods Sync="TRUE">ByAttribute,NorthWest,Center,LockRaster,Nadir,Viewpoint,Seamline,None</AllowedMosaicMethods>
<AllowedCompressions Sync="TRUE">JPEG,LZ77,LERC</AllowedCompressions>
<AllowedMensurationCapabilities Sync="TRUE">Basic</AllowedMensurationCapabilities>
<AvailableMensurationCapabilities Sync="TRUE">None,Basic,Base-Top Height,Top-Top Shadow Height,Base-Top Shadow Height,3D</AvailableMensurationCapabilities>
<ClipToBoundary Sync="TRUE">-1</ClipToBoundary>
<FootprintMayContainNoData Sync="TRUE">-1</FootprintMayContainNoData>
<CellSizeTolerance Sync="TRUE">0.8</CellSizeTolerance>
<MinimumPixelContribution Sync="TRUE">1</MinimumPixelContribution>
<AvailableMosaicMethods Sync="TRUE">NorthWest,Center,LockRaster,ByAttribute,Nadir,Viewpoint,Seamline,None</AvailableMosaicMethods>
<AvailableCompressionMethods Sync="TRUE">None,JPEG,LZ77,LERC</AvailableCompressionMethods>
<AvailableItemMetadataLevels Sync="TRUE">None,Basic,Full</AvailableItemMetadataLevels>
<BandDefinitionKeyword Sync="TRUE">NONE</BandDefinitionKeyword>
<AllowedFields Sync="TRUE">name,minps,maxps,lowps,highps,tag,groupname,productname,centerx,centery,zorder,year,title,capturestart,captureend,metalink,acq_driver,acq_driver_name,acq_platform,product_type,info_sec_clas,is_latest,res_class,res_value,natural_distaster_type,aoi,res_type,status,res_unit,st_area(shape),st_perimeter(shape)</AllowedFields>
<ApplyColorCorrection Sync="TRUE">0</ApplyColorCorrection>
<LowCellSize Sync="TRUE">3</LowCellSize>
<HighCellSize Sync="TRUE">432</HighCellSize>
<MaxCellSize Sync="TRUE">4320</MaxCellSize>
<TimeStamp.RemoveItems Sync="TRUE">44600.2211957755</TimeStamp.RemoveItems>
<TimeStamp.UpdateExtent Sync="TRUE">44600.2211966435</TimeStamp.UpdateExtent>
<ClipToFootprint Sync="TRUE">0</ClipToFootprint>
<_docversion_ Sync="TRUE">10</_docversion_>
<TimeValueFormat Sync="TRUE"/>
<EndTimeFieldName Sync="TRUE"/>
<StartTimeFieldName Sync="TRUE"/>
<TimeIntervalUnits Sync="TRUE"/>
<TimeInterval Sync="TRUE"/>
<VerticalDimension Sync="TRUE"/>
<FlowDirection Sync="TRUE"/>
<MosaicOperator Sync="TRUE">1</MosaicOperator>
<BlendWidthUnits Sync="TRUE">1</BlendWidthUnits>
<UseTime Sync="TRUE">0</UseTime>
<SortAscending Sync="TRUE">-1</SortAscending>
<ClipOverviewsToFootprint Sync="TRUE">0</ClipOverviewsToFootprint>
<SortField Sync="TRUE">ZOrder</SortField>
<SortValue Sync="TRUE">0</SortValue>
<ConfigKeyword Sync="TRUE"/>
</Properties>
<Functions Sync="TRUE">
<Function Description="Performs on-the-fly mosaic on a raster catalog." Name="Mosaic Function"/>
</Functions>
</RasterProperties>
</DataProperties>
<SyncDate>20220801</SyncDate>
<SyncTime>07332900</SyncTime>
<ModDate>20230215</ModDate>
<ModTime>12072900</ModTime>
<scaleRange>
<minScale>150000000</minScale>
<maxScale>5000</maxScale>
</scaleRange>
<ArcGISProfile>ItemDescription</ArcGISProfile>
</Esri>
<dataIdInfo>
<envirDesc Sync="TRUE"> Version 6.2 (Build 9200) ; Esri ArcGIS 10.7.1.11595</envirDesc>
<dataLang>
<languageCode Sync="TRUE" value="eng"/>
<countryCode Sync="TRUE" value="USA"/>
</dataLang>
<idCitation>
<resTitle Sync="FALSE">Queensland Imagery: Natural Disaster Analytical Time Series (All Users)</resTitle>
<presForm>
<PresFormCd Sync="TRUE" value="005"/>
</presForm>
</idCitation>
<spatRpType>
<SpatRepTypCd Sync="TRUE" value="002"/>
</spatRpType>
<dataExt>
<geoEle>
<GeoBndBox esriExtentType="search">
<exTypeCode Sync="TRUE">1</exTypeCode>
<westBL Sync="TRUE">137.954797</westBL>
<eastBL Sync="TRUE">148.055592</eastBL>
<northBL Sync="TRUE">-16.269381</northBL>
<southBL Sync="TRUE">-26.310254</southBL>
</GeoBndBox>
</geoEle>
</dataExt>
<idPurp>A time series service (commencing 2019) that displays 16-bit spatial imagery over Queensland areas affected by natural disasters.</idPurp>
<idAbs>This service is designed to provide access to the state Remotely Sensed Image
Library collection of publicly available natural disaster multispectral
imagery over Queensland captured from satellite, manned aircraft, or remotely
piloted (drone) platforms.
Natural disaster events include flood, bushfire, earthquake, tropical cyclone,
storm, tornado, storm surge, landslide, tsunami, volcanic activity, meteorite
strike, or other significant weather occurrences.
This service displays multispectral imagery (analytic imagery) over areas
affected by the natural disasters in the visible (red, green, blue), near-
infrared, and mid-infrared regions of the electromagnetic spectrum. The
original images are reprocessed to adjust the combination and ordering of
spectral bands in order to combine multispectral images from different sensors
and platforms into a single web service that offers a consistent user
experience. Accuracy is dependent on the projects used. Projects become
visible in the service at a regional scale of 1:250,000.
Default functions for False Colour (bands 4,3,2) and True Colour (bands 3,2,1)
products are available within the service, or alternatively band combinations
can be combined and stretched, and the Dynamic Range Adjustment applied as
required through the client. The service has a LERC compression.
This service supports projects captured in both GDA94 and GDA2020 datums. A
Seven parameter similarity transformation has been applied to new projects
that have been captured in GDA2020, this is to ensure that they align and
display correctly when published in the default WGS 1984 Web Mercator
(Auxiliary Sphere) projection alongside GDA94 projects.
The ISO 19115 standard metadata record for this service and further individual
epoch mosaic product metadata information is available from the Queensland
Spatial Catalogue (QSpatial).
If you would like to receive updates for new projects, functionality or
planned downtime please subscribe here: http://ems.gs/3qln0iYbIYQ.
</idAbs>
<idCredit>Includes material © 2023 State of Queensland, Commonwealth of Australia (Geoscience Australia), Planet Labs PBC. All rights reserved.</idCredit>
<searchKeys>
<keyword>imagery</keyword>
<keyword>public</keyword>
<keyword>Natural</keyword>
<keyword>Disaster</keyword>
<keyword>floods</keyword>
<keyword>flood</keyword>
<keyword>fire</keyword>
<keyword>bushfire</keyword>
<keyword>bushfires</keyword>
<keyword>analytic</keyword>
<keyword>flooding</keyword>
<keyword>floodwater</keyword>
<keyword>floodwaters</keyword>
<keyword>multi_spectral</keyword>
<keyword>multispectral</keyword>
<keyword>satellite</keyword>
<keyword>MODIS</keyword>
<keyword>Sentinel</keyword>
<keyword>Sentinel2</keyword>
<keyword>NASA</keyword>
<keyword>ESA</keyword>
<keyword>Copernicus</keyword>
<keyword>sediment</keyword>
<keyword>vegetation</keyword>
<keyword>surface</keyword>
<keyword>water</keyword>
<keyword>2019bushfires</keyword>
</searchKeys>
<resConst>
<Consts>
<useLimit>
The use of this service and imagery data contained within it, is available publicly under Creative Commons Attribution-Share-Alike licence (CC BY-SA). In using this Web Service you agree to accept all responsibility and risks associated with the use of the supplied data. The Queensland Government makes no representations or warranties in relation to the supplied data, and, you agree that, to the extent permitted by law, all warranties relating to accuracy, reliability, completeness, currency or suitability for any particular purpose and all liability for any loss, damage or costs (including consequential damage) incurred in any way (including but not limited to that arising from negligence) in connection with any use of or reliance on the supplied data are excluded or limited. You agree to continually indemnify the State of Queensland (and their officers and employees) against any loss, cost, expense, damage and liability of any kind (including consequential damage and liability in negligence) arising directly or indirectly from or related to any claim relating to your use of the supplied data or any product made from the supplied data. Under end user licence obligations the attribution text shown in the “Copyright Text“ or “Credits (Attribution)“ fields must be included on any copies of the licensed data however they are altered, reformatted or redisplayed. The following acknowledgement must also be displayed on any hardcopy or digital products based on or containing the supplied data: “In consideration of the State of Queensland permitting use of this data you acknowledge and agree that the State gives no warranty in relation to the data (including accuracy, reliability, completeness, currency or suitability) and accepts no liability (including without limitation, liability in negligence) for any loss, damage or costs (including consequential damage) relating to any use of the data.”
</useLimit>
</Consts>
</resConst>
</dataIdInfo>
<mdLang>
<languageCode Sync="TRUE" value="eng"/>
<countryCode Sync="TRUE" value="USA"/>
</mdLang>
<refSysInfo>
<RefSystem>
<refSysID>
<identCode Sync="TRUE" code="3857"/>
<idCodeSpace Sync="TRUE">EPSG</idCodeSpace>
<idVersion Sync="TRUE">8.8(9.3.1.2)</idVersion>
</refSysID>
</RefSystem>
</refSysInfo>
<spatRepInfo>
<Georect>
<cellGeo>
<CellGeoCd Sync="TRUE" value="002"/>
</cellGeo>
<numDims Sync="TRUE">2</numDims>
<tranParaAv Sync="TRUE">1</tranParaAv>
<chkPtAv Sync="TRUE">0</chkPtAv>
<cornerPts>
<pos Sync="TRUE">15357057.758744 -3037558.209178</pos>
</cornerPts>
<cornerPts>
<pos Sync="TRUE">15357057.758744 -1835939.807839</pos>
</cornerPts>
<cornerPts>
<pos Sync="TRUE">16481473.077445 -1835939.807839</pos>
</cornerPts>
<cornerPts>
<pos Sync="TRUE">16481473.077445 -3037558.209178</pos>
</cornerPts>
<centerPt>
<pos Sync="TRUE">15919265.418094 -2436749.008509</pos>
</centerPt>
<axisDimension type="002">
<dimSize Sync="TRUE">2797454</dimSize>
<dimResol>
<value Sync="TRUE" uom="m">0.401942</value>
</dimResol>
</axisDimension>
<axisDimension type="001">
<dimSize Sync="TRUE">2989529</dimSize>
<dimResol>
<value Sync="TRUE" uom="m">0.401942</value>
</dimResol>
</axisDimension>
<ptInPixel>
<PixOrientCd Sync="TRUE" value="001"/>
</ptInPixel>
</Georect>
</spatRepInfo>
<contInfo>
<ImgDesc>
<contentTyp>
<ContentTypCd Sync="TRUE" value="001"/>
</contentTyp>
<covDim>
<Band>
<dimDescrp Sync="TRUE">Band_1</dimDescrp>
<bitsPerVal Sync="TRUE">16</bitsPerVal>
<valUnit>
<UOM type="length"/>
</valUnit>
</Band>
<Band>
<dimDescrp Sync="TRUE">Band_2</dimDescrp>
<bitsPerVal Sync="TRUE">16</bitsPerVal>
<valUnit>
<UOM type="length"/>
</valUnit>
</Band>
<Band>
<dimDescrp Sync="TRUE">Band_3</dimDescrp>
<bitsPerVal Sync="TRUE">16</bitsPerVal>
<valUnit>
<UOM type="length"/>
</valUnit>
</Band>
<Band>
<dimDescrp Sync="TRUE">Band_4</dimDescrp>
<bitsPerVal Sync="TRUE">16</bitsPerVal>
<valUnit>
<UOM type="length"/>
</valUnit>
</Band>
</covDim>
</ImgDesc>
</contInfo>
<mdDateSt Sync="TRUE">20230215</mdDateSt>
<mdHrLv>
<ScopeCd value="005"/>
</mdHrLv>
</metadata>
