{
 "currentVersion": 11.5,
 "serviceDescription": "This service is designed to provide access to the state Remotely Sensed Image\nLibrary collection of publicly available natural disaster multispectral\nimagery over Queensland captured from satellite, manned aircraft, or remotely\npiloted (drone) platforms.\n\nNatural disaster events include flood, bushfire, earthquake, tropical cyclone,\nstorm, tornado, storm surge, landslide, tsunami, volcanic activity, meteorite\nstrike, or other significant weather occurrences.\n\nThis service displays multispectral imagery (analytic imagery) over areas\naffected by the natural disasters in the visible (red, green, blue), near-\ninfrared, and mid-infrared regions of the electromagnetic spectrum. The\noriginal images are reprocessed to adjust the combination and ordering of\nspectral bands in order to combine multispectral images from different sensors\nand platforms into a single web service that offers a consistent user\nexperience. Accuracy is dependent on the projects used. Projects become\nvisible in the service at a regional scale of 1:250,000.\n\nDefault functions for False Colour (bands 4,3,2) and True Colour (bands 3,2,1)\nproducts are available within the service, or alternatively band combinations\ncan be combined and stretched, and the Dynamic Range Adjustment applied as\nrequired through the client. The service has a LERC compression.\n\nThis service supports projects captured in both GDA94 and GDA2020 datums. A\nSeven parameter similarity transformation has been applied to new projects\nthat have been captured in GDA2020, this is to ensure that they align and\ndisplay correctly when published in the default WGS 1984 Web Mercator\n(Auxiliary Sphere) projection alongside GDA94 projects.\n\nThe ISO 19115 standard metadata record for this service and further individual\nepoch mosaic product metadata information is available from the Queensland\nSpatial Catalogue (QSpatial).\n\nIf you would like to receive updates for new projects, functionality or\nplanned downtime please subscribe here: http://ems.gs/3qln0iYbIYQ.\n\n",
 "serviceItemId": "eb222bff1be44a37b2ca4c0570f3a747",
 "name": "TimeSeries/NaturalDisaster_Analytic_AllUsers",
 "description": "This service is designed to provide access to the state Remotely Sensed Image\nLibrary collection of publicly available natural disaster multispectral\nimagery over Queensland captured from satellite, manned aircraft, or remotely\npiloted (drone) platforms.\n\nNatural disaster events include flood, bushfire, earthquake, tropical cyclone,\nstorm, tornado, storm surge, landslide, tsunami, volcanic activity, meteorite\nstrike, or other significant weather occurrences.\n\nThis service displays multispectral imagery (analytic imagery) over areas\naffected by the natural disasters in the visible (red, green, blue), near-\ninfrared, and mid-infrared regions of the electromagnetic spectrum. The\noriginal images are reprocessed to adjust the combination and ordering of\nspectral bands in order to combine multispectral images from different sensors\nand platforms into a single web service that offers a consistent user\nexperience. Accuracy is dependent on the projects used. Projects become\nvisible in the service at a regional scale of 1:250,000.\n\nDefault functions for False Colour (bands 4,3,2) and True Colour (bands 3,2,1)\nproducts are available within the service, or alternatively band combinations\ncan be combined and stretched, and the Dynamic Range Adjustment applied as\nrequired through the client. The service has a LERC compression.\n\nThis service supports projects captured in both GDA94 and GDA2020 datums. A\nSeven parameter similarity transformation has been applied to new projects\nthat have been captured in GDA2020, this is to ensure that they align and\ndisplay correctly when published in the default WGS 1984 Web Mercator\n(Auxiliary Sphere) projection alongside GDA94 projects.\n\nThe ISO 19115 standard metadata record for this service and further individual\nepoch mosaic product metadata information is available from the Queensland\nSpatial Catalogue (QSpatial).\n\nIf you would like to receive updates for new projects, functionality or\nplanned downtime please subscribe here: http://ems.gs/3qln0iYbIYQ.\n\n",
 "extent": {
  "xmin": 1.53570576628319E7,
  "ymin": -3037558.3225568384,
  "xmax": 1.6481472981532421E7,
  "ymax": -1835939.9212178183,
  "spatialReference": {
   "wkid": 102100,
   "latestWkid": 3857
  }
 },
 "initialExtent": {
  "xmin": 1.53570576628319E7,
  "ymin": -3037558.3225568384,
  "xmax": 1.6481472981532421E7,
  "ymax": -1835939.9212178183,
  "spatialReference": {
   "wkid": 102100,
   "latestWkid": 3857
  }
 },
 "fullExtent": {
  "xmin": 1.53570576628319E7,
  "ymin": -3037558.3225568384,
  "xmax": 1.6481472981532421E7,
  "ymax": -1835939.9212178183,
  "spatialReference": {
   "wkid": 102100,
   "latestWkid": 3857
  }
 },
 "sortableFields": "",
 "bandCount": 3,
 "pixelType": "U16",
 "minValues": [],
 "maxValues": [],
 "meanValues": [],
 "stdvValues": [],
 "serviceProperties": "ByAttribute<\/MosaicMethod>First<\/MosaicOperator>true<\/SortAscending><\/LockImageID>ZOrder<\/TileOrderField>0<\/TileOrderBase>600.000000<\/AvgImageSpacingX>300.000000<\/AvgImageSpacingY>0.0<\/ViewPointX>0.0<\/ViewPointY>0.0<\/ViewPointDefShiftX>0.0<\/ViewPointDefShiftY>LERC<\/CompressionMethod>75<\/CompressionQuality>0.010000<\/CompressionTolerance>Bilinear<\/SamplingMethod><\/ImageServiceProperties><\/ImageServer>",
 "allowedFields": "name,minps,maxps,lowps,highps,tag,groupname,productname,centerx,centery,zorder,year,title,capturestart,captureend,metalink,acq_driver,acq_driver_name,acq_platform,product_type,info_sec_clas,res_class,res_value,natural_distaster_type,aoi,res_type,status,res_unit,st_area(shape),st_perimeter(shape)",
 "hasMultidimensions": false,
 "pixelSizeX": 0.4019423800000001,
 "pixelSizeY": 0.40194238000000004,
 "meanPixelSize": 0.40194238000000004,
 "datasetFormat": "AMD",
 "uncompressedSize": 50178419154996,
 "blockWidth": 2048,
 "blockHeight": 256,
 "compressionType": "None",
 "bandNames": [
  "Band_1",
  "Band_2",
  "Band_3"
 ],
 "allowCopy": true,
 "allowAnalysis": true,
 "itemAccess": false,
 "inspectionCapabilities": "",
 "minPixelSize": 0,
 "maxPixelSize": 0,
 "copyrightText": "Includes material © 2023 State of Queensland, Commonwealth of Australia (Geoscience Australia), Planet Labs PBC. All rights reserved.",
 "serviceDataType": "esriImageServiceDataTypeGeneric",
 "serviceSourceType": "esriImageServiceSourceTypeMosaicDataset",
 "objectIdField": "objectid",
 "fields": [
  {
   "name": "objectid",
   "type": "esriFieldTypeOID",
   "alias": "OBJECTID",
   "domain": null
  },
  {
   "name": "name",
   "type": "esriFieldTypeString",
   "alias": "Name",
   "domain": null,
   "length": 200
  },
  {
   "name": "minps",
   "type": "esriFieldTypeDouble",
   "alias": "MinPS",
   "domain": null
  },
  {
   "name": "maxps",
   "type": "esriFieldTypeDouble",
   "alias": "MaxPS",
   "domain": null
  },
  {
   "name": "lowps",
   "type": "esriFieldTypeDouble",
   "alias": "LowPS",
   "domain": null
  },
  {
   "name": "highps",
   "type": "esriFieldTypeDouble",
   "alias": "HighPS",
   "domain": null
  },
  {
   "name": "category",
   "type": "esriFieldTypeInteger",
   "alias": "Category",
   "domain": {
    "type": "codedValue",
    "name": "MosaicCatalogItemCategoryDomain",
    "description": "Catalog item categories.",
    "codedValues": [
     {
      "name": "Unknown",
      "code": 0
     },
     {
      "name": "Primary",
      "code": 1
     },
     {
      "name": "Overview",
      "code": 2
     },
     {
      "name": "Unprocessed Overview",
      "code": 3
     },
     {
      "name": "Partial Overview",
      "code": 4
     },
     {
      "name": "Inactive",
      "code": 5
     },
     {
      "name": "Uploaded",
      "code": 253
     },
     {
      "name": "Incomplete",
      "code": 254
     },
     {
      "name": "Custom",
      "code": 255
     }
    ],
    "mergePolicy": "esriMPTDefaultValue",
    "splitPolicy": "esriSPTDefaultValue"
   }
  },
  {
   "name": "tag",
   "type": "esriFieldTypeString",
   "alias": "Tag",
   "domain": null,
   "length": 100
  },
  {
   "name": "groupname",
   "type": "esriFieldTypeString",
   "alias": "GroupName",
   "domain": null,
   "length": 100
  },
  {
   "name": "productname",
   "type": "esriFieldTypeString",
   "alias": "ProductName",
   "domain": null,
   "length": 100
  },
  {
   "name": "centerx",
   "type": "esriFieldTypeDouble",
   "alias": "CenterX",
   "domain": null
  },
  {
   "name": "centery",
   "type": "esriFieldTypeDouble",
   "alias": "CenterY",
   "domain": null
  },
  {
   "name": "zorder",
   "type": "esriFieldTypeInteger",
   "alias": "ZOrder",
   "domain": null
  },
  {
   "name": "year",
   "type": "esriFieldTypeSmallInteger",
   "alias": "YEAR",
   "domain": null
  },
  {
   "name": "title",
   "type": "esriFieldTypeString",
   "alias": "TITLE",
   "domain": null,
   "length": 100
  },
  {
   "name": "capturestart",
   "type": "esriFieldTypeDate",
   "alias": "CAPTURE_DATE_START",
   "domain": null,
   "length": 8
  },
  {
   "name": "captureend",
   "type": "esriFieldTypeDate",
   "alias": "CAPTURE_DATE_END",
   "domain": null,
   "length": 8
  },
  {
   "name": "metalink",
   "type": "esriFieldTypeString",
   "alias": "METADATA_LINK",
   "domain": null,
   "length": 300
  },
  {
   "name": "acq_driver",
   "type": "esriFieldTypeSmallInteger",
   "alias": "ACQUISITION_DRIVER",
   "domain": {
    "type": "codedValue",
    "name": "ACQ_DRIVER",
    "description": "Acquisition Driver ",
    "codedValues": [
     {
      "name": "Program",
      "code": 1
     },
     {
      "name": "Project",
      "code": 2
     },
     {
      "name": "Natural Disaster",
      "code": 3
     },
     {
      "name": "Event",
      "code": 4
     },
     {
      "name": "Incident",
      "code": 5
     },
     {
      "name": "Compliance",
      "code": 6
     }
    ],
    "mergePolicy": "esriMPTDefaultValue",
    "splitPolicy": "esriSPTDefaultValue"
   }
  },
  {
   "name": "acq_driver_name",
   "type": "esriFieldTypeString",
   "alias": "ACQUISITION_DRIVER_NAME",
   "domain": null,
   "length": 50
  },
  {
   "name": "acq_platform",
   "type": "esriFieldTypeSmallInteger",
   "alias": "ACQUISITION_PLATFORM",
   "domain": {
    "type": "codedValue",
    "name": "ACQ_PLATFORM",
    "description": "Acquisition Platform",
    "codedValues": [
     {
      "name": "Satellite",
      "code": 2
     },
     {
      "name": "Drone",
      "code": 3
     },
     {
      "name": "Terrestrial",
      "code": 4
     },
     {
      "name": "Helicopter",
      "code": 5
     },
     {
      "name": "Aeroplane",
      "code": 1
     },
     {
      "name": "Multiple Platforms",
      "code": 6
     }
    ],
    "mergePolicy": "esriMPTDefaultValue",
    "splitPolicy": "esriSPTDefaultValue"
   }
  },
  {
   "name": "product_type",
   "type": "esriFieldTypeSmallInteger",
   "alias": "PRODUCT_TYPE",
   "domain": {
    "type": "codedValue",
    "name": "PRODUCT_TYPE",
    "description": "Type of source data used to produce the end product",
    "codedValues": [
     {
      "name": "Satellite RGB",
      "code": 1
     },
     {
      "name": "Satellite Multispectral",
      "code": 2
     },
     {
      "name": "Ortho Aerial Photo RGB",
      "code": 3
     },
     {
      "name": "Ortho Aerial Photo Multispectral",
      "code": 4
     },
     {
      "name": "Historical Aerial Photo Black and White",
      "code": 5
     },
     {
      "name": "Historical Aerial Photo RGB",
      "code": 6
     },
     {
      "name": "Digital Elevation Model",
      "code": 8
     },
     {
      "name": "Digital Surface Model",
      "code": 9
     },
     {
      "name": "Historical Aerial Photo Infrared",
      "code": 7
     },
     {
      "name": "3D Point cloud",
      "code": 11
     },
     {
      "name": "3D Mesh",
      "code": 12
     },
     {
      "name": "SAR",
      "code": 14
     },
     {
      "name": "Satellite Composite",
      "code": 15
     },
     {
      "name": "Ortho True",
      "code": 16
     },
     {
      "name": "Canopy Height Model",
      "code": 17
     },
     {
      "name": "3D Vector",
      "code": 18
     },
     {
      "name": "Bathymetry",
      "code": 19
     },
     {
      "name": "Digital Terrain Model",
      "code": 13
     },
     {
      "name": "Hillshade",
      "code": 20
     },
     {
      "name": "Difference from Mean Elevation",
      "code": 21
     },
     {
      "name": "Slope",
      "code": 22
     },
     {
      "name": "Classified Flow Accumulation",
      "code": 23
     },
     {
      "name": "Stream and Gully Depth",
      "code": 24
     },
     {
      "name": "Building and Settlement",
      "code": 25
     }
    ],
    "mergePolicy": "esriMPTDefaultValue",
    "splitPolicy": "esriSPTDefaultValue"
   }
  },
  {
   "name": "info_sec_clas",
   "type": "esriFieldTypeSmallInteger",
   "alias": "INFORMATION_SECURITY_CLASS",
   "domain": {
    "type": "codedValue",
    "name": "INFO_SEC_CLAS",
    "description": "Information Security Constraints Classificaton Code",
    "codedValues": [
     {
      "name": "Public",
      "code": 1
     },
     {
      "name": "Official",
      "code": 2
     },
     {
      "name": "Sensitive",
      "code": 3
     },
     {
      "name": "Protected",
      "code": 4
     }
    ],
    "mergePolicy": "esriMPTDefaultValue",
    "splitPolicy": "esriSPTDefaultValue"
   }
  },
  {
   "name": "res_class",
   "type": "esriFieldTypeSmallInteger",
   "alias": "RESOLUTION_CLASS",
   "domain": {
    "type": "codedValue",
    "name": "RES_CLASS",
    "description": "Imagery resolution class in centimeters",
    "codedValues": [
     {
      "name": "High resolution",
      "code": 1
     },
     {
      "name": "All other resolutions",
      "code": 2
     }
    ],
    "mergePolicy": "esriMPTDefaultValue",
    "splitPolicy": "esriSPTDefaultValue"
   }
  },
  {
   "name": "res_value",
   "type": "esriFieldTypeDouble",
   "alias": "RESOLUTION_VALUE",
   "domain": null
  },
  {
   "name": "natural_distaster_type",
   "type": "esriFieldTypeSmallInteger",
   "alias": "NATURAL_DISTASTER_TYPE",
   "domain": {
    "type": "codedValue",
    "name": "NATURAL_DISASTER_TYPE",
    "description": "Type of natural disaster - https://www.disasterassist.gov.au/Pages/australian-disasters.aspx",
    "codedValues": [
     {
      "name": "Bushfire",
      "code": 1
     },
     {
      "name": "Cyclone",
      "code": 2
     },
     {
      "name": "Earthquake",
      "code": 3
     },
     {
      "name": "Flood",
      "code": 4
     },
     {
      "name": "Hailstorm",
      "code": 5
     },
     {
      "name": "Landslide",
      "code": 7
     },
     {
      "name": "Low/tropical low",
      "code": 8
     },
     {
      "name": "Pandemic",
      "code": 6
     }
    ],
    "mergePolicy": "esriMPTDefaultValue",
    "splitPolicy": "esriSPTDefaultValue"
   }
  },
  {
   "name": "aoi",
   "type": "esriFieldTypeString",
   "alias": "Area Of Interest",
   "domain": null,
   "length": 50
  },
  {
   "name": "res_type",
   "type": "esriFieldTypeSmallInteger",
   "alias": "RESOLUTION_TYPE",
   "domain": {
    "type": "codedValue",
    "name": "RES_TYPE",
    "description": "Resolution type",
    "codedValues": [
     {
      "name": "Point Density",
      "code": 2
     },
     {
      "name": "Ground Surface Distance",
      "code": 1
     },
     {
      "name": "Height",
      "code": 3
     },
     {
      "name": "Depth",
      "code": 4
     },
     {
      "name": "Angle",
      "code": 5
     }
    ],
    "mergePolicy": "esriMPTDefaultValue",
    "splitPolicy": "esriSPTDefaultValue"
   }
  },
  {
   "name": "status",
   "type": "esriFieldTypeSmallInteger",
   "alias": "STATUS",
   "domain": {
    "type": "codedValue",
    "name": "STATUS",
    "description": "Status",
    "codedValues": [
     {
      "name": "Proposed",
      "code": 1
     },
     {
      "name": "Awarded",
      "code": 2
     },
     {
      "name": "Captured",
      "code": 3
     },
     {
      "name": "Delivered",
      "code": 4
     },
     {
      "name": "Pending",
      "code": 5
     },
     {
      "name": "QA_QC",
      "code": 6
     },
     {
      "name": "Incomplete",
      "code": 7
     },
     {
      "name": "Completed/Published",
      "code": 8
     }
    ],
    "mergePolicy": "esriMPTDefaultValue",
    "splitPolicy": "esriSPTDefaultValue"
   }
  },
  {
   "name": "res_unit",
   "type": "esriFieldTypeSmallInteger",
   "alias": "RES_UNIT",
   "domain": {
    "type": "codedValue",
    "name": "RES_UNIT",
    "description": "Resolution unit",
    "codedValues": [
     {
      "name": "mm",
      "code": 1
     },
     {
      "name": "cm",
      "code": 2
     },
     {
      "name": "m",
      "code": 3
     },
     {
      "name": "second",
      "code": 4
     }
    ],
    "mergePolicy": "esriMPTDefaultValue",
    "splitPolicy": "esriSPTDefaultValue"
   }
  },
  {
   "name": "shape",
   "type": "esriFieldTypeGeometry",
   "alias": "Shape",
   "domain": null
  },
  {
   "name": "st_area(shape)",
   "type": "esriFieldTypeDouble",
   "alias": "st_area(shape)",
   "domain": null
  },
  {
   "name": "st_perimeter(shape)",
   "type": "esriFieldTypeDouble",
   "alias": "st_perimeter(shape)",
   "domain": null
  }
 ],
 "capabilities": "Image,Metadata,Catalog,Mensuration",
 "defaultMosaicMethod": "ByAttribute",
 "allowedMosaicMethods": "ByAttribute",
 "sortField": "ZOrder",
 "sortValue": "0",
 "sortAscending": true,
 "mosaicOperator": "First",
 "maxDownloadSizeLimit": 2048,
 "defaultCompressionQuality": 10000,
 "defaultResamplingMethod": "Bilinear",
 "maxImageHeight": 4100,
 "maxImageWidth": 7680,
 "maxRecordCount": 1000,
 "maxDownloadImageCount": 20,
 "maxMosaicImageCount": 20,
 "allowRasterFunction": true,
 "rasterFunctionInfos": [
  {
   "name": "None",
   "description": "A No-Op Function.",
   "help": ""
  },
  {
   "name": "FalseColourFunctionTemplate",
   "description": "False colour function template. Band combination 4 3 2.",
   "help": ""
  },
  {
   "name": "TrueColourFunctionTemplate",
   "description": "True colour function template. Band combination 3 2 1",
   "help": ""
  },
  {
   "name": "None",
   "description": "A No-Op Function.",
   "help": ""
  }
 ],
 "rasterTypeInfos": [
  {
   "name": "Raster Dataset",
   "description": "Supports all ArcGIS Raster Datasets",
   "help": ""
  }
 ],
 "mensurationCapabilities": "Basic",
 "hasHistograms": false,
 "hasColormap": false,
 "hasRasterAttributeTable": false,
 "minScale": 0,
 "maxScale": 0,
 "exportTilesAllowed": false,
 "supportsStatistics": true,
 "supportsAdvancedQueries": true,
 "editFieldsInfo": null,
 "ownershipBasedAccessControlForRasters": null,
 "allowComputeTiePoints": false,
 "useStandardizedQueries": true,
 "advancedQueryCapabilities": {
  "useStandardizedQueries": true,
  "supportsStatistics": true,
  "supportsOrderBy": true,
  "supportsDistinct": true,
  "supportsPagination": true
 },
 "spatialReference": {
  "wkid": 102100,
  "latestWkid": 3857
 }
}
