View In:
ArcGIS JavaScript
ArcGIS Online Map Viewer
ArcGIS Earth
Service Description: This basemap service is designed to provide access to the latest publicly
available State Remotely Sensed Image Library collection of aerial imagery
capture under the Spatial Imagery Subscription Plan (SISP). Aerial imagery
that is three years or older captured under SISP is made available for public
use openly by the Department of Natural Resources, Mines and Energy,
Queensland. Satellite imagery (Planet Q3 2017 mosaic) is visible in areas over
Queensland where aerial photography is unavailable.Basemap services comprise a
single layer of static imagery optimised for display purposes. This service
has a tile cache built down to a scale of 1:564 (Level20). The tile cache can
be turned off in client software for viewing at lower scales and printing
purposes and can be used in dynamic mode to filter and display individual
project areas. The projects range from 0.5cm to 240cm resolution. Accuracy is
dependent on the individual projects. Periodical updates will be made to the
service as new projects are captured. Projects are visible at scales 1:50,000,
1:250,000 and 1:25,000,000.The images comprised in each of the projects are
orthorectified which removes the effects of image perspective (tilt) and
relief (terrain) effects for the purpose of creating a planimetrically correct
image. The resultant orthorectified images have a constant scale wherein
features are represented in their 'true' positions.This service supports
projects captured in both GDA94 and GDA2020 datums. A Seven parameter
similarity transformation has been applied to new projects that have been
captured in GDA2020, this is to ensure that they align and display correctly
when published in the default WGS 1984 Web Mercator (Auxiliary Sphere)
projection alongside GDA94 projects.The ISO 19115 standard metadata record for
this service and further individual epoch mosaic product metadata information
is available from the Queensland Spatial Catalogue (QSpatial).If you would
like to receive updates for new projects, functionality or planned downtime
please subscribe here: http://ems.gs/3qln0iYbIYQ.
Name: Basemaps/LatestStateProgram_AllUsers
Description: This basemap service is designed to provide access to the latest publicly
available State Remotely Sensed Image Library collection of aerial imagery
capture under the Spatial Imagery Subscription Plan (SISP). Aerial imagery
that is three years or older captured under SISP is made available for public
use openly by the Department of Natural Resources, Mines and Energy,
Queensland. Satellite imagery (Planet Q3 2017 mosaic) is visible in areas over
Queensland where aerial photography is unavailable.Basemap services comprise a
single layer of static imagery optimised for display purposes. This service
has a tile cache built down to a scale of 1:564 (Level20). The tile cache can
be turned off in client software for viewing at lower scales and printing
purposes and can be used in dynamic mode to filter and display individual
project areas. The projects range from 0.5cm to 240cm resolution. Accuracy is
dependent on the individual projects. Periodical updates will be made to the
service as new projects are captured. Projects are visible at scales 1:50,000,
1:250,000 and 1:25,000,000.The images comprised in each of the projects are
orthorectified which removes the effects of image perspective (tilt) and
relief (terrain) effects for the purpose of creating a planimetrically correct
image. The resultant orthorectified images have a constant scale wherein
features are represented in their 'true' positions.This service supports
projects captured in both GDA94 and GDA2020 datums. A Seven parameter
similarity transformation has been applied to new projects that have been
captured in GDA2020, this is to ensure that they align and display correctly
when published in the default WGS 1984 Web Mercator (Auxiliary Sphere)
projection alongside GDA94 projects.The ISO 19115 standard metadata record for
this service and further individual epoch mosaic product metadata information
is available from the Queensland Spatial Catalogue (QSpatial).If you would
like to receive updates for new projects, functionality or planned downtime
please subscribe here: http://ems.gs/3qln0iYbIYQ.
Single Fused Map Cache: true
Tile Info:
- Height: 256
- Width: 256
- DPI: 96
-
Levels of Detail: 21
-
Level ID: 0
[ Start Tile, End Tile ]
- Resolution: 156543.03392800014
- Scale: 5.91657527591555E8
-
Level ID: 1
[ Start Tile, End Tile ]
- Resolution: 78271.51696399994
- Scale: 2.95828763795777E8
-
Level ID: 2
[ Start Tile, End Tile ]
- Resolution: 39135.75848200009
- Scale: 1.47914381897889E8
-
Level ID: 3
[ Start Tile, End Tile ]
- Resolution: 19567.87924099992
- Scale: 7.3957190948944E7
-
Level ID: 4
[ Start Tile, End Tile ]
- Resolution: 9783.93962049996
- Scale: 3.6978595474472E7
-
Level ID: 5
[ Start Tile, End Tile ]
- Resolution: 4891.96981024998
- Scale: 1.8489297737236E7
- Format: MIXED
- Compression Quality: 75.0
- LERC Error: NaN
- Origin: X: -2.0037508342787E7
Y: 2.0037508342787E7
- Spatial Reference: 102100
(3857)
LatestVCSWkid(0)
Storage Info:
- Storage Format: esriMapCacheStorageModeCompactV2
- Packet Size: 128
Extent:
XMin: 1.5333392556974752E7
YMin: -3440730.921759101
XMax: 1.71164199005105E7
YMax: -1006190.4312100508
Spatial Reference: 102100
(3857)
LatestVCSWkid(0)
Initial Extent:
XMin: 1.5333392556974752E7
YMin: -3440730.921759101
XMax: 1.71164199005105E7
YMax: -1006190.4312100508
Spatial Reference: 102100
(3857)
LatestVCSWkid(0)
Full Extent:
XMin: 1.5333392556974752E7
YMin: -3440730.921759101
XMax: 1.71164199005105E7
YMax: -1006190.4312100508
Spatial Reference: 102100
(3857)
LatestVCSWkid(0)
Pixel Size X: 0.005031649999999998
Pixel Size Y: 0.00503165
Band Count: 3
Pixel Type: U8
RasterFunction Infos: {"rasterFunctionInfos": [{
"name": "None",
"description": "A No-Op Function.",
"help": ""
}]}
Mensuration Capabilities: Basic
Inspection Capabilities:
Has Histograms: false
Has Colormap: false
Has Multi Dimensions : false
Rendering Rule:
Min Scale: 3.6978595474472E7
Max Scale: 564.248588
Resampling: false
Copyright Text: Includes material © State of Queensland (Department of Natural Resources and Mines, Manufacturing and Regional and Rural Development); © Planet Labs Netherlands B.V. reproduced under licence from Planet and Geoplex, all rights reserved, 2026.
Service Data Type: esriImageServiceDataTypeRGB
Min Values: N/A
Max Values: N/A
Mean Values: N/A
Standard Deviation Values: N/A
Object ID Field: objectid
Fields:
-
objectid
(
type: esriFieldTypeOID, alias: OBJECTID
)
-
name
(
type: esriFieldTypeString, alias: Name, length: 200
)
-
minps
(
type: esriFieldTypeDouble, alias: MinPS
)
-
maxps
(
type: esriFieldTypeDouble, alias: MaxPS
)
-
lowps
(
type: esriFieldTypeDouble, alias: LowPS
)
-
highps
(
type: esriFieldTypeDouble, alias: HighPS
)
-
category
(
type: esriFieldTypeInteger, alias: Category
, Coded Values:
[0: Unknown]
, [1: Primary]
, [2: Overview]
, ...6 more...
)
-
tag
(
type: esriFieldTypeString, alias: Tag, length: 100
)
-
groupname
(
type: esriFieldTypeString, alias: GroupName, length: 100
)
-
productname
(
type: esriFieldTypeString, alias: ProductName, length: 100
)
-
centerx
(
type: esriFieldTypeDouble, alias: CenterX
)
-
centery
(
type: esriFieldTypeDouble, alias: CenterY
)
-
zorder
(
type: esriFieldTypeInteger, alias: ZOrder
)
-
year
(
type: esriFieldTypeSmallInteger, alias: YEAR
)
-
title
(
type: esriFieldTypeString, alias: TITLE, length: 100
)
-
capturestart
(
type: esriFieldTypeDate, alias: CAPTURE_DATE_START, length: 8
)
-
captureend
(
type: esriFieldTypeDate, alias: CAPTURE_END_DATE, length: 8
)
-
metalink
(
type: esriFieldTypeString, alias: METADATA_LINK, length: 300
)
-
acq_driver
(
type: esriFieldTypeSmallInteger, alias: ACQUISITION_DRIVER
, Coded Values:
[1: Program]
, [2: Project]
, [3: Natural Disaster]
, ...3 more...
)
-
acq_driver_name
(
type: esriFieldTypeString, alias: ACQUISITION_DRIVER_NAME, length: 50
)
-
acq_platform
(
type: esriFieldTypeSmallInteger, alias: ACQ_PLATFORM
, Coded Values:
[2: Satellite]
, [3: Drone]
, [4: Terrestrial]
, ...3 more...
)
-
product_type
(
type: esriFieldTypeSmallInteger, alias: PRODUCT_TYPE
, Coded Values:
[1: Satellite RGB]
, [2: Satellite Multispectral]
, [3: Ortho Aerial Photo RGB]
, ...21 more...
)
-
is_qldbase
(
type: esriFieldTypeSmallInteger, alias: BASEMAP
, Coded Values:
[1: Basemap]
)
-
is_qldtimeseries
(
type: esriFieldTypeSmallInteger, alias: TIME_SERIES
, Coded Values:
[1: Time series]
)
-
info_sec_clas
(
type: esriFieldTypeSmallInteger, alias: INFORMATION_SECURITY_CLASS
, Coded Values:
[1: Public]
, [2: Official]
, [3: Sensitive]
, ...1 more...
)
-
info_sec_time
(
type: esriFieldTypeSmallInteger, alias: INFORMATION_SECURITY_TIME
)
-
app
(
type: esriFieldTypeSmallInteger, alias: APPLICATION
, Coded Values:
[1: Globe]
, [2: Globe_QImagery]
, [3: VegEDS]
, ...8 more...
)
-
is_public
(
type: esriFieldTypeSmallInteger, alias: IS_PUBLIC
, Coded Values:
[1: Public]
)
-
is_qgov
(
type: esriFieldTypeSmallInteger, alias: IS_QGOV
, Coded Values:
[1: QGOV users]
)
-
is_qsat
(
type: esriFieldTypeSmallInteger, alias: IS_QSAT
, Coded Values:
[1: QSAT users]
)
-
is_sisp_all
(
type: esriFieldTypeSmallInteger, alias: IS_SISP_ALL
, Coded Values:
[1: SISP All users]
)
-
is_sispt1
(
type: esriFieldTypeSmallInteger, alias: IS_SISPT1
, Coded Values:
[1: SISP Tier 1 users]
)
-
is_sispt2a
(
type: esriFieldTypeSmallInteger, alias: IS_SISPT2A
, Coded Values:
[1: SISP Tier 2A users]
)
-
is_sispt2b
(
type: esriFieldTypeSmallInteger, alias: IS_SISPT2B
, Coded Values:
[1: For SISP Tier 2B users]
)
-
is_sispt3
(
type: esriFieldTypeSmallInteger, alias: IS_SISPT3
, Coded Values:
[1: SISP Tier 3 users]
)
-
is_otherlicense
(
type: esriFieldTypeSmallInteger, alias: IS_OTHERLICENSE
, Coded Values:
[2: DES]
, [3: QPS]
, [4: TMR]
, ...1 more...
)
-
is_earliest
(
type: esriFieldTypeSmallInteger, alias: IS_EARLIEST
, Coded Values:
[1: Earliest]
)
-
is_latest
(
type: esriFieldTypeSmallInteger, alias: IS_LATEST
, Coded Values:
[1: Latest]
, [2: First]
, [3: Before]
)
-
is_latest_public
(
type: esriFieldTypeSmallInteger, alias: IS_LATEST_PUBLIC
, Coded Values:
[1: Latest public]
)
-
is_latest_restricted
(
type: esriFieldTypeSmallInteger, alias: IS_LATEST_RESTRICTED
, Coded Values:
[1: Latest restricted]
)
-
is_wos
(
type: esriFieldTypeSmallInteger, alias: IS_WOS
, Coded Values:
[1: Whole of state]
, [2: GBR only]
)
-
is_event
(
type: esriFieldTypeSmallInteger, alias: IS_EVENT
, Coded Values:
[1: Is an event]
)
-
event_type
(
type: esriFieldTypeSmallInteger, alias: EVENT_TYPE
, Coded Values:
[1: Summit]
, [2: Expo]
, [3: Commonwealth Games]
, ...1 more...
)
-
res_class
(
type: esriFieldTypeSmallInteger, alias: RESOLUTION_CLASS
, Coded Values:
[1: High resolution]
, [2: All other resolutions]
)
-
is_multispectral
(
type: esriFieldTypeSmallInteger, alias: IS_MULTISPECTRAL
, Coded Values:
[1: Multispectral]
)
-
is_active
(
type: esriFieldTypeSmallInteger, alias: IS_ACTIVE
, Coded Values:
[1: Is active service]
)
-
exception
(
type: esriFieldTypeSmallInteger, alias: EXCEPTION
, Coded Values:
[1: Background]
, [2: Background_Public]
)
-
is_best
(
type: esriFieldTypeSmallInteger, alias: Best
, Coded Values:
[1: Best]
)
-
is_optical
(
type: esriFieldTypeSmallInteger, alias: IS_OPTICAL
, Coded Values:
[1: Optical]
)
-
is_natural_disaster
(
type: esriFieldTypeSmallInteger, alias: IS_NATURAL_DISASTER
, Coded Values:
[1: Is natural disaster]
)
-
natural_disaster_type
(
type: esriFieldTypeSmallInteger, alias: NATURAL_DISASTER_TYPE
, Coded Values:
[1: Bushfire]
, [2: Cyclone]
, [3: Earthquake]
, ...5 more...
)
-
is_clp
(
type: esriFieldTypeSmallInteger, alias: IS_CLP
, Coded Values:
[1: CLP]
)
-
aoi
(
type: esriFieldTypeString, alias: Area Of Interest, length: 50
)
-
res_type
(
type: esriFieldTypeSmallInteger, alias: RESOLUTION_TYPE
, Coded Values:
[2: Point Density]
, [1: Ground Surface Distance]
, [3: Height]
, ...2 more...
)
-
res_value
(
type: esriFieldTypeDouble, alias: RESOLUTION_VALUE
)
-
status
(
type: esriFieldTypeSmallInteger, alias: Status
, Coded Values:
[1: Proposed]
, [2: Awarded]
, [3: Captured]
, ...5 more...
)
-
compliance_type
(
type: esriFieldTypeSmallInteger, alias: compliance_type
, Coded Values:
[1: Vegetation]
, [2: Water]
, [3: Mines]
, ...3 more...
)
-
res_unit
(
type: esriFieldTypeSmallInteger, alias: RES_UNIT
, Coded Values:
[1: mm]
, [2: cm]
, [3: m]
, ...1 more...
)
-
shape
(
type: esriFieldTypeGeometry, alias: Shape
)
Default Mosaic Method: ByAttribute
Allowed Mosaic Methods: ByAttribute,NorthWest,Center
SortField: Name
SortValue: 0
Mosaic Operator: First
Default Compression Quality: 80
Default Resampling Method: Bilinear
Max Record Count: 1000
Max Image Height: 4100
Max Image Width: 7680
Max Download Image Count: 20
Max Mosaic Image Count: 20
Allow Raster Function: true
Allow Copy: true
Allow Analysis: true
Allow Compute TiePoints: false
Supports Statistics: true
Supports Advanced Queries: true
Use StandardizedQueries: true
Raster Type Infos:
Name: Raster Dataset
Description: Supports all ArcGIS Raster Datasets
Help:
Has Raster Attribute Table: false
Edit Fields Info: null
Ownership Based AccessControl For Rasters: null
Child Resources:
Info
Statistics
Key Properties
Legend
Raster Function Infos
Supported Operations:
Export Image
Query
Identify
Measure
Compute Histograms
Compute Statistics Histograms
Get Samples
Compute Class Statistics
Query GPS Info
Find Images
Image to Map
Map to Image
Measure from Image
Image to Map Multiray
Query Boundary
Compute Pixel Location
Compute Angles
Validate
Project
EstimateExportTilesSize
ExportTiles