View In:
ArcGIS JavaScript
ArcGIS Online Map Viewer
ArcGIS Earth
Service Description: TimeSeries/NaturalDisaster_Optical_AllUsers
Name: TimeSeries/NaturalDisaster_Optical_AllUsers
Description:
Single Fused Map Cache: false
Extent:
XMin: 1.5486814762594182E7
YMin: -3394792.5713014286
XMax: 1.712836842363904E7
YMax: -1669077.0708052989
Spatial Reference: 102100
(3857)
LatestVCSWkid(0)
Initial Extent:
XMin: 1.5486814762594182E7
YMin: -3394792.5713014286
XMax: 1.712836842363904E7
YMax: -1669077.0708052989
Spatial Reference: 102100
(3857)
LatestVCSWkid(0)
Full Extent:
XMin: 1.5486814762594182E7
YMin: -3394792.5713014286
XMax: 1.712836842363904E7
YMax: -1669077.0708052989
Spatial Reference: 102100
(3857)
LatestVCSWkid(0)
Pixel Size X: 0.034214229999999964
Pixel Size Y: 0.03421423
Band Count: 3
Pixel Type: U8
RasterFunction Infos: {"rasterFunctionInfos": [{
"name": "None",
"description": "A No-Op Function.",
"help": ""
}]}
Mensuration Capabilities: Basic
Inspection Capabilities:
Has Histograms: false
Has Colormap: false
Has Multi Dimensions : false
Rendering Rule:
Min Scale: 0
Max Scale: 0
Resampling: false
Copyright Text:
Service Data Type: esriImageServiceDataTypeRGB
Min Values: N/A
Max Values: N/A
Mean Values: N/A
Standard Deviation Values: N/A
Object ID Field: objectid
Fields:
-
objectid
(
type: esriFieldTypeOID, alias: OBJECTID
)
-
name
(
type: esriFieldTypeString, alias: Name, length: 200
)
-
minps
(
type: esriFieldTypeDouble, alias: MinPS
)
-
maxps
(
type: esriFieldTypeDouble, alias: MaxPS
)
-
lowps
(
type: esriFieldTypeDouble, alias: LowPS
)
-
highps
(
type: esriFieldTypeDouble, alias: HighPS
)
-
category
(
type: esriFieldTypeInteger, alias: Category
, Coded Values:
[0: Unknown]
, [1: Primary]
, [2: Overview]
, ...6 more...
)
-
tag
(
type: esriFieldTypeString, alias: Tag, length: 100
)
-
groupname
(
type: esriFieldTypeString, alias: GroupName, length: 100
)
-
productname
(
type: esriFieldTypeString, alias: ProductName, length: 100
)
-
centerx
(
type: esriFieldTypeDouble, alias: CenterX
)
-
centery
(
type: esriFieldTypeDouble, alias: CenterY
)
-
zorder
(
type: esriFieldTypeInteger, alias: ZOrder
)
-
year
(
type: esriFieldTypeSmallInteger, alias: YEAR
)
-
title
(
type: esriFieldTypeString, alias: TITLE, length: 100
)
-
capturestart
(
type: esriFieldTypeDate, alias: CAPTURE_DATE_START, length: 8
)
-
captureend
(
type: esriFieldTypeDate, alias: CAPTURE_END_DATE, length: 8
)
-
metalink
(
type: esriFieldTypeString, alias: METADATA_LINK, length: 300
)
-
acq_driver
(
type: esriFieldTypeSmallInteger, alias: ACQUISITION_DRIVER
, Coded Values:
[1: Program]
, [2: Project]
, [3: Natural Disaster]
, ...3 more...
)
-
acq_driver_name
(
type: esriFieldTypeString, alias: ACQUISITION_DRIVER_NAME, length: 50
)
-
acq_platform
(
type: esriFieldTypeSmallInteger, alias: ACQ_PLATFORM
, Coded Values:
[2: Satellite]
, [3: Drone]
, [4: Terrestrial]
, ...3 more...
)
-
product_type
(
type: esriFieldTypeSmallInteger, alias: PRODUCT_TYPE
, Coded Values:
[1: Satellite RGB]
, [2: Satellite Multispectral]
, [3: Ortho Aerial Photo RGB]
, ...21 more...
)
-
info_sec_clas
(
type: esriFieldTypeSmallInteger, alias: INFORMATION_SECURITY_CLASS
, Coded Values:
[1: Public]
, [2: Official]
, [3: Sensitive]
, ...1 more...
)
-
is_public
(
type: esriFieldTypeSmallInteger, alias: IS_PUBLIC
, Coded Values:
[1: Public]
)
-
res_class
(
type: esriFieldTypeSmallInteger, alias: RESOLUTION_CLASS
, Coded Values:
[1: High resolution]
, [2: All other resolutions]
)
-
natural_disaster_type
(
type: esriFieldTypeSmallInteger, alias: NATURAL_DISASTER_TYPE
, Coded Values:
[1: Bushfire]
, [2: Cyclone]
, [3: Earthquake]
, ...5 more...
)
-
aoi
(
type: esriFieldTypeString, alias: Area Of Interest, length: 50
)
-
res_type
(
type: esriFieldTypeSmallInteger, alias: RESOLUTION_TYPE
, Coded Values:
[2: Point Density]
, [1: Ground Surface Distance]
, [3: Height]
, ...2 more...
)
-
res_value
(
type: esriFieldTypeDouble, alias: RESOLUTION_VALUE
)
-
status
(
type: esriFieldTypeSmallInteger, alias: Status
, Coded Values:
[1: Proposed]
, [2: Awarded]
, [3: Captured]
, ...5 more...
)
-
res_unit
(
type: esriFieldTypeSmallInteger, alias: RES_UNIT
, Coded Values:
[1: mm]
, [2: cm]
, [3: m]
, ...1 more...
)
-
shape
(
type: esriFieldTypeGeometry, alias: Shape
)
-
st_area(shape)
(
type: esriFieldTypeDouble, alias: st_area(shape)
)
-
st_perimeter(shape)
(
type: esriFieldTypeDouble, alias: st_perimeter(shape)
)
Default Mosaic Method: ByAttribute
Allowed Mosaic Methods: ByAttribute,Center
SortField: Name
SortValue: 0
Mosaic Operator: First
Default Compression Quality: 80
Default Resampling Method: Bilinear
Max Record Count: 1000
Max Image Height: 2048
Max Image Width: 4096
Max Download Image Count: 20
Max Mosaic Image Count: 20
Allow Raster Function: true
Allow Copy: true
Allow Analysis: true
Allow Compute TiePoints: false
Supports Statistics: true
Supports Advanced Queries: true
Use StandardizedQueries: true
Raster Type Infos:
Name: Raster Dataset
Description: Supports all ArcGIS Raster Datasets
Help:
Has Raster Attribute Table: false
Edit Fields Info: null
Ownership Based AccessControl For Rasters: null
Child Resources:
Info
Statistics
Key Properties
Legend
Raster Function Infos
Supported Operations:
Export Image
Query
Identify
Measure
Compute Histograms
Compute Statistics Histograms
Get Samples
Compute Class Statistics
Query GPS Info
Find Images
Image to Map
Map to Image
Measure from Image
Image to Map Multiray
Query Boundary
Compute Pixel Location
Compute Angles
Validate
Project