View In:
ArcGIS JavaScript
ArcGIS Online Map Viewer
ArcGIS Earth
Service Description: This basemap service is designed to provide access to the earliest available
State Remotely Sensed Image Library collection of aerial imagery captured over
various locations in Queensland.
Basemap services comprise a single layer of static imagery optimised for
display purposes. This service can be used in dynamic mode to filter and
display individual project areas. Accuracy is dependent on the individual
projects and aerial images that comprise each project. The projects become
visible at a regional scale of 1:250,000.
The images comprised in each of the projects are orthorectified which removes
the effects of image perspective (tilt) and relief (terrain) effects for the
purpose of creating a planimetrically correct image. The resultant
orthorectified images have a constant scale wherein features are represented
in their “true” positions.
The source images, of the digitally scanned unrectified aerial film photo
frames, are produced by the State of Queensland (Department of Natural
Resources, Mines and Energy) and are available through QImagery.
This service is GDA2020 compatible and able to consumed in GDA2020 at the
client end.
This service supports projects captured in both GDA94 and GDA2020 datums. A
Seven parameter similarity transformation has been applied to new projects
that have been captured in GDA2020, this is to ensure that they align and
display correctly when published in the default WGS 1984 Web Mercator
(Auxiliary Sphere) projection alongside GDA94 projects.
The ISO 19115 standard metadata record for this service and further individual
epoch mosaic product metadata information is available from the Queensland
Spatial Catalogue (QSpatial).
If you would like to receive updates for new projects, functionality or
planned downtime please subscribe here: http://ems.gs/3qln0iYbIYQ.
Name: Basemaps/EarliestAerialOrtho_AllUsers
Description: This basemap service is designed to provide access to the earliest available
State Remotely Sensed Image Library collection of aerial imagery captured over
various locations in Queensland.
Basemap services comprise a single layer of static imagery optimised for
display purposes. This service can be used in dynamic mode to filter and
display individual project areas. Accuracy is dependent on the individual
projects and aerial images that comprise each project. The projects become
visible at a regional scale of 1:250,000.
The images comprised in each of the projects are orthorectified which removes
the effects of image perspective (tilt) and relief (terrain) effects for the
purpose of creating a planimetrically correct image. The resultant
orthorectified images have a constant scale wherein features are represented
in their “true” positions.
The source images, of the digitally scanned unrectified aerial film photo
frames, are produced by the State of Queensland (Department of Natural
Resources, Mines and Energy) and are available through QImagery.
This service is GDA2020 compatible and able to consumed in GDA2020 at the
client end.
This service supports projects captured in both GDA94 and GDA2020 datums. A
Seven parameter similarity transformation has been applied to new projects
that have been captured in GDA2020, this is to ensure that they align and
display correctly when published in the default WGS 1984 Web Mercator
(Auxiliary Sphere) projection alongside GDA94 projects.
The ISO 19115 standard metadata record for this service and further individual
epoch mosaic product metadata information is available from the Queensland
Spatial Catalogue (QSpatial).
If you would like to receive updates for new projects, functionality or
planned downtime please subscribe here: http://ems.gs/3qln0iYbIYQ.
Single Fused Map Cache: false
Extent:
XMin: 1.605298924230589E7
YMin: -3278166.889618084
XMax: 1.709688158695625E7
YMax: -3070479.0401865905
Spatial Reference: 102100
(3857)
LatestVCSWkid(0)
Initial Extent:
XMin: 1.605298924230589E7
YMin: -3278166.889618084
XMax: 1.709688158695625E7
YMax: -3070479.0401865905
Spatial Reference: 102100
(3857)
LatestVCSWkid(0)
Full Extent:
XMin: 1.605298924230589E7
YMin: -3278166.889618084
XMax: 1.709688158695625E7
YMax: -3070479.0401865905
Spatial Reference: 102100
(3857)
LatestVCSWkid(0)
Pixel Size X: 0.10017999178615562
Pixel Size Y: 0.10017999178615569
Band Count: 1
Pixel Type: U8
RasterFunction Infos: {"rasterFunctionInfos": [{
"name": "None",
"description": "",
"help": ""
}]}
Mensuration Capabilities: Basic
Inspection Capabilities:
Has Histograms: false
Has Colormap: false
Has Multi Dimensions : false
Rendering Rule:
Min Scale: 0
Max Scale: 0
Copyright Text: Includes material © State of Queensland (Department of Resources); © Commonwealth of Australia (Geoscience Australia), 2023.
Service Data Type: esriImageServiceDataTypeGeneric
Min Values: N/A
Max Values: N/A
Mean Values: N/A
Standard Deviation Values: N/A
Object ID Field: objectid
Fields:
-
objectid
(
type: esriFieldTypeOID, alias: objectid
)
-
name
(
type: esriFieldTypeString, alias: name, length: 200
)
-
minps
(
type: esriFieldTypeDouble, alias: minps
)
-
maxps
(
type: esriFieldTypeDouble, alias: maxps
)
-
lowps
(
type: esriFieldTypeDouble, alias: lowps
)
-
highps
(
type: esriFieldTypeDouble, alias: highps
)
-
category
(
type: esriFieldTypeInteger, alias: category
, Coded Values:
[0: Unknown]
, [1: Primary]
, [2: Overview]
, ...6 more...
)
-
centerx
(
type: esriFieldTypeDouble, alias: centerx
)
-
centery
(
type: esriFieldTypeDouble, alias: centery
)
-
zorder
(
type: esriFieldTypeInteger, alias: zorder
)
-
year
(
type: esriFieldTypeSmallInteger, alias: YEAR
)
-
title
(
type: esriFieldTypeString, alias: TITLE, length: 100
)
-
capturestart
(
type: esriFieldTypeDate, alias: CAPTURE_DATE_START, length: 8
)
-
captureend
(
type: esriFieldTypeDate, alias: CAPTURE_END_DATE, length: 8
)
-
metalink
(
type: esriFieldTypeString, alias: METADATA_LINK, length: 300
)
-
acq_driver
(
type: esriFieldTypeSmallInteger, alias: ACQUISITION_DRIVER
, Coded Values:
[1: Program]
, [2: Project]
, [3: Natural Disaster]
, ...3 more...
)
-
acq_driver_name
(
type: esriFieldTypeString, alias: ACQUISITION_DRIVER_NAME, length: 50
)
-
acq_platform
(
type: esriFieldTypeSmallInteger, alias: ACQ_PLATFORM
, Coded Values:
[2: Satellite]
, [3: Drone]
, [4: Terrestrial]
, ...3 more...
)
-
product_type
(
type: esriFieldTypeSmallInteger, alias: product_type
, Coded Values:
[1: Satellite RGB]
, [2: Satellite Multispectral]
, [3: Ortho Aerial Photo RGB]
, ...21 more...
)
-
info_sec_clas
(
type: esriFieldTypeSmallInteger, alias: INFORMATION_SECURITY_CLASS
, Coded Values:
[1: Public]
, [2: Official]
, [3: Sensitive]
, ...1 more...
)
-
info_sec_time
(
type: esriFieldTypeSmallInteger, alias: INFORMATION_SECURITY_TIME
)
-
app
(
type: esriFieldTypeSmallInteger, alias: APPLICATION
, Coded Values:
[1: Globe]
, [2: Globe_QImagery]
, [3: VegEDS]
, ...8 more...
)
-
res_class
(
type: esriFieldTypeSmallInteger, alias: RESOLUTION_CLASS
, Coded Values:
[1: High resolution]
, [2: All other resolutions]
)
-
exception
(
type: esriFieldTypeSmallInteger, alias: EXCEPTION
, Coded Values:
[1: Background]
, [2: Background_Public]
)
-
is_best
(
type: esriFieldTypeSmallInteger, alias: Best
, Coded Values:
[1: Best]
)
-
natural_disaster_type
(
type: esriFieldTypeSmallInteger, alias: NATURAL_DISASTER_TYPE
, Coded Values:
[1: Bushfire]
, [2: Cyclone]
, [3: Earthquake]
, ...5 more...
)
-
aoi
(
type: esriFieldTypeString, alias: Area Of Interest, length: 50
)
-
res_type
(
type: esriFieldTypeSmallInteger, alias: RESOLUTION_TYPE
, Coded Values:
[2: Point Density]
, [1: Ground Surface Distance]
, [3: Height]
, ...2 more...
)
-
res_value
(
type: esriFieldTypeDouble, alias: RESOLUTION_VALUE
)
-
status
(
type: esriFieldTypeSmallInteger, alias: Status
, Coded Values:
[1: Proposed]
, [2: Awarded]
, [3: Captured]
, ...5 more...
)
-
compliance_type
(
type: esriFieldTypeSmallInteger, alias: compliance_type
, Coded Values:
[1: Vegetation]
, [2: Water]
, [3: Mines]
, ...3 more...
)
-
res_unit
(
type: esriFieldTypeSmallInteger, alias: RES_UNIT
, Coded Values:
[1: mm]
, [2: cm]
, [3: m]
, ...1 more...
)
-
shape
(
type: esriFieldTypeGeometry, alias: shape
)
-
st_area(shape)
(
type: esriFieldTypeDouble, alias: st_area(shape)
)
-
st_perimeter(shape)
(
type: esriFieldTypeDouble, alias: st_perimeter(shape)
)
Default Mosaic Method: ByAttribute
Allowed Mosaic Methods: ByAttribute
SortField: ZOrder
SortValue: 0
Mosaic Operator: First
Default Compression Quality: 80
Default Resampling Method: Bilinear
Max Record Count: 1000
Max Image Height: 4100
Max Image Width: 7680
Max Download Image Count: 20
Max Mosaic Image Count: 20
Allow Raster Function: true
Allow Copy: true
Allow Analysis: true
Allow Compute TiePoints: false
Supports Statistics: true
Supports Advanced Queries: true
Use StandardizedQueries: true
Raster Type Infos:
Name: Raster Dataset
Description: Supports all ArcGIS Raster Datasets
Help:
Has Raster Attribute Table: false
Edit Fields Info: null
Ownership Based AccessControl For Rasters: null
Child Resources:
Info
Statistics
Key Properties
Legend
Raster Function Infos
Supported Operations:
Export Image
Query
Identify
Measure
Compute Histograms
Compute Statistics Histograms
Get Samples
Compute Class Statistics
Query GPS Info
Find Images
Image to Map
Map to Image
Measure from Image
Image to Map Multiray
Query Boundary
Compute Pixel Location
Compute Angles
Validate
Project