View In:
ArcGIS JavaScript
ArcGIS Online Map Viewer
ArcGIS Earth
Service Description: This service is designed to provide a performance imagery basemap (on demand
cache) for clients that don’t support cached/tiled services. This service
comprises a 2.4 metre resolution orthorectified visual mosaic product over
Queensland originally acquired under the QSat initiative from Planet during
2017 Quarter 3. The visual mosaic product is optimal for simple and direct use
of the imagery and is designed and made visually appealing for a wide variety
of applications that require imagery with an accurate geolocation and
cartographic projection.Quality Lineage: The mosaic encompasses a single-layer
composite of multiple customised PlanetScope ortho tiles (5 km x 5 km) where
each tile is composed of the highest quality natural colour (RGB) PlanetScope
Ortho Scene product imagery acquired between 1st July 2017 and 30th September
2017 (2017 Quarter 3). Each PlanetScope scene used in the generation of a tile
may have been originally captured at a Ground Sample Distance (GSD) of up to
3.7 metres (at reference altitude 475km). Sensor-related effects are corrected
using sensor telemetry and a sensor model, bands are co-registered, and
spacecraft-related effects are corrected using attitude telemetry and best
available ephemeris data. The PlanetScope tiles are orthorectified and colour-
corrected (using a colour curve). This correction attempts to optimize colours
as seen by the human eye providing images as they would look if viewed from
the perspective of the satellite. The tiles are processed to remove
distortions caused by terrain and can be used for cartographic mapping and
visualization purposes. The image processing eliminates the perspective effect
on the ground (not on buildings), restoring the geometry of a vertical shot.
Additionally, a correction is made to the sun angle in each image to account
for differences in latitude and time of acquisition. The PlanetScope tiles are
orthorectified using GCPs and fine DEMs (30 m to 90 m posting) to less than 10
m RMSE positional accuracy. Total cloud cover of the mosaic product is 0.23%.
The ISO 19115 standard metadata record for this service and further individual
epoch mosaic product metadata information is available from the Queensland
Spatial Catalogue (QSpatial).If you would like to receive updates for new
projects, functionality or planned downtime please subscribe here:
http://ems.gs/3qln0iYbIYQ.
Name: Basemaps/LatestSatelliteWOS_AllUsers
Description: This service is designed to provide a performance imagery basemap (on demand
cache) for clients that don’t support cached/tiled services. This service
comprises a 2.4 metre resolution orthorectified visual mosaic product over
Queensland originally acquired under the QSat initiative from Planet during
2017 Quarter 3. The visual mosaic product is optimal for simple and direct use
of the imagery and is designed and made visually appealing for a wide variety
of applications that require imagery with an accurate geolocation and
cartographic projection.Quality Lineage: The mosaic encompasses a single-layer
composite of multiple customised PlanetScope ortho tiles (5 km x 5 km) where
each tile is composed of the highest quality natural colour (RGB) PlanetScope
Ortho Scene product imagery acquired between 1st July 2017 and 30th September
2017 (2017 Quarter 3). Each PlanetScope scene used in the generation of a tile
may have been originally captured at a Ground Sample Distance (GSD) of up to
3.7 metres (at reference altitude 475km). Sensor-related effects are corrected
using sensor telemetry and a sensor model, bands are co-registered, and
spacecraft-related effects are corrected using attitude telemetry and best
available ephemeris data. The PlanetScope tiles are orthorectified and colour-
corrected (using a colour curve). This correction attempts to optimize colours
as seen by the human eye providing images as they would look if viewed from
the perspective of the satellite. The tiles are processed to remove
distortions caused by terrain and can be used for cartographic mapping and
visualization purposes. The image processing eliminates the perspective effect
on the ground (not on buildings), restoring the geometry of a vertical shot.
Additionally, a correction is made to the sun angle in each image to account
for differences in latitude and time of acquisition. The PlanetScope tiles are
orthorectified using GCPs and fine DEMs (30 m to 90 m posting) to less than 10
m RMSE positional accuracy. Total cloud cover of the mosaic product is 0.23%.
The ISO 19115 standard metadata record for this service and further individual
epoch mosaic product metadata information is available from the Queensland
Spatial Catalogue (QSpatial).If you would like to receive updates for new
projects, functionality or planned downtime please subscribe here:
http://ems.gs/3qln0iYbIYQ.
Single Fused Map Cache: false
Extent:
XMin: 1.5333392082051E7
YMin: -3440731.61276081
XMax: 1.711680171382308E7
YMax: -1005161.2567276101
Spatial Reference: 102100
(3857)
LatestVCSWkid(0)
Initial Extent:
XMin: 1.5333392082051E7
YMin: -3440731.61276081
XMax: 1.711680171382308E7
YMax: -1005161.2567276101
Spatial Reference: 102100
(3857)
LatestVCSWkid(0)
Full Extent:
XMin: 1.5333392082051E7
YMin: -3440731.61276081
XMax: 1.711680171382308E7
YMax: -1005161.2567276101
Spatial Reference: 102100
(3857)
LatestVCSWkid(0)
Pixel Size X: 2.388657130000001
Pixel Size Y: 2.38865713
Band Count: 4
Pixel Type: U8
RasterFunction Infos: {"rasterFunctionInfos": [{
"name": "None",
"description": "A No-Op Function.",
"help": ""
}]}
Mensuration Capabilities: Basic
Inspection Capabilities:
Has Histograms: false
Has Colormap: false
Has Multi Dimensions : false
Rendering Rule:
Min Scale: 0
Max Scale: 0
Resampling: false
Copyright Text: Includes material © Planet Labs Netherlands B.V., reproduced under licence from Planet and Geoplex, all rights reserved 2022.
Service Data Type: esriImageServiceDataTypeGeneric
Min Values: N/A
Max Values: N/A
Mean Values: N/A
Standard Deviation Values: N/A
Object ID Field: objectid
Fields:
-
objectid
(
type: esriFieldTypeOID, alias: objectid
)
-
name
(
type: esriFieldTypeString, alias: name, length: 200
)
-
minps
(
type: esriFieldTypeDouble, alias: minps
)
-
maxps
(
type: esriFieldTypeDouble, alias: maxps
)
-
lowps
(
type: esriFieldTypeDouble, alias: lowps
)
-
highps
(
type: esriFieldTypeDouble, alias: highps
)
-
category
(
type: esriFieldTypeInteger, alias: category
, Coded Values:
[0: Unknown]
, [1: Primary]
, [2: Overview]
, ...6 more...
)
-
tag
(
type: esriFieldTypeString, alias: tag, length: 100
)
-
groupname
(
type: esriFieldTypeString, alias: groupname, length: 100
)
-
productname
(
type: esriFieldTypeString, alias: productname, length: 100
)
-
centerx
(
type: esriFieldTypeDouble, alias: centerx
)
-
centery
(
type: esriFieldTypeDouble, alias: centery
)
-
zorder
(
type: esriFieldTypeInteger, alias: zorder
)
-
year
(
type: esriFieldTypeSmallInteger, alias: YEAR
)
-
title
(
type: esriFieldTypeString, alias: TITLE, length: 100
)
-
capturestart
(
type: esriFieldTypeDate, alias: CAPTURE_DATE_START, length: 8
)
-
captureend
(
type: esriFieldTypeDate, alias: CAPTURE_END_DATE, length: 8
)
-
metalink
(
type: esriFieldTypeString, alias: METADATA_LINK, length: 300
)
-
acq_driver
(
type: esriFieldTypeSmallInteger, alias: ACQUISITION_DRIVER
, Coded Values:
[1: Program]
, [2: Project]
, [3: Natural Disaster]
, ...3 more...
)
-
acq_driver_name
(
type: esriFieldTypeString, alias: ACQUISITION_DRIVER_NAME, length: 50
)
-
acq_platform
(
type: esriFieldTypeSmallInteger, alias: ACQ_PLATFORM
, Coded Values:
[2: Satellite]
, [3: Drone]
, [4: Terrestrial]
, ...3 more...
)
-
product_type
(
type: esriFieldTypeSmallInteger, alias: product_type
, Coded Values:
[1: Satellite RGB]
, [2: Satellite Multispectral]
, [3: Ortho Aerial Photo RGB]
, ...21 more...
)
-
info_sec_clas
(
type: esriFieldTypeSmallInteger, alias: INFORMATION_SECURITY_CLASS
, Coded Values:
[1: Public]
, [2: Official]
, [3: Sensitive]
, ...1 more...
)
-
app
(
type: esriFieldTypeSmallInteger, alias: APPLICATION
, Coded Values:
[1: Globe]
, [2: Globe_QImagery]
, [3: VegEDS]
, ...8 more...
)
-
res_class
(
type: esriFieldTypeSmallInteger, alias: RESOLUTION_CLASS
, Coded Values:
[1: High resolution]
, [2: All other resolutions]
)
-
res_type
(
type: esriFieldTypeSmallInteger, alias: RESOLUTION_TYPE
, Coded Values:
[2: Point Density]
, [1: Ground Surface Distance]
, [3: Height]
, ...2 more...
)
-
res_value
(
type: esriFieldTypeDouble, alias: RESOLUTION_VALUE
)
-
status
(
type: esriFieldTypeSmallInteger, alias: Status
, Coded Values:
[1: Proposed]
, [2: Awarded]
, [3: Captured]
, ...5 more...
)
-
res_unit
(
type: esriFieldTypeSmallInteger, alias: RES_UNIT
, Coded Values:
[1: mm]
, [2: cm]
, [3: m]
, ...1 more...
)
-
project_name
(
type: esriFieldTypeString, alias: project_name, length: 100
)
-
shape
(
type: esriFieldTypeGeometry, alias: shape
)
Default Mosaic Method: None
Allowed Mosaic Methods: None
SortField: N/A
SortValue: N/A
Mosaic Operator: First
Default Compression Quality: 80
Default Resampling Method: Bilinear
Max Record Count: 1000
Max Image Height: 4100
Max Image Width: 7680
Max Download Image Count: 20
Max Mosaic Image Count: 20
Allow Raster Function: true
Allow Copy: true
Allow Analysis: true
Allow Compute TiePoints: false
Supports Statistics: true
Supports Advanced Queries: true
Use StandardizedQueries: true
Raster Type Infos:
Name: Raster Dataset
Description: Supports all ArcGIS Raster Datasets
Help:
Has Raster Attribute Table: false
Edit Fields Info: null
Ownership Based AccessControl For Rasters: null
Child Resources:
Info
Statistics
Key Properties
Legend
Raster Function Infos
Supported Operations:
Export Image
Query
Identify
Measure
Compute Histograms
Compute Statistics Histograms
Get Samples
Compute Class Statistics
Query GPS Info
Find Images
Image to Map
Map to Image
Measure from Image
Image to Map Multiray
Query Boundary
Compute Pixel Location
Compute Angles
Validate
Project