View In:
ArcGIS JavaScript
ArcGIS Online Map Viewer
ArcGIS Earth
Service Description: This service includes: a) All available 1 metre or 0.5 meter resolution DTMs
derived from LiDAR point cloud over Queensland acquired under the Queensland
Government Coordinated LiDAR Program (CLP) b) ortho DEM ( DTM or DSM ) over
part of Queensland c) Geoscience Australia’s 1 second (30 metre resolution)
hydrologically corrected SRTM Digital DEM d) 30 metre, 100 meter and 250 metre
resolution Bathymetric data over Queensland coastline and Great Barrier Reef.
e) Canopy height model over particular areas. Accuracy is dependent on the
projects used. f) Bathymetric data covering parts of the Queensland coastline.
For items C and D in this service, all negative values in the SRTM data , and
all positive values in the bathymetry data have been removed from the raster.
Removing these pixels from the SRTM and the 30, 100 and 250 m bathymetry
datasets has resulted in some voids in the coastal areas. Web Service
Functions including Aspect, Hillshade, Slope_degrees and Slope_percent_rise
are available in none cached service. Additionally stretch and Dynamic Range
Adjustment (DRA) can be applied as required through the client to enhance
visual contrast. The complete metadata record for this service is available
from the Queensland Spatial Catalogue (QSpatial). This service supports
projects captured in both GDA94 and GDA2020 datums. A Seven parameter
similarity transformation has been applied to new projects that have been
captured in GDA2020, this is to ensure that they align and display correctly
when published in the default WGS 1984 Web Mercator (Auxiliary Sphere)
projection alongside GDA94 projects. The ISO 19115 standard metadata record
for this service and further individual epoch mosaic product metadata
information is available from the Queensland Spatial Catalogue (QSpatial). If
you would like to receive updates for new projects, functionality or planned
downtime please subscribe here: https://ems.gs/3iPy0jWcMnz
Name: Elevation/DEM_TimeSeries_AllUsers
Description: This service includes: a) All available 1 metre or 0.5 meter resolution DTMs
derived from LiDAR point cloud over Queensland acquired under the Queensland
Government Coordinated LiDAR Program (CLP) b) ortho DEM ( DTM or DSM ) over
part of Queensland c) Geoscience Australia’s 1 second (30 metre resolution)
hydrologically corrected SRTM Digital DEM d) 30 metre, 100 meter and 250 metre
resolution Bathymetric data over Queensland coastline and Great Barrier Reef.
e) Canopy height model over particular areas. Accuracy is dependent on the
projects used. f) Bathymetric data covering parts of the Queensland coastline.
For items C and D in this service, all negative values in the SRTM data , and
all positive values in the bathymetry data have been removed from the raster.
Removing these pixels from the SRTM and the 30, 100 and 250 m bathymetry
datasets has resulted in some voids in the coastal areas. Web Service
Functions including Aspect, Hillshade, Slope_degrees and Slope_percent_rise
are available in none cached service. Additionally stretch and Dynamic Range
Adjustment (DRA) can be applied as required through the client to enhance
visual contrast. The complete metadata record for this service is available
from the Queensland Spatial Catalogue (QSpatial). This service supports
projects captured in both GDA94 and GDA2020 datums. A Seven parameter
similarity transformation has been applied to new projects that have been
captured in GDA2020, this is to ensure that they align and display correctly
when published in the default WGS 1984 Web Mercator (Auxiliary Sphere)
projection alongside GDA94 projects. The ISO 19115 standard metadata record
for this service and further individual epoch mosaic product metadata
information is available from the Queensland Spatial Catalogue (QSpatial). If
you would like to receive updates for new projects, functionality or planned
downtime please subscribe here: https://ems.gs/3iPy0jWcMnz
Single Fused Map Cache: false
Extent:
XMin: 1.5352697490000002E7
YMin: -3406596.12
XMax: 1.7810292990000002E7
YMax: -1021899.6200000001
Spatial Reference: 102100
(3857)
LatestVCSWkid(0)
Initial Extent:
XMin: 1.5352697490000002E7
YMin: -3406596.12
XMax: 1.7810292990000002E7
YMax: -1021899.6200000001
Spatial Reference: 102100
(3857)
LatestVCSWkid(0)
Full Extent:
XMin: 1.5352697490000002E7
YMin: -3406596.12
XMax: 1.7810292990000002E7
YMax: -1021899.6200000001
Spatial Reference: 102100
(3857)
LatestVCSWkid(0)
Pixel Size X: 0.5
Pixel Size Y: 0.5
Band Count: 1
Pixel Type: F32
RasterFunction Infos: {"rasterFunctionInfos": [
{
"name": "None",
"description": "Make a Raster or Raster Dataset into a Function Raster Dataset.",
"help": ""
},
{
"name": "Aspect",
"description": "Identifies the downslope direction of the maximum rate of change in value from each cell to its neighbors.",
"help": ""
},
{
"name": "Hillshade",
"description": "This function creates a hillshade effect based on the elevation data source.",
"help": ""
},
{
"name": "Slope_degrees",
"description": "Calculates the rate of change of elevation for each DEM cell in degrees.",
"help": ""
},
{
"name": "Slope_percent_rise",
"description": "Calculates the rate of change of elevation for each DEM cell in percent rise.",
"help": ""
},
{
"name": "None",
"description": "Make a Raster or Raster Dataset into a Function Raster Dataset.",
"help": ""
},
{
"name": "Aspect",
"description": "Identifies the downslope direction of the maximum rate of change in value from each cell to its neighbors.",
"help": ""
},
{
"name": "CHM_Colormap",
"description": "A raster function template.",
"help": ""
},
{
"name": "Contour",
"description": "Creates contour lines.",
"help": ""
},
{
"name": "Hillshade",
"description": "This function creates a hillshade effect based on the elevation data source.",
"help": ""
},
{
"name": "Shaded_relief",
"description": "Generates a shaded relief from an elevation model and color ramp.",
"help": ""
},
{
"name": "Slope_degrees",
"description": "Calculates the rate of change of elevation for each DEM cell in degrees.",
"help": ""
},
{
"name": "Slope_percent_rise",
"description": "Calculates the rate of change of elevation for each DEM cell in percent rise.",
"help": ""
}
]}
Mensuration Capabilities: Basic
Inspection Capabilities:
Has Histograms: false
Has Colormap: false
Has Multi Dimensions : false
Rendering Rule:
Min Scale: 0
Max Scale: 0
Copyright Text: Includes material © State of Queensland (Department of Natural Resources and Mines, Manufacturing, and Regional and Rural Development); © Commonwealth of Australia (Geoscience Australia, The Australian Hydrographic Office); © www.deepreef.org 2026
Service Data Type: esriImageServiceDataTypeElevation
Min Values: -5113.751
Max Values: 1615.196
Mean Values: 212.182
Standard Deviation Values: 42.562
Object ID Field: objectid
Fields:
-
objectid
(
type: esriFieldTypeOID, alias: OBJECTID
)
-
name
(
type: esriFieldTypeString, alias: Name, length: 200
)
-
minps
(
type: esriFieldTypeDouble, alias: MinPS
)
-
maxps
(
type: esriFieldTypeDouble, alias: MaxPS
)
-
lowps
(
type: esriFieldTypeDouble, alias: LowPS
)
-
highps
(
type: esriFieldTypeDouble, alias: HighPS
)
-
category
(
type: esriFieldTypeInteger, alias: Category
, Coded Values:
[0: Unknown]
, [1: Primary]
, [2: Overview]
, ...6 more...
)
-
tag
(
type: esriFieldTypeString, alias: Tag, length: 100
)
-
groupname
(
type: esriFieldTypeString, alias: GroupName, length: 100
)
-
productname
(
type: esriFieldTypeString, alias: ProductName, length: 100
)
-
centerx
(
type: esriFieldTypeDouble, alias: CenterX
)
-
centery
(
type: esriFieldTypeDouble, alias: CenterY
)
-
zorder
(
type: esriFieldTypeInteger, alias: ZOrder
)
-
year
(
type: esriFieldTypeSmallInteger, alias: year
)
-
title
(
type: esriFieldTypeString, alias: title, length: 100
)
-
capturestart
(
type: esriFieldTypeDate, alias: capturestart, length: 8
)
-
captureend
(
type: esriFieldTypeDate, alias: captureend, length: 8
)
-
metalink
(
type: esriFieldTypeString, alias: metalink, length: 300
)
-
acq_driver
(
type: esriFieldTypeSmallInteger, alias: acq_driver
, Coded Values:
[1: Program]
, [2: Project]
, [3: Natural Disaster]
, ...3 more...
)
-
acq_driver_name
(
type: esriFieldTypeString, alias: acq_driver_name, length: 50
)
-
acq_platform
(
type: esriFieldTypeSmallInteger, alias: acq_platform
, Coded Values:
[2: Satellite]
, [3: Drone]
, [4: Terrestrial]
, ...3 more...
)
-
product_type
(
type: esriFieldTypeSmallInteger, alias: product_type
, Coded Values:
[1: Satellite RGB]
, [2: Satellite Multispectral]
, [3: Ortho Aerial Photo RGB]
, ...21 more...
)
-
info_sec_clas
(
type: esriFieldTypeSmallInteger, alias: info_sec_clas
, Coded Values:
[1: Public]
, [2: Official]
, [3: Sensitive]
, ...1 more...
)
-
is_public
(
type: esriFieldTypeSmallInteger, alias: is_public
, Coded Values:
[1: Public]
)
-
is_qgov
(
type: esriFieldTypeSmallInteger, alias: is_qgov
, Coded Values:
[1: QGOV users]
)
-
res_value
(
type: esriFieldTypeDouble, alias: res_value
)
-
is_clp
(
type: esriFieldTypeSmallInteger, alias: is_clp
, Coded Values:
[1: CLP]
)
-
res_type
(
type: esriFieldTypeSmallInteger, alias: res_type
, Coded Values:
[2: Point Density]
, [1: Ground Surface Distance]
, [3: Height]
, ...2 more...
)
-
status
(
type: esriFieldTypeSmallInteger, alias: status
, Coded Values:
[1: Proposed]
, [2: Awarded]
, [3: Captured]
, ...5 more...
)
-
shape
(
type: esriFieldTypeGeometry, alias: Shape
)
Default Mosaic Method: ByAttribute
Allowed Mosaic Methods: ByAttribute
SortField: ZOrder
SortValue: 0
Mosaic Operator: First
Default Compression Quality: 10000
Default Resampling Method: Bilinear
Max Record Count: 1000
Max Image Height: 4100
Max Image Width: 7680
Max Download Image Count: 20
Max Mosaic Image Count: 20
Allow Raster Function: true
Allow Copy: true
Allow Analysis: true
Allow Compute TiePoints: false
Supports Statistics: true
Supports Advanced Queries: true
Use StandardizedQueries: true
Raster Type Infos:
Name: Raster Dataset
Description: Supports all ArcGIS Raster Datasets
Help:
Has Raster Attribute Table: false
Edit Fields Info: null
Ownership Based AccessControl For Rasters: null
Child Resources:
Info
Statistics
Key Properties
Legend
Raster Function Infos
Supported Operations:
Export Image
Query
Identify
Measure
Compute Histograms
Compute Statistics Histograms
Get Samples
Compute Class Statistics
Query GPS Info
Find Images
Image to Map
Map to Image
Measure from Image
Image to Map Multiray
Query Boundary
Compute Pixel Location
Compute Angles
Validate
Project
Calculate Volume