View In:
ArcGIS JavaScript
ArcGIS Online Map Viewer
ArcGIS Earth
Service Description: This tile_cached elevation service is designed to provide access to publicly
available highest resolution, ortho Digital Terrain Model (DTM) data captured
by remotely piloted aircraft systems (drones), piloted aircraft, and the
Shuttle Radar Topography Mission (SRTM) and bathymetric data over areas of
Queensland. This digital terrain model (DTM) represents the bare ground
surface or depth without any objects like trees and buildings. This service
comprises the latest publicly available 0.5 and 1 metre resolution LiDAR DEMs
over Queensland acquired under Queensland Government coordinated acquisition
programs, Geoscience Australia’s 1 second (30 metre resolution) hydrologically
corrected SRTM Digital DEM, and 30, 100, 250 meter resolution bathymetric
data. Accuracy is dependent on the projects used. This Limited Error Raster
Compression (LERC) tile cached service, which handles tiles that connect
through multiple levels of details, is built for 3D content scenes, elevation
profiles, and is specialised for elevation surface data to extract per pixel
height values. Web Service Functions including Aspect, Hillshade,
Slope_degrees and Slope_percent_rise are available in cache-disabled service
in ESRI desktop clients. Additionally stretch and Dynamic Range Adjustment
(DRA) can be applied, in both the cache-enabled and cache-disabled service, as
required through any client to enhance visual contrast. The complete metadata
record for this service is available from the Queensland Spatial Catalogue.
This service supports projects captured in both GDA94 and GDA2020 datums. A
Seven parameter similarity transformation has been applied to new projects
that have been captured in GDA2020, this is to ensure that they align and
display correctly when published in the default WGS 1984 Web Mercator
(Auxiliary Sphere) projection alongside GDA94 projects. The ISO 19115 standard
metadata record for this service and further individual epoch mosaic product
metadata information is available from the Queensland Spatial Catalogue. If
you would like to receive updates for new projects, functionality or planned
downtime please subscribe here: http://ems.gs/3qln0ijbKGR .
Name: Elevation/QldDem
Description: This tile_cached elevation service is designed to provide access to publicly
available highest resolution, ortho Digital Terrain Model (DTM) data captured
by remotely piloted aircraft systems (drones), piloted aircraft, and the
Shuttle Radar Topography Mission (SRTM) and bathymetric data over areas of
Queensland. This digital terrain model (DTM) represents the bare ground
surface or depth without any objects like trees and buildings. This service
comprises the latest publicly available 0.5 and 1 metre resolution LiDAR DEMs
over Queensland acquired under Queensland Government coordinated acquisition
programs, Geoscience Australia’s 1 second (30 metre resolution) hydrologically
corrected SRTM Digital DEM, and 30, 100, 250 meter resolution bathymetric
data. Accuracy is dependent on the projects used. This Limited Error Raster
Compression (LERC) tile cached service, which handles tiles that connect
through multiple levels of details, is built for 3D content scenes, elevation
profiles, and is specialised for elevation surface data to extract per pixel
height values. Web Service Functions including Aspect, Hillshade,
Slope_degrees and Slope_percent_rise are available in cache-disabled service
in ESRI desktop clients. Additionally stretch and Dynamic Range Adjustment
(DRA) can be applied, in both the cache-enabled and cache-disabled service, as
required through any client to enhance visual contrast. The complete metadata
record for this service is available from the Queensland Spatial Catalogue.
This service supports projects captured in both GDA94 and GDA2020 datums. A
Seven parameter similarity transformation has been applied to new projects
that have been captured in GDA2020, this is to ensure that they align and
display correctly when published in the default WGS 1984 Web Mercator
(Auxiliary Sphere) projection alongside GDA94 projects. The ISO 19115 standard
metadata record for this service and further individual epoch mosaic product
metadata information is available from the Queensland Spatial Catalogue. If
you would like to receive updates for new projects, functionality or planned
downtime please subscribe here: http://ems.gs/3qln0ijbKGR .
Single Fused Map Cache: true
Tile Info:
- Height: 256
- Width: 256
- DPI: 96
-
Levels of Detail: 24
-
Level ID: 1
[ Start Tile, End Tile ]
- Resolution: 78271.5169639999
- Scale: 2.95828763795777E8
-
Level ID: 2
[ Start Tile, End Tile ]
- Resolution: 39135.7584820001
- Scale: 1.47914381897889E8
-
Level ID: 3
[ Start Tile, End Tile ]
- Resolution: 19567.8792409999
- Scale: 7.3957190948944E7
-
Level ID: 4
[ Start Tile, End Tile ]
- Resolution: 9783.93962049996
- Scale: 3.6978595474472E7
-
Level ID: 5
[ Start Tile, End Tile ]
- Resolution: 4891.96981024998
- Scale: 1.8489297737236E7
- Format: LERC
- Compression Quality: 0.0
- LERC Error: 0.1
- Origin: X: -2.0037508342787E7
Y: 2.0037508342787E7
- Spatial Reference: 102100
(3857)
LatestVCSWkid(0)
Storage Info:
- Storage Format: esriMapCacheStorageModeCompactV2
- Packet Size: 128
Extent:
XMin: 1.5352710013099998E7
YMin: -3449669.8503
XMax: 1.78102380131E7
YMax: -1021912.3503
Spatial Reference: 102100
(3857)
LatestVCSWkid(0)
Initial Extent:
XMin: 1.5352710013099998E7
YMin: -3449669.8503
XMax: 1.78102380131E7
YMax: -1021912.3503
Spatial Reference: 102100
(3857)
LatestVCSWkid(0)
Full Extent:
XMin: 1.5352710013099998E7
YMin: -3449669.8503
XMax: 1.78102380131E7
YMax: -1021912.3503
Spatial Reference: 102100
(3857)
LatestVCSWkid(0)
Pixel Size X: 0.5
Pixel Size Y: 0.5
Band Count: 1
Pixel Type: F32
RasterFunction Infos: {"rasterFunctionInfos": [
{
"name": "None",
"description": "A No-Op Function.",
"help": ""
},
{
"name": "Aspect",
"description": "Identifies the downslope direction of the maximum rate of change in value from each cell to its neighbors.",
"help": ""
},
{
"name": "Hillshade",
"description": "This function creates a hillshade effect based on the elevation data source.",
"help": ""
},
{
"name": "Slope_degrees",
"description": "Calculates the rate of change of elevation for each DEM cell in degrees.",
"help": ""
},
{
"name": "Slope_percent_rise",
"description": "Calculates the rate of change of elevation for each DEM cell in percent rise.",
"help": ""
},
{
"name": "None",
"description": "A No-Op Function.",
"help": ""
}
]}
Mensuration Capabilities: Basic
Inspection Capabilities:
Has Histograms: true
Has Colormap: false
Has Multi Dimensions : false
Rendering Rule:
Min Scale: 3.6978595474472E7
Max Scale: 1128.497176
Resampling: false
Copyright Text: Includes material © State of Queensland (Department of Natural Resources and Mines, Manufacturing, and Regional and Rural Development); © Commonwealth of Australia (Geoscience Australia, The Australian Hydrographic Office); © www.deepreef.org 2025
Service Data Type: esriImageServiceDataTypeGeneric
Min Values: -14.62607192993164
Max Values: 1573.3089599609375
Mean Values: 236.92015048598418
Standard Deviation Values: 168.14454166806036
Object ID Field: objectid
Fields:
-
objectid
(
type: esriFieldTypeOID, alias: objectid
)
-
name
(
type: esriFieldTypeString, alias: name, length: 200
)
-
minps
(
type: esriFieldTypeDouble, alias: minps
)
-
maxps
(
type: esriFieldTypeDouble, alias: maxps
)
-
lowps
(
type: esriFieldTypeDouble, alias: lowps
)
-
highps
(
type: esriFieldTypeDouble, alias: highps
)
-
category
(
type: esriFieldTypeInteger, alias: category
, Coded Values:
[0: Unknown]
, [1: Primary]
, [2: Overview]
, ...6 more...
)
-
tag
(
type: esriFieldTypeString, alias: tag, length: 100
)
-
centerx
(
type: esriFieldTypeDouble, alias: centerx
)
-
centery
(
type: esriFieldTypeDouble, alias: centery
)
-
zorder
(
type: esriFieldTypeInteger, alias: zorder
)
-
shape
(
type: esriFieldTypeGeometry, alias: shape
)
Default Mosaic Method: ByAttribute
Allowed Mosaic Methods: ByAttribute
SortField: zorder
SortValue: 0
Mosaic Operator: First
Default Compression Quality: 10000
Default Resampling Method: Bilinear
Max Record Count: 1000
Max Image Height: 2048
Max Image Width: 4096
Max Download Image Count: 20
Max Mosaic Image Count: 50
Allow Raster Function: true
Allow Copy: true
Allow Analysis: true
Allow Compute TiePoints: false
Supports Statistics: true
Supports Advanced Queries: true
Use StandardizedQueries: true
Raster Type Infos:
Name: Raster Dataset
Description: Supports all ArcGIS Raster Datasets
Help:
Has Raster Attribute Table: false
Edit Fields Info: null
Ownership Based AccessControl For Rasters: null
Child Resources:
Info
Histograms
Statistics
Key Properties
Legend
Raster Function Infos
Supported Operations:
Export Image
Identify
Compute Histograms
Compute Statistics Histograms
Get Samples
Compute Class Statistics
Query Boundary
Compute Pixel Location
Compute Angles
Validate
Project