View In:
ArcGIS JavaScript
ArcGIS Online Map Viewer
ArcGIS Earth
Service Description: This service is designed to provide access to the state Remotely Sensed Image
Library collection of publicly available natural disaster satellite imagery
over Queensland captured from satellite, manned aircraft, or remotely piloted
(drone) platforms.Natural disaster events include flood, bushfire, earthquake,
tropical cyclone, storm, tornado, storm surge, landslide, tsunami, volcanic
activity, meteorite strike, or other significant weather occurrences.The
service is dynamic and can be used to filter and display individual imagery
projects. The projects range from 5cm to 10m resolution. Accuracy is dependent
on the individual projects. Periodical updates will be made to the service as
new projects are released to the public domain. Projects are visible at scales
1:50,000, 1:250,000 and 1:500,000.The optical imagery comprised in each of the
projects is acquired by sensors from the visible (red, green, blue), near-
infrared, and mid-infrared regions of the electromagnetic spectrum and is
displayed in this service in either natural colour or false colour
combinations to enhance visual image interpretation.This service supports
projects captured in both GDA94 and GDA2020 datums. A Seven parameter
similarity transformation has been applied to new projects that have been
captured in GDA2020, this is to ensure that they align and display correctly
when published in the default WGS 1984 Web Mercator (Auxiliary Sphere)
projection alongside GDA94 projects.The ISO 19115 standard metadata record for
this service and further individual epoch mosaic product metadata information
is available from the Queensland Spatial Catalogue (QSpatial).If you would
like to receive updates for new projects, functionality or planned downtime
please subscribe here: https://ems.gs/3iPy0jWcMnz.
Name: EventsIncidents/NaturalDisaster_Imagery_OpenData
Description: This service is designed to provide access to the state Remotely Sensed Image
Library collection of publicly available natural disaster satellite imagery
over Queensland captured from satellite, manned aircraft, or remotely piloted
(drone) platforms.Natural disaster events include flood, bushfire, earthquake,
tropical cyclone, storm, tornado, storm surge, landslide, tsunami, volcanic
activity, meteorite strike, or other significant weather occurrences.The
service is dynamic and can be used to filter and display individual imagery
projects. The projects range from 5cm to 10m resolution. Accuracy is dependent
on the individual projects. Periodical updates will be made to the service as
new projects are released to the public domain. Projects are visible at scales
1:50,000, 1:250,000 and 1:500,000.The optical imagery comprised in each of the
projects is acquired by sensors from the visible (red, green, blue), near-
infrared, and mid-infrared regions of the electromagnetic spectrum and is
displayed in this service in either natural colour or false colour
combinations to enhance visual image interpretation.This service supports
projects captured in both GDA94 and GDA2020 datums. A Seven parameter
similarity transformation has been applied to new projects that have been
captured in GDA2020, this is to ensure that they align and display correctly
when published in the default WGS 1984 Web Mercator (Auxiliary Sphere)
projection alongside GDA94 projects.The ISO 19115 standard metadata record for
this service and further individual epoch mosaic product metadata information
is available from the Queensland Spatial Catalogue (QSpatial).If you would
like to receive updates for new projects, functionality or planned downtime
please subscribe here: https://ems.gs/3iPy0jWcMnz.
Single Fused Map Cache: false
Extent:
XMin: 1.5416347411624383E7
YMin: -3404002.5886785523
XMax: 1.737000024517445E7
YMax: -1016998.431287577
Spatial Reference: 102100
(3857)
LatestVCSWkid(0)
Initial Extent:
XMin: 1.5416347411624383E7
YMin: -3404002.5886785523
XMax: 1.737000024517445E7
YMax: -1016998.431287577
Spatial Reference: 102100
(3857)
LatestVCSWkid(0)
Full Extent:
XMin: 1.5416347411624383E7
YMin: -3404002.5886785523
XMax: 1.737000024517445E7
YMax: -1016998.431287577
Spatial Reference: 102100
(3857)
LatestVCSWkid(0)
Pixel Size X: 3.302705747543351
Pixel Size Y: 3.3027057475433494
Band Count: 3
Pixel Type: U8
RasterFunction Infos: {"rasterFunctionInfos": [{
"name": "None",
"description": "Make a Raster or Raster Dataset into a Function Raster Dataset.",
"help": ""
}]}
Mensuration Capabilities: Basic
Inspection Capabilities:
Has Histograms: false
Has Colormap: false
Has Multi Dimensions : false
Rendering Rule:
Min Scale: 3.6978595474472E7
Max Scale: 564.248588
Copyright Text: Includes material © 2026 State of Queensland (Department of Natural Resources and Mines, Manufacturing, and Regional and Rural Development), Commonwealth of Australia (Geoscience Australia), Planet Labs PBC. All rights reserved.
Service Data Type: esriImageServiceDataTypeRGB
Min Values: N/A
Max Values: N/A
Mean Values: N/A
Standard Deviation Values: N/A
Object ID Field: objectid
Fields:
-
objectid
(
type: esriFieldTypeOID, alias: OBJECTID
)
-
name
(
type: esriFieldTypeString, alias: Name, length: 200
)
-
category
(
type: esriFieldTypeInteger, alias: Category
, Coded Values:
[0: Unknown]
, [1: Primary]
, [2: Overview]
, ...6 more...
)
-
zorder
(
type: esriFieldTypeInteger, alias: ZOrder
)
-
year
(
type: esriFieldTypeSmallInteger, alias: year
)
-
title
(
type: esriFieldTypeString, alias: title, length: 100
)
-
capturestart
(
type: esriFieldTypeDate, alias: capturestart, length: 8
)
-
captureend
(
type: esriFieldTypeDate, alias: captureend, length: 8
)
-
metalink
(
type: esriFieldTypeString, alias: metalink, length: 300
)
-
acq_driver
(
type: esriFieldTypeSmallInteger, alias: acq_driver
)
-
acq_driver_name
(
type: esriFieldTypeString, alias: acq_driver_name, length: 50
)
-
acq_platform
(
type: esriFieldTypeSmallInteger, alias: acq_platform
)
-
product_type
(
type: esriFieldTypeSmallInteger, alias: product_type
)
-
info_sec_clas
(
type: esriFieldTypeSmallInteger, alias: info_sec_clas
)
-
is_qgov
(
type: esriFieldTypeSmallInteger, alias: is_qgov
)
-
res_class
(
type: esriFieldTypeSmallInteger, alias: res_class
)
-
natural_disaster_type
(
type: esriFieldTypeSmallInteger, alias: natural_disaster_type
)
-
aoi
(
type: esriFieldTypeString, alias: aoi, length: 50
)
-
res_type
(
type: esriFieldTypeSmallInteger, alias: res_type
)
-
res_value
(
type: esriFieldTypeSmallInteger, alias: res_value
)
-
status
(
type: esriFieldTypeSmallInteger, alias: status
)
-
res_unit
(
type: esriFieldTypeSmallInteger, alias: res_unit
)
-
shape
(
type: esriFieldTypeGeometry, alias: Shape
)
Default Mosaic Method: ByAttribute
Allowed Mosaic Methods: ByAttribute
SortField: ZOrder
SortValue: 0
Mosaic Operator: First
Default Compression Quality: 80
Default Resampling Method: Bilinear
Max Record Count: 2000
Max Image Height: 4000
Max Image Width: 4000
Max Download Image Count: 50
Max Mosaic Image Count: 50
Allow Raster Function: true
Allow Copy: true
Allow Analysis: true
Allow Compute TiePoints: false
Supports Statistics: true
Supports Advanced Queries: true
Use StandardizedQueries: true
Raster Type Infos:
Name: Raster Dataset
Description: Supports all ArcGIS Raster Datasets
Help:
Has Raster Attribute Table: false
Edit Fields Info: null
Ownership Based AccessControl For Rasters: null
Child Resources:
Info
Statistics
Key Properties
Legend
Raster Function Infos
Supported Operations:
Export Image
Query
Identify
Measure
Compute Histograms
Compute Statistics Histograms
Get Samples
Compute Class Statistics
Query GPS Info
Find Images
Image to Map
Map to Image
Measure from Image
Image to Map Multiray
Query Boundary
Compute Pixel Location
Compute Angles
Validate
Project
EstimateExportTilesSize
ExportTiles