View In:
  ArcGIS JavaScript
  ArcGIS Online Map Viewer
  ArcGIS Earth
Service Description:  FloodCheck/FloodLevels
Name:  FloodCheck/FloodLevels
Description:  
Single Fused Map Cache:  false
Extent: 
XMin: 1.5372796511454348E7
YMin: -3376633.302864254
XMax: 1.7046380511454348E7
YMax: -1832141.302864254
Spatial Reference: 102100
 (3857)
 LatestVCSWkid(0)
Initial Extent: 
XMin: 1.5372796511454348E7
YMin: -3376633.302864254
XMax: 1.7046380511454348E7
YMax: -1832141.302864254
Spatial Reference: 102100
 (3857)
 LatestVCSWkid(0)
Full Extent: 
XMin: 1.5372796511454348E7
YMin: -3376633.302864254
XMax: 1.7046380511454348E7
YMax: -1832141.302864254
Spatial Reference: 102100
 (3857)
 LatestVCSWkid(0)
Pixel Size X:  1.0
Pixel Size Y:  1.0
Band Count: 1
Pixel Type: S8
RasterFunction Infos:  {"rasterFunctionInfos": [
 {
  "name": "floodlevel_symbology",
  "description": "floodlevel symbology",
  "help": ""
 },
 {
  "name": "None",
  "description": "Make a Raster or Raster Dataset into a Function Raster Dataset.",
  "help": ""
 }
]}
Mensuration Capabilities: Basic
Inspection Capabilities: 
Has Histograms:  true
Has Colormap:  false
Has Multi Dimensions :  false
Rendering Rule: 
Min Scale:  0
Max Scale:  0
Copyright Text:  
Service Data Type:  esriImageServiceDataTypeGeneric
Min Values:  -128
Max Values:  127
Mean Values:  2.5278968605013086
Standard Deviation Values:  2.333083756926802
Object ID Field:  objectid
Fields: 
- 
objectid
(
type: esriFieldTypeOID, alias: OBJECTID
)
 
- 
name
(
type: esriFieldTypeString, alias: Name, length: 200
)
 
- 
minps
(
type: esriFieldTypeDouble, alias: MinPS
)
 
- 
maxps
(
type: esriFieldTypeDouble, alias: MaxPS
)
 
- 
lowps
(
type: esriFieldTypeDouble, alias: LowPS
)
 
- 
highps
(
type: esriFieldTypeDouble, alias: HighPS
)
 
- 
category
(
type: esriFieldTypeInteger, alias: Category
, Coded Values: 
[0: Unknown]
, [1: Primary]
, [2: Overview]
, ...6 more...
)
 
- 
tag
(
type: esriFieldTypeString, alias: Tag, length: 100
)
 
- 
groupname
(
type: esriFieldTypeString, alias: GroupName, length: 100
)
 
- 
productname
(
type: esriFieldTypeString, alias: ProductName, length: 100
)
 
- 
centerx
(
type: esriFieldTypeDouble, alias: CenterX
)
 
- 
centery
(
type: esriFieldTypeDouble, alias: CenterY
)
 
- 
zorder
(
type: esriFieldTypeInteger, alias: ZOrder
)
 
- 
dis_order
(
type: esriFieldTypeInteger, alias: DIS_ORDER
)
 
- 
gauge_level
(
type: esriFieldTypeDouble, alias: FLOOD_LEVEL
)
 
- 
level_description
(
type: esriFieldTypeString, alias: LEVEL, length: 100
)
 
- 
mapindexid
(
type: esriFieldTypeInteger, alias: MapIndexId
)
 
- 
raster_key
(
type: esriFieldTypeSmallInteger, alias: Raster_Key
)
 
- 
study
(
type: esriFieldTypeString, alias: Study, length: 20
)
 
- 
location
(
type: esriFieldTypeString, alias: Location, length: 25
)
 
- 
includeindisplay
(
type: esriFieldTypeString, alias: IncludeInDisplay, length: 1
)
 
- 
flabel
(
type: esriFieldTypeString, alias: FLabel, length: 10
)
 
- 
video_link
(
type: esriFieldTypeString, alias: Video_Link, length: 100
)
 
- 
shape
(
type: esriFieldTypeGeometry, alias: Shape
)
 
- 
shape_Length
(
type: esriFieldTypeDouble, alias: shape_Length
)
 
- 
shape_Area
(
type: esriFieldTypeDouble, alias: shape_Area
)
 
Default Mosaic Method:  Northwest
Allowed Mosaic Methods:  NorthWest,Center,ByAttribute
SortField:  
SortValue:  null
Mosaic Operator:  First
Default Compression Quality:  80
Default Resampling Method:  Bilinear
Max Record Count:  1000
Max Image Height:  4100
Max Image Width:  7680
Max Download Image Count:  20
Max Mosaic Image Count:  50
Allow Raster Function:  true
Allow Copy:  true
Allow Analysis:  true
Allow Compute TiePoints:  false
Supports Statistics:  true
Supports Advanced Queries:  true
Use StandardizedQueries:  true
Raster Type Infos: 
Name: Raster Dataset
Description: Supports all ArcGIS Raster Datasets
Help: 
Has Raster Attribute Table:  false
Edit Fields Info:  null
Ownership Based AccessControl For Rasters:  null
Child Resources:
  
Info
  Histograms
  Statistics
  Key Properties
  Legend
  Raster Function Infos
Supported Operations:
  
Export Image
  Query
  Identify
  Measure
  Compute Histograms
  Compute Statistics Histograms
  Get Samples
  Compute Class Statistics
  Query GPS Info
  Find Images
  Image to Map
  Map to Image
  Measure from Image
  Image to Map Multiray
  Query Boundary
  Compute Pixel Location
  Compute Angles
  Validate
  Project