View In:
ArcGIS JavaScript
ArcGIS Online Map Viewer
ArcGIS Earth
ArcMap
View Footprint In:
ArcGIS Online Map Viewer
Service Description: This service is designed to provide access to the state Remotely Sensed Image
Library collection of publicly available natural disaster multispectral
imagery over Queensland captured from satellite, manned aircraft, or remotely
piloted (drone) platforms.
Natural disaster events include flood, bushfire, earthquake, tropical cyclone,
storm, tornado, storm surge, landslide, tsunami, volcanic activity, meteorite
strike, or other significant weather occurrences.
This service displays multispectral imagery (analytic imagery) over areas
affected by the natural disasters in the visible (red, green, blue), near-
infrared, and mid-infrared regions of the electromagnetic spectrum. The
original images are reprocessed to adjust the combination and ordering of
spectral bands in order to combine multispectral images from different sensors
and platforms into a single web service that offers a consistent user
experience. Accuracy is dependent on the projects used. Projects become
visible in the service at a regional scale of 1:250,000.
Default functions for False Colour (bands 4,3,2) and True Colour (bands 3,2,1)
products are available within the service, or alternatively band combinations
can be combined and stretched, and the Dynamic Range Adjustment applied as
required through the client. The service has a LERC compression.
This service supports projects captured in both GDA94 and GDA2020 datums. A
Seven parameter similarity transformation has been applied to new projects
that have been captured in GDA2020, this is to ensure that they align and
display correctly when published in the default WGS 1984 Web Mercator
(Auxiliary Sphere) projection alongside GDA94 projects.
The ISO 19115 standard metadata record for this service and further individual
epoch mosaic product metadata information is available from the Queensland
Spatial Catalogue (QSpatial).
If you would like to receive updates for new projects, functionality or
planned downtime please subscribe here: http://ems.gs/3qln0iYbIYQ.
Name: TimeSeries/NaturalDisaster_Analytic_AllUsers
Description: This service is designed to provide access to the state Remotely Sensed Image
Library collection of publicly available natural disaster multispectral
imagery over Queensland captured from satellite, manned aircraft, or remotely
piloted (drone) platforms.
Natural disaster events include flood, bushfire, earthquake, tropical cyclone,
storm, tornado, storm surge, landslide, tsunami, volcanic activity, meteorite
strike, or other significant weather occurrences.
This service displays multispectral imagery (analytic imagery) over areas
affected by the natural disasters in the visible (red, green, blue), near-
infrared, and mid-infrared regions of the electromagnetic spectrum. The
original images are reprocessed to adjust the combination and ordering of
spectral bands in order to combine multispectral images from different sensors
and platforms into a single web service that offers a consistent user
experience. Accuracy is dependent on the projects used. Projects become
visible in the service at a regional scale of 1:250,000.
Default functions for False Colour (bands 4,3,2) and True Colour (bands 3,2,1)
products are available within the service, or alternatively band combinations
can be combined and stretched, and the Dynamic Range Adjustment applied as
required through the client. The service has a LERC compression.
This service supports projects captured in both GDA94 and GDA2020 datums. A
Seven parameter similarity transformation has been applied to new projects
that have been captured in GDA2020, this is to ensure that they align and
display correctly when published in the default WGS 1984 Web Mercator
(Auxiliary Sphere) projection alongside GDA94 projects.
The ISO 19115 standard metadata record for this service and further individual
epoch mosaic product metadata information is available from the Queensland
Spatial Catalogue (QSpatial).
If you would like to receive updates for new projects, functionality or
planned downtime please subscribe here: http://ems.gs/3qln0iYbIYQ.
Single Fused Map Cache: false
Extent:
XMin: 1.5357057758744223E7
YMin: -3037558.2091780384
XMax: 1.6481473077444743E7
YMax: -1835939.8078390183
Spatial Reference: 102100
(3857)
Initial Extent:
XMin: 1.5357057758744223E7
YMin: -3037558.2091780384
XMax: 1.6481473077444743E7
YMax: -1835939.8078390183
Spatial Reference: 102100
(3857)
Full Extent:
XMin: 1.5357057758744223E7
YMin: -3037558.2091780384
XMax: 1.6481473077444743E7
YMax: -1835939.8078390183
Spatial Reference: 102100
(3857)
Pixel Size X: 0.4019423800000001
Pixel Size Y: 0.40194238000000004
Band Count: 4
Pixel Type: U16
RasterFunction Infos: {"rasterFunctionInfos": [
{
"name": "None",
"description": "A No-Op Function.",
"help": ""
},
{
"name": "FalseColourFunctionTemplate",
"description": "False colour function template. Band combination 4 3 2.",
"help": ""
},
{
"name": "TrueColourFunctionTemplate",
"description": "True colour function template. Band combination 3 2 1",
"help": ""
},
{
"name": "None",
"description": "A No-Op Function.",
"help": ""
}
]}
Mensuration Capabilities: Basic
Has Histograms: false
Has Colormap: false
Has Multi Dimensions : false
Rendering Rule:
Min Scale: 0
Max Scale: 0
Copyright Text: Includes material © 2022 State of Queensland, Commonwealth of Australia (Geoscience Australia), Planet Labs PBC. All rights reserved.
Service Data Type: esriImageServiceDataTypeGeneric
Min Values: N/A
Max Values: N/A
Mean Values: N/A
Standard Deviation Values: N/A
Object ID Field: objectid
Fields:
-
objectid
(
type: esriFieldTypeOID, alias: OBJECTID
)
-
name
(
type: esriFieldTypeString, alias: Name, length: 200
)
-
minps
(
type: esriFieldTypeDouble, alias: MinPS
)
-
maxps
(
type: esriFieldTypeDouble, alias: MaxPS
)
-
lowps
(
type: esriFieldTypeDouble, alias: LowPS
)
-
highps
(
type: esriFieldTypeDouble, alias: HighPS
)
-
category
(
type: esriFieldTypeInteger, alias: Category
, Coded Values:
[0: Unknown]
, [1: Primary]
, [2: Overview]
, ...6 more...
)
-
tag
(
type: esriFieldTypeString, alias: Tag, length: 100
)
-
groupname
(
type: esriFieldTypeString, alias: GroupName, length: 100
)
-
productname
(
type: esriFieldTypeString, alias: ProductName, length: 100
)
-
centerx
(
type: esriFieldTypeDouble, alias: CenterX
)
-
centery
(
type: esriFieldTypeDouble, alias: CenterY
)
-
zorder
(
type: esriFieldTypeInteger, alias: ZOrder
)
-
year
(
type: esriFieldTypeSmallInteger, alias: YEAR
)
-
title
(
type: esriFieldTypeString, alias: TITLE, length: 100
)
-
capturestart
(
type: esriFieldTypeDate, alias: CAPTURE_DATE_START, length: 8
)
-
captureend
(
type: esriFieldTypeDate, alias: CAPTURE_DATE_END, length: 8
)
-
metalink
(
type: esriFieldTypeString, alias: METADATA_LINK, length: 300
)
-
acq_driver
(
type: esriFieldTypeSmallInteger, alias: ACQUISITION_DRIVER
, Coded Values:
[1: Program]
, [2: Project]
, [3: Natural Disaster]
, ...3 more...
)
-
acq_driver_name
(
type: esriFieldTypeString, alias: ACQUISITION_DRIVER_NAME, length: 50
)
-
acq_platform
(
type: esriFieldTypeSmallInteger, alias: ACQUISITION_PLATFORM
, Coded Values:
[2: Satellite]
, [3: Drone]
, [4: Terrestrial]
, ...3 more...
)
-
product_type
(
type: esriFieldTypeSmallInteger, alias: PRODUCT_TYPE
, Coded Values:
[1: Satellite RGB]
, [2: Satellite Multispectral]
, [3: Ortho Aerial Photo RGB]
, ...21 more...
)
-
info_sec_clas
(
type: esriFieldTypeSmallInteger, alias: INFORMATION_SECURITY_CLASS
, Coded Values:
[1: Public]
, [2: Official]
, [3: Sensitive]
, ...1 more...
)
-
is_latest
(
type: esriFieldTypeSmallInteger, alias: IS_LATEST
, Coded Values:
[1: Latest]
, [2: First]
, [3: Before]
)
-
res_class
(
type: esriFieldTypeSmallInteger, alias: RESOLUTION_CLASS
, Coded Values:
[1: High resolution]
, [2: All other resolutions]
)
-
res_value
(
type: esriFieldTypeDouble, alias: RESOLUTION_VALUE
)
-
natural_distaster_type
(
type: esriFieldTypeSmallInteger, alias: NATURAL_DISTASTER_TYPE
, Coded Values:
[1: Bushfire]
, [2: Cyclone]
, [3: Earthquake]
, ...5 more...
)
-
aoi
(
type: esriFieldTypeString, alias: Area Of Interest, length: 50
)
-
res_type
(
type: esriFieldTypeSmallInteger, alias: RESOLUTION_TYPE
, Coded Values:
[2: Point Density]
, [1: Ground Surface Distance]
, [3: Height]
, ...2 more...
)
-
status
(
type: esriFieldTypeSmallInteger, alias: STATUS
, Coded Values:
[1: Proposed]
, [2: Awarded]
, [3: Captured]
, ...5 more...
)
-
res_unit
(
type: esriFieldTypeSmallInteger, alias: RES_UNIT
, Coded Values:
[1: mm]
, [2: cm]
, [3: m]
, ...1 more...
)
-
shape
(
type: esriFieldTypeGeometry, alias: Shape
)
-
st_area(shape)
(
type: esriFieldTypeDouble, alias: st_area(shape)
)
-
st_perimeter(shape)
(
type: esriFieldTypeDouble, alias: st_perimeter(shape)
)
Default Mosaic Method: ByAttribute
Allowed Mosaic Methods: ByAttribute
SortField: ZOrder
SortValue: 0
Mosaic Operator: First
Default Compression Quality: 10000
Default Resampling Method: Bilinear
Max Record Count: 1000
Max Image Height: 4100
Max Image Width: 7680
Max Download Image Count: 20
Max Mosaic Image Count: 20
Allow Raster Function: true
Allow Compute TiePoints: false
Supports Statistics: true
Supports Advanced Queries: true
Use StandardizedQueries: true
Raster Type Infos:
Name: Raster Dataset
Description: Supports all ArcGIS Raster Datasets
Help:
Has Raster Attribute Table: false
Edit Fields Info: null
Ownership Based AccessControl For Rasters: null
Child Resources:
Info
Key Properties
Legend
MultiDimensionalInfo
rasterFunctionInfos
Supported Operations:
Export Image
Query
Identify
Measure
Compute Histograms
Compute Statistics Histograms
Get Samples
Compute Class Statistics
Query Boundary
Compute Pixel Location