View In:
ArcGIS JavaScript
ArcGIS Online Map Viewer
ArcGIS Earth
Service Description: This service is designed to provide public access to the State Remotely Sensed
Image Library collection of aerial imagery captured under government projects
and programs that is not otherwise restricted under licencing or information
security classifications. Aerial imagery that is three years or older captured
under the Spatial Imagery Services Program (SISP) is made available for public
use openly by the Department of Resources, Queensland. The service is dynamic
and can be used to filter and display individual aerial photo projects. The
projects range from 2cm to 50cm resolution. Accuracy is dependent on the
individual projects. Periodical updates will be made to the service as new
projects are released to the public domain. Projects are visible at regional
scales of 1:250,000 or larger.The service also supports multi-band imagery and
for the projects attributed as ‘Ortho Aerial Photo Multispectral' in the
'product_type' field. A custom function is available for Colour InfraRed
(bands 4,1,2) to contrast or highlight vegetation against other land use
types. Alternatively, users can define other band combinations and stretch
types as required through the client.The aerial photos comprised in each of
the projects are orthorectified which removes the effects of image perspective
(tilt) and relief (terrain) effects for the purpose of creating a
planimetrically correct image. The resultant orthorectified images have a
constant scale wherein features are represented in their “true” positions.This
service supports projects captured in both GDA94 and GDA2020 datums. A Seven
parameter similarity transformation has been applied to new projects that have
been captured in GDA2020, this is to ensure that they align and display
correctly when published in the default WGS 1984 Web Mercator (Auxiliary
Sphere) projection alongside GDA94 projects.The ISO 19115 standard metadata
record for this service and further individual epoch mosaic product metadata
information is available from the Queensland Spatial Catalogue (QSpatial).If
you would like to receive updates for new projects, functionality or planned
downtime please subscribe here: http://ems.gs/3qln0iYbIYQ.
Name: TimeSeries/AerialOrtho_AllUsers
Description: This service is designed to provide public access to the State Remotely Sensed
Image Library collection of aerial imagery captured under government projects
and programs that is not otherwise restricted under licencing or information
security classifications. Aerial imagery that is three years or older captured
under the Spatial Imagery Services Program (SISP) is made available for public
use openly by the Department of Resources, Queensland. The service is dynamic
and can be used to filter and display individual aerial photo projects. The
projects range from 2cm to 50cm resolution. Accuracy is dependent on the
individual projects. Periodical updates will be made to the service as new
projects are released to the public domain. Projects are visible at regional
scales of 1:250,000 or larger.The service also supports multi-band imagery and
for the projects attributed as ‘Ortho Aerial Photo Multispectral' in the
'product_type' field. A custom function is available for Colour InfraRed
(bands 4,1,2) to contrast or highlight vegetation against other land use
types. Alternatively, users can define other band combinations and stretch
types as required through the client.The aerial photos comprised in each of
the projects are orthorectified which removes the effects of image perspective
(tilt) and relief (terrain) effects for the purpose of creating a
planimetrically correct image. The resultant orthorectified images have a
constant scale wherein features are represented in their “true” positions.This
service supports projects captured in both GDA94 and GDA2020 datums. A Seven
parameter similarity transformation has been applied to new projects that have
been captured in GDA2020, this is to ensure that they align and display
correctly when published in the default WGS 1984 Web Mercator (Auxiliary
Sphere) projection alongside GDA94 projects.The ISO 19115 standard metadata
record for this service and further individual epoch mosaic product metadata
information is available from the Queensland Spatial Catalogue (QSpatial).If
you would like to receive updates for new projects, functionality or planned
downtime please subscribe here: http://ems.gs/3qln0iYbIYQ.
Single Fused Map Cache: false
Extent:
XMin: 1.5174177434193352E7
YMin: -3596454.182489898
XMax: 1.8226991780526403E7
YMax: -888815.388597398
Spatial Reference: 102100
(3857)
LatestVCSWkid(0)
Initial Extent:
XMin: 1.5174177434193352E7
YMin: -3596454.182489898
XMax: 1.8226991780526403E7
YMax: -888815.388597398
Spatial Reference: 102100
(3857)
LatestVCSWkid(0)
Full Extent:
XMin: 1.5174177434193352E7
YMin: -3596454.182489898
XMax: 1.8226991780526403E7
YMax: -888815.388597398
Spatial Reference: 102100
(3857)
LatestVCSWkid(0)
Pixel Size X: 0.005031650000000002
Pixel Size Y: 0.00503165
Band Count: 4
Pixel Type: U8
RasterFunction Infos: {"rasterFunctionInfos": [
{
"name": "None",
"description": "A No-Op Function.",
"help": ""
},
{
"name": "ColourInfraRed_412",
"description": "A raster function template to display 4 band RGBI imagery with a Colour InfraRed band combination. Bands: 4(Near Infrared) 1(Red) and 2(Green)",
"help": ""
},
{
"name": "None",
"description": "A No-Op Function.",
"help": ""
}
]}
Mensuration Capabilities: Basic
Inspection Capabilities:
Has Histograms: false
Has Colormap: false
Has Multi Dimensions : false
Rendering Rule:
Min Scale: 0
Max Scale: 0
Resampling: false
Copyright Text: Includes material © State of Queensland (Department of Natural Resources and Mines, Manufacturing and Regional and Rural Development), 2026.
Service Data Type: esriImageServiceDataTypeGeneric
Min Values: N/A
Max Values: N/A
Mean Values: N/A
Standard Deviation Values: N/A
Object ID Field: objectid
Fields:
-
objectid
(
type: esriFieldTypeOID, alias: OBJECTID
)
-
name
(
type: esriFieldTypeString, alias: Name, length: 200
)
-
minps
(
type: esriFieldTypeDouble, alias: MinPS
)
-
maxps
(
type: esriFieldTypeDouble, alias: MaxPS
)
-
lowps
(
type: esriFieldTypeDouble, alias: LowPS
)
-
highps
(
type: esriFieldTypeDouble, alias: HighPS
)
-
category
(
type: esriFieldTypeInteger, alias: Category
, Coded Values:
[0: Unknown]
, [1: Primary]
, [2: Overview]
, ...6 more...
)
-
tag
(
type: esriFieldTypeString, alias: Tag, length: 100
)
-
groupname
(
type: esriFieldTypeString, alias: GroupName, length: 100
)
-
productname
(
type: esriFieldTypeString, alias: ProductName, length: 100
)
-
centerx
(
type: esriFieldTypeDouble, alias: CenterX
)
-
centery
(
type: esriFieldTypeDouble, alias: CenterY
)
-
zorder
(
type: esriFieldTypeInteger, alias: ZOrder
)
-
year
(
type: esriFieldTypeSmallInteger, alias: YEAR
)
-
title
(
type: esriFieldTypeString, alias: TITLE, length: 100
)
-
capturestart
(
type: esriFieldTypeDate, alias: CAPTURE_DATE_START, length: 8
)
-
captureend
(
type: esriFieldTypeDate, alias: CAPTURE_END_DATE, length: 8
)
-
metalink
(
type: esriFieldTypeString, alias: METADATA_LINK, length: 300
)
-
acq_driver
(
type: esriFieldTypeSmallInteger, alias: ACQUISITION_DRIVER
, Coded Values:
[1: Program]
, [2: Project]
, [3: Natural Disaster]
, ...3 more...
)
-
acq_driver_name
(
type: esriFieldTypeString, alias: ACQUISITION_DRIVER_NAME, length: 50
)
-
acq_platform
(
type: esriFieldTypeSmallInteger, alias: ACQ_PLATFORM
, Coded Values:
[2: Satellite]
, [3: Drone]
, [4: Terrestrial]
, ...3 more...
)
-
product_type
(
type: esriFieldTypeSmallInteger, alias: PRODUCT_TYPE
, Coded Values:
[1: Satellite RGB]
, [2: Satellite Multispectral]
, [3: Ortho Aerial Photo RGB]
, ...21 more...
)
-
is_qldbase
(
type: esriFieldTypeSmallInteger, alias: BASEMAP
, Coded Values:
[1: Basemap]
)
-
info_sec_clas
(
type: esriFieldTypeSmallInteger, alias: INFORMATION_SECURITY_CLASS
, Coded Values:
[1: Public]
, [2: Official]
, [3: Sensitive]
, ...1 more...
)
-
is_public
(
type: esriFieldTypeSmallInteger, alias: IS_PUBLIC
, Coded Values:
[1: Public]
)
-
is_latest
(
type: esriFieldTypeSmallInteger, alias: IS_LATEST
, Coded Values:
[1: Latest]
, [2: First]
, [3: Before]
)
-
is_latest_public
(
type: esriFieldTypeSmallInteger, alias: IS_LATEST_PUBLIC
, Coded Values:
[1: Latest public]
)
-
res_class
(
type: esriFieldTypeSmallInteger, alias: RESOLUTION_CLASS
, Coded Values:
[1: High resolution]
, [2: All other resolutions]
)
-
res_type
(
type: esriFieldTypeSmallInteger, alias: RESOLUTION_TYPE
, Coded Values:
[2: Point Density]
, [1: Ground Surface Distance]
, [3: Height]
, ...2 more...
)
-
res_value
(
type: esriFieldTypeDouble, alias: RESOLUTION_VALUE
)
-
res_unit
(
type: esriFieldTypeSmallInteger, alias: RES_UNIT
, Coded Values:
[1: mm]
, [2: cm]
, [3: m]
, ...1 more...
)
-
shape
(
type: esriFieldTypeGeometry, alias: Shape
)
-
st_area(shape)
(
type: esriFieldTypeDouble, alias: st_area(shape)
)
-
st_perimeter(shape)
(
type: esriFieldTypeDouble, alias: st_perimeter(shape)
)
Default Mosaic Method: ByAttribute
Allowed Mosaic Methods: ByAttribute,NorthWest,Center,LockRaster,Nadir,Viewpoint,Seamline,None
SortField: ZOrder
SortValue: 0
Mosaic Operator: First
Default Compression Quality: 80
Default Resampling Method: Bilinear
Max Record Count: 1000
Max Image Height: 2048
Max Image Width: 4096
Max Download Image Count: 20
Max Mosaic Image Count: 40
Allow Raster Function: true
Allow Copy: true
Allow Analysis: true
Allow Compute TiePoints: false
Supports Statistics: true
Supports Advanced Queries: true
Use StandardizedQueries: true
Raster Type Infos:
Name: Raster Dataset
Description: Supports all ArcGIS Raster Datasets
Help:
Has Raster Attribute Table: false
Edit Fields Info: null
Ownership Based AccessControl For Rasters: null
Child Resources:
Info
Statistics
Key Properties
Legend
Raster Function Infos
Supported Operations:
Export Image
Query
Identify
Measure
Compute Histograms
Compute Statistics Histograms
Get Samples
Compute Class Statistics
Query GPS Info
Find Images
Image to Map
Map to Image
Measure from Image
Image to Map Multiray
Query Boundary
Compute Pixel Location
Compute Angles
Validate
Project